BEGIN:VCALENDAR
VERSION:2.0
PRODID:-//FNL - Freunde Naturgemäßer Lebensweise - ECPv6.15.20//NONSGML v1.0//EN
CALSCALE:GREGORIAN
METHOD:PUBLISH
X-WR-CALNAME:FNL - Freunde Naturgemäßer Lebensweise
X-ORIGINAL-URL:https://fnl.at
X-WR-CALDESC:Veranstaltungen für FNL - Freunde Naturgemäßer Lebensweise
REFRESH-INTERVAL;VALUE=DURATION:PT1H
X-Robots-Tag:noindex
X-PUBLISHED-TTL:PT1H
BEGIN:VTIMEZONE
TZID:Europe/Berlin
BEGIN:DAYLIGHT
TZOFFSETFROM:+0100
TZOFFSETTO:+0200
TZNAME:CEST
DTSTART:20250330T010000
END:DAYLIGHT
BEGIN:STANDARD
TZOFFSETFROM:+0200
TZOFFSETTO:+0100
TZNAME:CET
DTSTART:20251026T010000
END:STANDARD
BEGIN:DAYLIGHT
TZOFFSETFROM:+0100
TZOFFSETTO:+0200
TZNAME:CEST
DTSTART:20260329T010000
END:DAYLIGHT
BEGIN:STANDARD
TZOFFSETFROM:+0200
TZOFFSETTO:+0100
TZNAME:CET
DTSTART:20261025T010000
END:STANDARD
BEGIN:DAYLIGHT
TZOFFSETFROM:+0100
TZOFFSETTO:+0200
TZNAME:CEST
DTSTART:20270328T010000
END:DAYLIGHT
BEGIN:STANDARD
TZOFFSETFROM:+0200
TZOFFSETTO:+0100
TZNAME:CET
DTSTART:20271031T010000
END:STANDARD
END:VTIMEZONE
BEGIN:VEVENT
DTSTART;TZID=Europe/Berlin:20261124T180000
DTEND;TZID=Europe/Berlin:20261124T193000
DTSTAMP:20260419T165537
CREATED:20260326T115343Z
LAST-MODIFIED:20260326T115352Z
UID:27534-1795543200-1795548600@fnl.at
SUMMARY:FNL Kräutertreff: Kräuterstammtisch Ernsthofen
DESCRIPTION:FNL Kräutertreff: Kräuterstammtisch Ernsthofen\nOb Kräuter-Profi oder neugieriger Neuling: Komm vorbei zum lebendigen Wissensaustausch!\nWir teilen Rezepte\, bewahren altes Wissen und füllen Traditionen mit neuem Leben. Ein Treffpunkt für alle\, die Kräuter lieben oder gerade erst für sich entdecken.\nIch freue mich darauf\, dieses wertvolle Erbe mit euch in die nächste Generation zu tragen. \nTermine:\nDienstag\, 24.11.2026 \nBeginn:\njeweils 18 Uhr \nOrt:\nAndrea’s Kräuterschloss\, Loderleiten 25\, 4432 Ernsthofen \nKosten:\n€ 15\,- für FNL Mitglieder / € 18\,- für alle anderen Interessierten \nBei Fragen kannst Du mich jederzeit gerne kontaktieren. \nInfos & Anmeldungen:\nAndrea Weixlbaum\, FNL Kräuterexpertin\nEmail: andrea@weixlbaum.at oder unter Tel. 0676-7602787\, www.kraeuterschloss.at \nteilen teilen teilen teilen teilen E-Mail 
URL:https://fnl.at/veranstaltung/fnl-kraeutertreff-kraeuterstammtisch-ernsthofen-13/
LOCATION:Andrea’s Kräuterschloss\, Loderleiten 25\, Ernsthofen\, Niederösterreich\, 4432\, Austria
CATEGORIES:Niederösterreich
ATTACH;FMTTYPE=image/jpeg:https://fnl.at/wp-content/uploads/2025/04/Kraeuter-19.jpg
ORGANIZER;CN="Andrea Weixlbaum":MAILTO:andrea@weixlbaum.at
END:VEVENT
END:VCALENDAR