BEGIN:VCALENDAR
VERSION:2.0
PRODID:-//FNL - Freunde Naturgemäßer Lebensweise - ECPv6.15.20//NONSGML v1.0//EN
CALSCALE:GREGORIAN
METHOD:PUBLISH
X-ORIGINAL-URL:https://fnl.at
X-WR-CALDESC:Veranstaltungen für FNL - Freunde Naturgemäßer Lebensweise
REFRESH-INTERVAL;VALUE=DURATION:PT1H
X-Robots-Tag:noindex
X-PUBLISHED-TTL:PT1H
BEGIN:VTIMEZONE
TZID:Europe/Berlin
BEGIN:DAYLIGHT
TZOFFSETFROM:+0100
TZOFFSETTO:+0200
TZNAME:CEST
DTSTART:20250330T010000
END:DAYLIGHT
BEGIN:STANDARD
TZOFFSETFROM:+0200
TZOFFSETTO:+0100
TZNAME:CET
DTSTART:20251026T010000
END:STANDARD
BEGIN:DAYLIGHT
TZOFFSETFROM:+0100
TZOFFSETTO:+0200
TZNAME:CEST
DTSTART:20260329T010000
END:DAYLIGHT
BEGIN:STANDARD
TZOFFSETFROM:+0200
TZOFFSETTO:+0100
TZNAME:CET
DTSTART:20261025T010000
END:STANDARD
BEGIN:DAYLIGHT
TZOFFSETFROM:+0100
TZOFFSETTO:+0200
TZNAME:CEST
DTSTART:20270328T010000
END:DAYLIGHT
BEGIN:STANDARD
TZOFFSETFROM:+0200
TZOFFSETTO:+0100
TZNAME:CET
DTSTART:20271031T010000
END:STANDARD
END:VTIMEZONE
BEGIN:VEVENT
DTSTART;TZID=Europe/Berlin:20261030T150000
DTEND;TZID=Europe/Berlin:20261030T173000
DTSTAMP:20260419T153538
CREATED:20240111T214426Z
LAST-MODIFIED:20260412T175611Z
UID:17227-1793372400-1793381400@fnl.at
SUMMARY:FNL Kräutertreff Workshop: Naturkosmetik
DESCRIPTION:FNL Kräutertreff – Naturkosmetik\nAus den über den Sommer gesammelten Kräuter und Elixiere machen wir uns eigene Cremen und Lippenbalsam. \nTermin:\nFreitag\, 30.10.2026 \nUhrzeit:\n15 – 17 :30Uhr \nOrt:\nThumeserhof\, Wildlahner 18\, 6154 Schmirn \nKosten:\n25\,- Euro / FNL Mitglieder € 20\,- zuzüglich Materialkosten 20\,- Euro \nAnmeldung und Infos:\nHany Plattner Dvorak\, Referentin der FNL Kräuterakademie & FNL Ortsleitung\nEmail:  kraeuterreich@wildlahner.at\nTel. 0680 326 36 60 \nteilen teilen teilen teilen teilen E-Mail 
URL:https://fnl.at/veranstaltung/naturkosmetik/
LOCATION:Thumeserhof\, Schmirn\, Wildlahner 18\, Schmirn\, Tirol\, 6154\, Austria
CATEGORIES:Tirol
ATTACH;FMTTYPE=image/jpeg:https://fnl.at/wp-content/uploads/2025/04/Salbe-2.jpg
ORGANIZER;CN="Hany Plattner Dvorak":MAILTO:kraeuterreich@wildlahner.at
END:VEVENT
BEGIN:VEVENT
DTSTART;TZID=Europe/Berlin:20261030T190000
DTEND;TZID=Europe/Berlin:20261030T203000
DTSTAMP:20260419T153538
CREATED:20260304T154723Z
LAST-MODIFIED:20260304T154723Z
UID:27019-1793386800-1793392200@fnl.at
SUMMARY:FNL Kräutertreff Workshop: Natürliche Reinigungsmittel selber herstellen
DESCRIPTION:FNL Kräutertreff Workshop: Natürliche Reinigungsmittel selber herstellen\nmit Mag. Michaela Bittner \nDer Kräutertreff findet in Kooperation mit der gesunden Gemeinde jeden letzten Freitag im Monat von Feber bis Juli und von September bis November statt. Änderungen vorbehalten! \nTermin:\nFreitag\, 30. Oktober 2026 \nBeginn:\n19 Uhr \nOrt:\nStöttinger-Hof\nStatzinger Straße 9\, 4225 Luftenberg \nKosten:\n€ 10\,- Pro Person exkl. Materialkosten/Honorarkosten für externe Vortragende.\nEndgültiger Kostenbeitrag wird vorher bekanntgegeben. \nInformationen & Anmeldung:\nRegina Hanl\, FNL Kräuterexpertin & FNL Ortsleitung\nTel.: 0680/217 55 04 Email: franzhanl@gmx.at\nAnmeldung per Telefon\, WhatsApp\, SMS\, email \nteilen teilen teilen teilen teilen E-Mail 
URL:https://fnl.at/veranstaltung/fnl-kraeutertreff-workshop-natuerliche-reinigungsmittel-selber-herstellen/
LOCATION:Stöttinger Hof\, Luftenberg\, Statzinger Straße 9\, Luftenberg\, Oberösterreich\, 4225
CATEGORIES:Oberösterreich
ATTACH;FMTTYPE=image/jpeg:https://fnl.at/wp-content/uploads/2025/09/Putzmittel-Reiniger.jpg
ORGANIZER;CN="Regina Hanl":MAILTO:franzhanl@gmx.at
END:VEVENT
END:VCALENDAR