BEGIN:VCALENDAR
VERSION:2.0
PRODID:-//FNL - Freunde Naturgemäßer Lebensweise - ECPv6.15.20//NONSGML v1.0//EN
CALSCALE:GREGORIAN
METHOD:PUBLISH
X-ORIGINAL-URL:https://fnl.at
X-WR-CALDESC:Veranstaltungen für FNL - Freunde Naturgemäßer Lebensweise
REFRESH-INTERVAL;VALUE=DURATION:PT1H
X-Robots-Tag:noindex
X-PUBLISHED-TTL:PT1H
BEGIN:VTIMEZONE
TZID:Europe/Berlin
BEGIN:DAYLIGHT
TZOFFSETFROM:+0100
TZOFFSETTO:+0200
TZNAME:CEST
DTSTART:20250330T010000
END:DAYLIGHT
BEGIN:STANDARD
TZOFFSETFROM:+0200
TZOFFSETTO:+0100
TZNAME:CET
DTSTART:20251026T010000
END:STANDARD
BEGIN:DAYLIGHT
TZOFFSETFROM:+0100
TZOFFSETTO:+0200
TZNAME:CEST
DTSTART:20260329T010000
END:DAYLIGHT
BEGIN:STANDARD
TZOFFSETFROM:+0200
TZOFFSETTO:+0100
TZNAME:CET
DTSTART:20261025T010000
END:STANDARD
BEGIN:DAYLIGHT
TZOFFSETFROM:+0100
TZOFFSETTO:+0200
TZNAME:CEST
DTSTART:20270328T010000
END:DAYLIGHT
BEGIN:STANDARD
TZOFFSETFROM:+0200
TZOFFSETTO:+0100
TZNAME:CET
DTSTART:20271031T010000
END:STANDARD
END:VTIMEZONE
BEGIN:VEVENT
DTSTART;TZID=Europe/Berlin:20261021T190000
DTEND;TZID=Europe/Berlin:20261021T210000
DTSTAMP:20260419T153505
CREATED:20260106T141455Z
LAST-MODIFIED:20260106T141455Z
UID:25095-1792609200-1792616400@fnl.at
SUMMARY:FNL Kräutertreff: Stammtisch Stubaital und Wipptal
DESCRIPTION:FNL Kräutertreff: Stammtisch Stubaital und Wipptal\nDer Stammtisch soll ein regelmäßiges Treffen jeden 2. Monat für Leute sein\, die sich für Natur und Pflanzen der Umgebung interessieren. Gleichgesinnte können hier ihr Wissen weitergeben und Erfahrungen austauschen. \nTermine:\n21. Oktober 2026 – Mieders / Stubaital\n02. Dezember 2026 – Thumeserhof/Wipptal \nUhrzeit:\n19 – 21 Uhr \nOrt\nSubaital: Margret Lener\, Obere Gasse 11 \, 6142 Mieders\nWipptal: Thumeserhof\, Wildlahner 18\, 6154 Schmirn \nAnmeldung und Infos:\nHany Plattner Dvorak\, FNL Kräuterexpertin & FNL Ortsleitung\nEmail:  kraeuterreich@wildlahner.at; Tel. 0680 326 36 60\nMargret Lener\, FNL Kräuterexpertin & FNL Ortsleitung\nTel. 06660 129 47 37\, Email: margret.lener@icloud.com \nteilen teilen teilen teilen teilen E-Mail 
URL:https://fnl.at/veranstaltung/fnl-kraeutertreff-stammtisch-stubaital-und-wipptal-6/
LOCATION:Lener Margret\, Obere Gasse 11\, Mieders\, Tirol\, 6142\, Austria
CATEGORIES:Tirol
ATTACH;FMTTYPE=image/jpeg:https://fnl.at/wp-content/uploads/2024/12/Herbst.jpg
ORGANIZER;CN="Margret Lener":MAILTO:margret.lener@icloud.com
END:VEVENT
END:VCALENDAR