BEGIN:VCALENDAR
VERSION:2.0
PRODID:-//FNL - Freunde Naturgemäßer Lebensweise - ECPv6.15.20//NONSGML v1.0//EN
CALSCALE:GREGORIAN
METHOD:PUBLISH
X-WR-CALNAME:FNL - Freunde Naturgemäßer Lebensweise
X-ORIGINAL-URL:https://fnl.at
X-WR-CALDESC:Veranstaltungen für FNL - Freunde Naturgemäßer Lebensweise
REFRESH-INTERVAL;VALUE=DURATION:PT1H
X-Robots-Tag:noindex
X-PUBLISHED-TTL:PT1H
BEGIN:VTIMEZONE
TZID:Europe/Berlin
BEGIN:DAYLIGHT
TZOFFSETFROM:+0100
TZOFFSETTO:+0200
TZNAME:CEST
DTSTART:20250330T010000
END:DAYLIGHT
BEGIN:STANDARD
TZOFFSETFROM:+0200
TZOFFSETTO:+0100
TZNAME:CET
DTSTART:20251026T010000
END:STANDARD
BEGIN:DAYLIGHT
TZOFFSETFROM:+0100
TZOFFSETTO:+0200
TZNAME:CEST
DTSTART:20260329T010000
END:DAYLIGHT
BEGIN:STANDARD
TZOFFSETFROM:+0200
TZOFFSETTO:+0100
TZNAME:CET
DTSTART:20261025T010000
END:STANDARD
BEGIN:DAYLIGHT
TZOFFSETFROM:+0100
TZOFFSETTO:+0200
TZNAME:CEST
DTSTART:20270328T010000
END:DAYLIGHT
BEGIN:STANDARD
TZOFFSETFROM:+0200
TZOFFSETTO:+0100
TZNAME:CET
DTSTART:20271031T010000
END:STANDARD
END:VTIMEZONE
BEGIN:VEVENT
DTSTART;TZID=Europe/Berlin:20261020T180000
DTEND;TZID=Europe/Berlin:20261020T193000
DTSTAMP:20260423T132435
CREATED:20260326T115109Z
LAST-MODIFIED:20260326T115225Z
UID:27531-1792519200-1792524600@fnl.at
SUMMARY:FNL Kräutertreff: Kräuterstammtisch Ernsthofen
DESCRIPTION:FNL Kräutertreff: Kräuterstammtisch Ernsthofen\nOb Kräuter-Profi oder neugieriger Neuling: Komm vorbei zum lebendigen Wissensaustausch!\nWir teilen Rezepte\, bewahren altes Wissen und füllen Traditionen mit neuem Leben. Ein Treffpunkt für alle\, die Kräuter lieben oder gerade erst für sich entdecken.\nIch freue mich darauf\, dieses wertvolle Erbe mit euch in die nächste Generation zu tragen. \nTermine:\nDienstag\, 20.10.2026\nDienstag\, 24.11.2026 \nBeginn:\njeweils 18 Uhr \nOrt:\nAndrea’s Kräuterschloss\, Loderleiten 25\, 4432 Ernsthofen \nKosten:\n€ 15\,- für FNL Mitglieder / € 18\,- für alle anderen Interessierten \nBei Fragen kannst Du mich jederzeit gerne kontaktieren. \nInfos & Anmeldungen:\nAndrea Weixlbaum\, FNL Kräuterexpertin\nEmail: andrea@weixlbaum.at oder unter Tel. 0676-7602787\, www.kraeuterschloss.at \nteilen teilen teilen teilen teilen E-Mail 
URL:https://fnl.at/veranstaltung/fnl-kraeutertreff-kraeuterstammtisch-ernsthofen-12/
LOCATION:Andrea’s Kräuterschloss\, Loderleiten 25\, Ernsthofen\, Niederösterreich\, 4432\, Austria
CATEGORIES:Niederösterreich
ATTACH;FMTTYPE=image/jpeg:https://fnl.at/wp-content/uploads/2025/08/Herbst-Kranz.jpg
ORGANIZER;CN="Andrea Weixlbaum":MAILTO:andrea@weixlbaum.at
END:VEVENT
BEGIN:VEVENT
DTSTART;TZID=Europe/Berlin:20261020T190000
DTEND;TZID=Europe/Berlin:20261020T203000
DTSTAMP:20260423T132435
CREATED:20260317T120157Z
LAST-MODIFIED:20260317T120157Z
UID:27347-1792522800-1792528200@fnl.at
SUMMARY:FNL Kräutertreff VORTRAG: Wissenswertes zur Schilddrüse
DESCRIPTION:FNL Kräutertreff VORTRAG: Wissenswertes zur Schilddrüse\nmit Gudrun Laimer \nTermin:\nDienstag\, 20. Oktober 2026 \nBeginn:\n19 Uhr \nOrt:\nGärtnerei Schützenhofer\, Linzerstr. 32\, 4532 Rohr \nKosten: \nfreiwilliger Energieausgleich \n\nkeine Anmeldung erforderlich! \n\nInformationen:\nBernadette Schützenhofer\, FNL Landesleitung & Kräutergarten\nTel. +43 (0) 7258 2124; E-Mail: schuetzi.garten@aon.at \n\n\n\n\n\n Zum Kalender hinzufügen\n\n\n\nteilen teilen teilen teilen teilen E-Mail 
URL:https://fnl.at/veranstaltung/fnl-kraeutertreff-vortrag-wissenswertes-zur-schilddruese/
LOCATION:Kräutergarten Schützenhofer\, Linzerstraße 32\, Rohr im Kremstal\, Oberösterreich\, 4532\, Österreich
CATEGORIES:Oberösterreich
ATTACH;FMTTYPE=image/png:https://fnl.at/wp-content/uploads/2026/03/Wolfstrapp-Schilddruese.png
ORGANIZER;CN="Bernadette Sch%C3%BCtzenhofer":MAILTO:schuetzi.garten@aon.at
END:VEVENT
END:VCALENDAR