BEGIN:VCALENDAR
VERSION:2.0
PRODID:-//FNL - Freunde Naturgemäßer Lebensweise - ECPv6.15.20//NONSGML v1.0//EN
CALSCALE:GREGORIAN
METHOD:PUBLISH
X-ORIGINAL-URL:https://fnl.at
X-WR-CALDESC:Veranstaltungen für FNL - Freunde Naturgemäßer Lebensweise
REFRESH-INTERVAL;VALUE=DURATION:PT1H
X-Robots-Tag:noindex
X-PUBLISHED-TTL:PT1H
BEGIN:VTIMEZONE
TZID:Europe/Berlin
BEGIN:DAYLIGHT
TZOFFSETFROM:+0100
TZOFFSETTO:+0200
TZNAME:CEST
DTSTART:20250330T010000
END:DAYLIGHT
BEGIN:STANDARD
TZOFFSETFROM:+0200
TZOFFSETTO:+0100
TZNAME:CET
DTSTART:20251026T010000
END:STANDARD
BEGIN:DAYLIGHT
TZOFFSETFROM:+0100
TZOFFSETTO:+0200
TZNAME:CEST
DTSTART:20260329T010000
END:DAYLIGHT
BEGIN:STANDARD
TZOFFSETFROM:+0200
TZOFFSETTO:+0100
TZNAME:CET
DTSTART:20261025T010000
END:STANDARD
BEGIN:DAYLIGHT
TZOFFSETFROM:+0100
TZOFFSETTO:+0200
TZNAME:CEST
DTSTART:20270328T010000
END:DAYLIGHT
BEGIN:STANDARD
TZOFFSETFROM:+0200
TZOFFSETTO:+0100
TZNAME:CET
DTSTART:20271031T010000
END:STANDARD
END:VTIMEZONE
BEGIN:VEVENT
DTSTART;TZID=Europe/Berlin:20261016T140000
DTEND;TZID=Europe/Berlin:20261016T160000
DTSTAMP:20260419T153621
CREATED:20260205T110012Z
LAST-MODIFIED:20260205T113406Z
UID:26388-1792159200-1792166400@fnl.at
SUMMARY:FNL-Kräutertreff: Kräuterspaziergang in Bärnkopf „Heidelbeer-Moorpflanzen & Co“
DESCRIPTION:FNL-Kräutertreff: Kräuterspaziergang in Bärnkopf „Heidelbeer-Moorpflanzen & Co“\nmit Stefan & Anita \nTauch ein in die faszinierende Welt der Heidelbeeren und Moorpflanzen bei unserem Kräuterspaziergang rund um den idyllischen Schlesingerteich in Bärnkopf. Gemeinsam entdecken wir die verborgenen Schätze der Moorlandschaft und du erfährst alles über ihre Besonderheiten und Heilkräfte. \nTermin:\nFreitag\, 16.10.2026 \nTreffpunkt:\n14 Uhr Parkplatz Schlesingerteich\, 3665 Bärnkopf \nDauer:\nca. 2 Stunden \nKosten:\nFNL Mitglieder 16\,- / Alle anderen Interessierten 18\,- \nAnmeldung: \nunbedingt erforderlich –  Mindestteilnehmer sind 6 Personen – Bei Regen/Sturm\, findet der Kräutertreff nicht statt! \nINFOS & ANMELDUNG:\nStefan Schindler\, FNL-Bezirksleitung\, Tel. 0676/477 86 40\nAnita Landstetter\, FNL-Bezirksleitung Stellv.\, Tel. 0680/208 07 90 \nteilen teilen teilen teilen teilen E-Mail 
URL:https://fnl.at/veranstaltung/fnl-kraeutertreff-kraeuterspaziergang-an-der-donau-schwarznuss-schwarzpappel-co/
LOCATION:Schlesingerteich\, 3665 Bärnkopf\, Bärnkopf\, Niederösterreich\, 3665\, Austria
CATEGORIES:Niederösterreich
ATTACH;FMTTYPE=image/jpeg:https://fnl.at/wp-content/uploads/2026/02/heidelbeere.jpg
ORGANIZER;CN="Schindler Stefan":MAILTO:sost@1000kraut.at
END:VEVENT
BEGIN:VEVENT
DTSTART;TZID=Europe/Berlin:20261016T150000
DTEND;TZID=Europe/Berlin:20261016T170000
DTSTAMP:20260419T153621
CREATED:20260309T121023Z
LAST-MODIFIED:20260309T121023Z
UID:27200-1792162800-1792170000@fnl.at
SUMMARY:FNL Kräutertreff: Räucher-Kerzen aus Kräutern herstellen
DESCRIPTION:FNL Kräutertreff: Räucher-Kerzen aus Kräutern herstellen\nVortragende: Silvia Gsell\n\nIn diesem Workshop werden wir unterschiedliche Kräuter besprechen und als eigene Räucherkerze verarbeiten.\n\nTermin:\nFreitag\, 16.10.2026\n\nDauer:\n15-17 Uhr\n\nOrt:\nKräutergarten Stüble Lustenau\n\nKosten:\nFNL-Mitglieder 10\,- / Alle anderen Interessierten € 15\,-\n\nInformationen & Anmeldung:\nMargrit Hofer\, FNL Ortsleitung\, Tel. 0650 232 86 78 oder\nSilvia Gsell\, Tel. 0699 1313 7552\nteilen teilen teilen teilen teilen E-Mail 
URL:https://fnl.at/veranstaltung/fnl-kraeutertreff-raeucher-kerzen-aus-kraeutern-herstellen/
LOCATION:FNL Kräutergarten Lustenau\, Schützengartenstraße 8\, Lustenau\, Vorarlberg\, 6890\, Österreich
CATEGORIES:Vorarlberg
ATTACH;FMTTYPE=image/jpeg:https://fnl.at/wp-content/uploads/2025/04/Raeuchern.jpg
ORGANIZER;CN="Margrit Hofer":MAILTO:hofer.margrit@outlook.com
END:VEVENT
END:VCALENDAR