BEGIN:VCALENDAR
VERSION:2.0
PRODID:-//FNL - Freunde Naturgemäßer Lebensweise - ECPv6.15.20//NONSGML v1.0//EN
CALSCALE:GREGORIAN
METHOD:PUBLISH
X-WR-CALNAME:FNL - Freunde Naturgemäßer Lebensweise
X-ORIGINAL-URL:https://fnl.at
X-WR-CALDESC:Veranstaltungen für FNL - Freunde Naturgemäßer Lebensweise
REFRESH-INTERVAL;VALUE=DURATION:PT1H
X-Robots-Tag:noindex
X-PUBLISHED-TTL:PT1H
BEGIN:VTIMEZONE
TZID:Europe/Berlin
BEGIN:DAYLIGHT
TZOFFSETFROM:+0100
TZOFFSETTO:+0200
TZNAME:CEST
DTSTART:20250330T010000
END:DAYLIGHT
BEGIN:STANDARD
TZOFFSETFROM:+0200
TZOFFSETTO:+0100
TZNAME:CET
DTSTART:20251026T010000
END:STANDARD
BEGIN:DAYLIGHT
TZOFFSETFROM:+0100
TZOFFSETTO:+0200
TZNAME:CEST
DTSTART:20260329T010000
END:DAYLIGHT
BEGIN:STANDARD
TZOFFSETFROM:+0200
TZOFFSETTO:+0100
TZNAME:CET
DTSTART:20261025T010000
END:STANDARD
BEGIN:DAYLIGHT
TZOFFSETFROM:+0100
TZOFFSETTO:+0200
TZNAME:CEST
DTSTART:20270328T010000
END:DAYLIGHT
BEGIN:STANDARD
TZOFFSETFROM:+0200
TZOFFSETTO:+0100
TZNAME:CET
DTSTART:20271031T010000
END:STANDARD
END:VTIMEZONE
BEGIN:VEVENT
DTSTART;TZID=Europe/Berlin:20261008T190000
DTEND;TZID=Europe/Berlin:20261008T200000
DTSTAMP:20260419T153226
CREATED:20260223T210114Z
LAST-MODIFIED:20260223T210114Z
UID:26675-1791486000-1791489600@fnl.at
SUMMARY:FNL Kräutertreff online: Meine natürliche Hausapotheke
DESCRIPTION:FNL Kräutertreff online: Meine natürliche Hausapotheke\nmit Sabine Strassmair\, FNL Kräuterexperten \nEntdecke die Kraft der Heilkräuter in diesem einstündigen Webinar zum Thema „natürliche Hausapotheke“! Lerne\, wie Du mit einfachen Kräutern und Hausmitteln deine Gesundheit auf natürliche Weise unterstützen kannst. Neben einigen Grundlagen aus der Kräuterheilkunde stelle ich dir einige der wichtigsten Heilkräuter vor und zeigt dir praktische Anwendungen und Zubereitungsmethoden für deine eigene Hausapotheke. Erfahre\, wie Du Tees\, Tinkturen und Salben selbst herstellen und anwenden kannst. \nTermin:\nDonnerstag\, 8. Oktober 2026 \nBeginn:\n19:00 Uhr\nDauer: ca. 1 Stunde \nPreis:\n€ 25\,- pro Person (FNL Mitglieder: € 20\,-) \nTechnische Anforderungen: Zoom \nIm Anschluss an den Vortrag erhältst du ein Skript sowie die Video-Aufzeichnung\, die dir für weitere 2 Monate zur Verfügung steht. \nAnmeldungen & Information:\nSabine Strassmair\, FNL Ortsleitung\, Email: sabinestrassmair@gmail.com \nteilen teilen teilen teilen teilen E-Mail 
URL:https://fnl.at/veranstaltung/fnl-kraeutertreff-online-meine-natuerliche-hausapotheke/
LOCATION:Online Zoom Link laut Anmeldung
CATEGORIES:01 ONLINE
ATTACH;FMTTYPE=image/jpeg:https://fnl.at/wp-content/uploads/2025/04/Kraeuter-3.jpg
ORGANIZER;CN="Sabine Strassmair":MAILTO:sabinestrassmair@gmail.com
END:VEVENT
BEGIN:VEVENT
DTSTART;TZID=Europe/Berlin:20261008T190000
DTEND;TZID=Europe/Berlin:20261008T203000
DTSTAMP:20260419T153226
CREATED:20260205T115030Z
LAST-MODIFIED:20260205T115030Z
UID:26407-1791486000-1791491400@fnl.at
SUMMARY:FNL Kräutertreff: Du bist was du isst – Pflanzennahrung als Medizin
DESCRIPTION:FNL Kräutertreff: Du bist was du isst – Pflanzennahrung als Medizin\nmit Anna und Silvia \nTermine:\nDO\, 08.10.2026 \nBeginn:\n19:00 Uhr \nOrt:\nGasthaus Haberl\, 3392 Ursprung 13 \nKosten:\n€ 10\,00 für FNL Mitglieder\n€ 12\,00 für alle anderen Interessierten \nInformationen:\nJenny\, Edith\, Sonja\, Veronika\, Anna und Silvia\nOrtsgruppe Zum Ursprung der Kräuter \nweitere Termine in Ursprung:\nDO\, 05.11.26 Kräutertreff mit Edith\nDO\, 03.12.26 Weihnachtsfeier – Jahresrückblick \nteilen teilen teilen teilen teilen E-Mail 
URL:https://fnl.at/veranstaltung/fnl-kraeutertreff-du-bist-was-du-isst-pflanzennahrung-als-medizin/
LOCATION:Gasthaus Haberl\, Ursprung 13\, Dunkelsteinerwald\, Niederösterreich\, 3392\, Austria
CATEGORIES:Niederösterreich
ATTACH;FMTTYPE=image/jpeg:https://fnl.at/wp-content/uploads/2025/04/Kueche.jpg
END:VEVENT
END:VCALENDAR