BEGIN:VCALENDAR
VERSION:2.0
PRODID:-//FNL - Freunde Naturgemäßer Lebensweise - ECPv6.15.20//NONSGML v1.0//EN
CALSCALE:GREGORIAN
METHOD:PUBLISH
X-ORIGINAL-URL:https://fnl.at
X-WR-CALDESC:Veranstaltungen für FNL - Freunde Naturgemäßer Lebensweise
REFRESH-INTERVAL;VALUE=DURATION:PT1H
X-Robots-Tag:noindex
X-PUBLISHED-TTL:PT1H
BEGIN:VTIMEZONE
TZID:Europe/Berlin
BEGIN:DAYLIGHT
TZOFFSETFROM:+0100
TZOFFSETTO:+0200
TZNAME:CEST
DTSTART:20250330T010000
END:DAYLIGHT
BEGIN:STANDARD
TZOFFSETFROM:+0200
TZOFFSETTO:+0100
TZNAME:CET
DTSTART:20251026T010000
END:STANDARD
BEGIN:DAYLIGHT
TZOFFSETFROM:+0100
TZOFFSETTO:+0200
TZNAME:CEST
DTSTART:20260329T010000
END:DAYLIGHT
BEGIN:STANDARD
TZOFFSETFROM:+0200
TZOFFSETTO:+0100
TZNAME:CET
DTSTART:20261025T010000
END:STANDARD
BEGIN:DAYLIGHT
TZOFFSETFROM:+0100
TZOFFSETTO:+0200
TZNAME:CEST
DTSTART:20270328T010000
END:DAYLIGHT
BEGIN:STANDARD
TZOFFSETFROM:+0200
TZOFFSETTO:+0100
TZNAME:CET
DTSTART:20271031T010000
END:STANDARD
END:VTIMEZONE
BEGIN:VEVENT
DTSTART;TZID=Europe/Berlin:20260928T190000
DTEND;TZID=Europe/Berlin:20260928T203000
DTSTAMP:20260421T142534
CREATED:20260126T082615Z
LAST-MODIFIED:20260126T082615Z
UID:25892-1790622000-1790627400@fnl.at
SUMMARY:FNL Kräutertreff Webinar: VON DER KUNST DES LANGEN KÖCHELNS
DESCRIPTION:FNL Kräutertreff Webinar: VON DER KUNST DES LANGEN KÖCHELNS\nmit Renato Strassmann\, Vorreiter\, Bewahrer und Experte der “Traditionellen Volksheilkunst Europas” www.renato-strassmann.info \nSei es im Zubereiten von Lebensmittel oder bei der Herstellung von Salben\, Ölauszügen\, Lat-werge\, Theriak und anderen Mitteln\, ist das lange\, langsame »KÖCHELN« eine grossartige Kunst.\nWie geht das? Was passiert dabei? Welche Möglichkeiten haben wir heute?\nDas langsame »KÖCHELN« ist Meditation\, Kontemplation und Alchemie in Einem. \nTermin:\nMontag\, 28.09.2026 \nBeginn:\n19 – ca. 20:30 Uhr \nOrt:\nONLINE via Zoom \nKosten:\nFNL Mitglieder € 22\,- / Interessierte € 33\,- \nOrganisatorische Abwicklung:\nzwei Schritte sind für die Teilnahme wichtig!!!!\n1. Email oder telef. Anmeldung bis 23. Sept. 2026 bei Heike Außerwinkler\, der Link zum Webinar wird verschickt\, wenn wir deine Email-Adresse haben und die Seminargebühren am Konto von Heike eingelangt sind. Tel: 0650 9517091\, h.auwi@gmx.at \n2. Einzahlung der € 22\,– (für FNL Mitglieder) o \nder € 33\,– auf das Konto von Heike Außerwinkler: AT72 3944 2000 0506 2807\, BIC: RZKTAT2K442  – Einzahlungen aus der Schweiz bitte mit “Spesen zu Lasten des EINZAHLERS” vornehmen\, Danke \n3. Empfehlung: Zoomprogramm vorher aktivieren bzw. eine ½ Std. vor Webinarbeginn einsteigen\, wenn man das erste Mal an einem Webinar teilnimmt. \nInformationen & Anmeldung:\nHeike Außerwinkler\, FNL Ortsleitung Stellv.\, Tel: 0650 9517091\, h.auwi@gmx.at \nteilen teilen teilen teilen teilen E-Mail 
URL:https://fnl.at/veranstaltung/fnl-kraeutertreff-webinar-von-der-kunst-des-langen-koechelns/
LOCATION:Online Zoom Link laut Anmeldung
CATEGORIES:01 ONLINE
ATTACH;FMTTYPE=image/jpeg:https://fnl.at/wp-content/uploads/2026/01/Kochen-Topf-Feuer.jpg
ORGANIZER;CN="Au%C3%9Ferwinkler Heike":MAILTO:h.auwi@gmx.at
END:VEVENT
END:VCALENDAR