BEGIN:VCALENDAR
VERSION:2.0
PRODID:-//FNL - Freunde Naturgemäßer Lebensweise - ECPv6.15.20//NONSGML v1.0//EN
CALSCALE:GREGORIAN
METHOD:PUBLISH
X-ORIGINAL-URL:https://fnl.at
X-WR-CALDESC:Veranstaltungen für FNL - Freunde Naturgemäßer Lebensweise
REFRESH-INTERVAL;VALUE=DURATION:PT1H
X-Robots-Tag:noindex
X-PUBLISHED-TTL:PT1H
BEGIN:VTIMEZONE
TZID:Europe/Berlin
BEGIN:DAYLIGHT
TZOFFSETFROM:+0100
TZOFFSETTO:+0200
TZNAME:CEST
DTSTART:20250330T010000
END:DAYLIGHT
BEGIN:STANDARD
TZOFFSETFROM:+0200
TZOFFSETTO:+0100
TZNAME:CET
DTSTART:20251026T010000
END:STANDARD
BEGIN:DAYLIGHT
TZOFFSETFROM:+0100
TZOFFSETTO:+0200
TZNAME:CEST
DTSTART:20260329T010000
END:DAYLIGHT
BEGIN:STANDARD
TZOFFSETFROM:+0200
TZOFFSETTO:+0100
TZNAME:CET
DTSTART:20261025T010000
END:STANDARD
BEGIN:DAYLIGHT
TZOFFSETFROM:+0100
TZOFFSETTO:+0200
TZNAME:CEST
DTSTART:20270328T010000
END:DAYLIGHT
BEGIN:STANDARD
TZOFFSETFROM:+0200
TZOFFSETTO:+0100
TZNAME:CET
DTSTART:20271031T010000
END:STANDARD
END:VTIMEZONE
BEGIN:VEVENT
DTSTART;TZID=Europe/Berlin:20260914T170000
DTEND;TZID=Europe/Berlin:20260914T203000
DTSTAMP:20260419T141754
CREATED:20260305T124845Z
LAST-MODIFIED:20260305T124845Z
UID:27067-1789405200-1789417800@fnl.at
SUMMARY:FNL Kräutertreff: Kräuterspaziergang & Vortrag in St. Marien
DESCRIPTION:FNL Kräutertreff: Kräuterspaziergang & Vortrag in St. Marien\nDetails zum Programm folgen noch! \nTermin:\nMontag\, 14.09.2026 \nBeginn:\n17 Uhr Kräuterspaziergang\n19 Uhr Kräutertreff \nOrt:\n4502 St. Marien \nInformationen & Anmeldung:\nHeidi Ruf\, FNL Ortleitung\n4502 St. Marien\nTel. 0699 81423552\nEmail: adelheid.ruf@gmx.net \nteilen teilen teilen teilen teilen E-Mail 
URL:https://fnl.at/veranstaltung/fnl-kraeutertreff-kraeuterspaziergang-vortrag-in-st-marien-6/
LOCATION:St. Marien\, St. Marien\, Oberösterreich\, 4502\, Österreich
CATEGORIES:Oberösterreich
ATTACH;FMTTYPE=image/jpeg:https://fnl.at/wp-content/uploads/2026/02/Baldrian.jpg
ORGANIZER;CN="Heidi Ruf":MAILTO:adelheid.ruf@gmx.net
END:VEVENT
END:VCALENDAR