BEGIN:VCALENDAR
VERSION:2.0
PRODID:-//FNL - Freunde Naturgemäßer Lebensweise - ECPv6.15.20//NONSGML v1.0//EN
CALSCALE:GREGORIAN
METHOD:PUBLISH
X-ORIGINAL-URL:https://fnl.at
X-WR-CALDESC:Veranstaltungen für FNL - Freunde Naturgemäßer Lebensweise
REFRESH-INTERVAL;VALUE=DURATION:PT1H
X-Robots-Tag:noindex
X-PUBLISHED-TTL:PT1H
BEGIN:VTIMEZONE
TZID:Europe/Berlin
BEGIN:DAYLIGHT
TZOFFSETFROM:+0100
TZOFFSETTO:+0200
TZNAME:CEST
DTSTART:20250330T010000
END:DAYLIGHT
BEGIN:STANDARD
TZOFFSETFROM:+0200
TZOFFSETTO:+0100
TZNAME:CET
DTSTART:20251026T010000
END:STANDARD
BEGIN:DAYLIGHT
TZOFFSETFROM:+0100
TZOFFSETTO:+0200
TZNAME:CEST
DTSTART:20260329T010000
END:DAYLIGHT
BEGIN:STANDARD
TZOFFSETFROM:+0200
TZOFFSETTO:+0100
TZNAME:CET
DTSTART:20261025T010000
END:STANDARD
BEGIN:DAYLIGHT
TZOFFSETFROM:+0100
TZOFFSETTO:+0200
TZNAME:CEST
DTSTART:20270328T010000
END:DAYLIGHT
BEGIN:STANDARD
TZOFFSETFROM:+0200
TZOFFSETTO:+0100
TZNAME:CET
DTSTART:20271031T010000
END:STANDARD
END:VTIMEZONE
BEGIN:VEVENT
DTSTART;TZID=Europe/Berlin:20260805T090000
DTEND;TZID=Europe/Berlin:20260826T110000
DTSTAMP:20260421T102956
CREATED:20260325T101206Z
LAST-MODIFIED:20260325T101216Z
UID:27485-1785920400-1787742000@fnl.at
SUMMARY:FNL Kräutertreff: Kräuter-Workshops Eppan
DESCRIPTION:FNL Kräutertreff: Kräuter-Workshops Eppan\nmit Marion Lafogler \nTermine:\nab April bis Ende August\nJeden Mittwoch von 9-11 Uhr \nDauer: \njeweils 9 – ca. 11 Uhr \nTreffpunkt:\nTourismusverein Eppan\, 39057 Eppan an der Weinstraße \nInfos und Anmeldung:\nMarion Lafogler\, FNL Kräuterexpertin\, Tel. 34 953 38 943 \nteilen teilen teilen teilen teilen E-Mail 
URL:https://fnl.at/veranstaltung/27485/
LOCATION:Eppan\, Eppan an der Weinstraße\, Südtirol\, 39057\, Italy
CATEGORIES:Italien
ATTACH;FMTTYPE=image/jpeg:https://fnl.at/wp-content/uploads/2026/03/Tinkturen-Kraeuter-ansetzen.jpg
END:VEVENT
BEGIN:VEVENT
DTSTART;TZID=Europe/Berlin:20260806T090000
DTEND;TZID=Europe/Berlin:20260806T110000
DTSTAMP:20260421T102956
CREATED:20260130T094331Z
LAST-MODIFIED:20260130T094356Z
UID:26197-1786006800-1786014000@fnl.at
SUMMARY:FNL Kräutertreff: Kräuter-Rundgang Murau
DESCRIPTION:FNL Kräutertreff: Kräuter-Rundgänge Murau 2026\nKräuter entdecken\, bestimmen und besprechen …\nVortragende: Gertrude Kralik\, FNL Kräuterexpertin \nGemeinsam werden wir die Pflanzenwelt erforschen und die Wildpflanzen in Bezug auf kulinarischen & gesundheitlichen Gebrauch besprechen.\nStaunt wie viel Heilsames sich in unserer Natur verbirgt! \nTermine:\nDonnerstag\, 06. August 2026\nDonnerstag\, 17. September 2026 \nDauer:\n9-11 Uhr \nTreffpunkt:\nRömersiedlung 301\n8850 Murau \nKosten:\nFNL-Mitglieder € 10.-\, alle anderen Interessierten € 12.- \nBei Schlechtwetter findet das Kräuterkennenlernen in meinem Garten in der Römersiedlung statt. Ab 5 Personen mache ich gerne eine Kräuterwanderung nach Vereinbarung. Bitte um Anmeldung. \nANMELDUNG & INFORMATIONEN\nGertrude Kralik . FNL Kräuterexpertin und FNL Stützpunktleitung\nTel. 0677 / 613 116 56\, Email: kralik.g@hotmail.com\nEine Voranmeldung ist unbedingt erforderlich. \nOb Neueinsteiger in der Kräuterwelt oder auch versierte „Kräutler“ – jeder ist herzlich eingeladen! \nteilen teilen teilen teilen teilen E-Mail 
URL:https://fnl.at/veranstaltung/fnl-kraeutertreff-kraeuter-rundgang-murau/
LOCATION:Römersiedlung\, 8850 Murau\, Römersiedlung 301\, Murau\, Steiermark\, 8850\, Austria
CATEGORIES:Steiermark
ATTACH;FMTTYPE=image/jpeg:https://fnl.at/wp-content/uploads/2025/03/Kraeuter-1.jpg
ORGANIZER;CN="Gertrude Kralik":MAILTO:kralik.g@hotmail.com
END:VEVENT
END:VCALENDAR