BEGIN:VCALENDAR
VERSION:2.0
PRODID:-//FNL - Freunde Naturgemäßer Lebensweise - ECPv6.15.20//NONSGML v1.0//EN
CALSCALE:GREGORIAN
METHOD:PUBLISH
X-WR-CALNAME:FNL - Freunde Naturgemäßer Lebensweise
X-ORIGINAL-URL:https://fnl.at
X-WR-CALDESC:Veranstaltungen für FNL - Freunde Naturgemäßer Lebensweise
REFRESH-INTERVAL;VALUE=DURATION:PT1H
X-Robots-Tag:noindex
X-PUBLISHED-TTL:PT1H
BEGIN:VTIMEZONE
TZID:Europe/Berlin
BEGIN:DAYLIGHT
TZOFFSETFROM:+0100
TZOFFSETTO:+0200
TZNAME:CEST
DTSTART:20250330T010000
END:DAYLIGHT
BEGIN:STANDARD
TZOFFSETFROM:+0200
TZOFFSETTO:+0100
TZNAME:CET
DTSTART:20251026T010000
END:STANDARD
BEGIN:DAYLIGHT
TZOFFSETFROM:+0100
TZOFFSETTO:+0200
TZNAME:CEST
DTSTART:20260329T010000
END:DAYLIGHT
BEGIN:STANDARD
TZOFFSETFROM:+0200
TZOFFSETTO:+0100
TZNAME:CET
DTSTART:20261025T010000
END:STANDARD
BEGIN:DAYLIGHT
TZOFFSETFROM:+0100
TZOFFSETTO:+0200
TZNAME:CEST
DTSTART:20270328T010000
END:DAYLIGHT
BEGIN:STANDARD
TZOFFSETFROM:+0200
TZOFFSETTO:+0100
TZNAME:CET
DTSTART:20271031T010000
END:STANDARD
END:VTIMEZONE
BEGIN:VEVENT
DTSTART;TZID=Europe/Berlin:20260701T090000
DTEND;TZID=Europe/Berlin:20260729T110000
DTSTAMP:20260421T102519
CREATED:20260325T101114Z
LAST-MODIFIED:20260325T101310Z
UID:27482-1782896400-1785322800@fnl.at
SUMMARY:FNL Kräutertreff: Kräuter-Workshops Eppan
DESCRIPTION:FNL Kräutertreff: Kräuter-Workshops Eppan\nmit Marion Lafogler \nTermine:\nab April bis Ende August\nJeden Mittwoch von 9-11 Uhr \nDauer: \njeweils 9 – ca. 11 Uhr \nTreffpunkt:\nTourismusverein Eppan\, 39057 Eppan an der Weinstraße \nInfos und Anmeldung:\nMarion Lafogler\, FNL Kräuterexpertin\, Tel. 34 953 38 943 \nteilen teilen teilen teilen teilen E-Mail 
URL:https://fnl.at/veranstaltung/fnl-kraeutertreff-kraeuter-workshops-eppan-4/
LOCATION:Eppan\, Eppan an der Weinstraße\, Südtirol\, 39057\, Italy
CATEGORIES:Italien
ATTACH;FMTTYPE=image/jpeg:https://fnl.at/wp-content/uploads/2026/01/Sommer-Kraeuter-.jpg
END:VEVENT
BEGIN:VEVENT
DTSTART;TZID=Europe/Berlin:20260702T170000
DTEND;TZID=Europe/Berlin:20260702T190000
DTSTAMP:20260421T102519
CREATED:20250512T070431Z
LAST-MODIFIED:20260420T110800Z
UID:21561-1783011600-1783018800@fnl.at
SUMMARY:FNL Kräutertreff: Führung durch den Kräutergarten Dreifaltigkeit & Vortrag DMSO
DESCRIPTION:FNL Kräutertreff: Führung durch den Kräutergarten Dreifaltigkeit und Vortrag DMSO\nmit Sieglinde Salbrechter und Claudia Liegl Raunigg \nJetzt ist die schönste Zeit unseren Kräutergarten oberhalb von St. Veit zu genießen\, anschließend  erfahren wir im Vortrag Wissenswertes über DMSO: Das vielseitige Naturtalent für deine ganzheitliche Hausapotheke. \nTermin:\nDonnerstag\, 02. Juli 2026 \nBeginn:\n15 Uhr \nOrt:\nFNL Kräutergarten Dreifaltigkeit\n9300 Frauenstein . Dreifaltigkeit am Gray 3 \nKosten:\n€ 6\,- für FNL-Mitglieder\n€ 8\,- ohne Mitgliedschaft \nInformationen:\nBrigitte Irrasch\, FNL-Ortsleitung\, Tel. 0664 35 15 223 \nteilen teilen teilen teilen teilen E-Mail 
URL:https://fnl.at/veranstaltung/fnl-kraeutertreff-fuehrung-durch-den-kraeutergarten-dreifaltigkeit/
LOCATION:FNL Kräutergarten Dreifaltigkeit\, Dreifaltigkeit 3\, Frauenstein\, Kärnten\, 9300\, Österreich
CATEGORIES:Kärnten
ATTACH;FMTTYPE=image/jpeg:https://fnl.at/wp-content/uploads/2025/06/KG-Dreifaltigkeit.jpg
ORGANIZER;CN="Brigitte Irrasch":MAILTO:brigitte.irrasch63@gmail.com
END:VEVENT
END:VCALENDAR