BEGIN:VCALENDAR
VERSION:2.0
PRODID:-//FNL - Freunde Naturgemäßer Lebensweise - ECPv6.15.20//NONSGML v1.0//EN
CALSCALE:GREGORIAN
METHOD:PUBLISH
X-ORIGINAL-URL:https://fnl.at
X-WR-CALDESC:Veranstaltungen für FNL - Freunde Naturgemäßer Lebensweise
REFRESH-INTERVAL;VALUE=DURATION:PT1H
X-Robots-Tag:noindex
X-PUBLISHED-TTL:PT1H
BEGIN:VTIMEZONE
TZID:Europe/Berlin
BEGIN:DAYLIGHT
TZOFFSETFROM:+0100
TZOFFSETTO:+0200
TZNAME:CEST
DTSTART:20250330T010000
END:DAYLIGHT
BEGIN:STANDARD
TZOFFSETFROM:+0200
TZOFFSETTO:+0100
TZNAME:CET
DTSTART:20251026T010000
END:STANDARD
BEGIN:DAYLIGHT
TZOFFSETFROM:+0100
TZOFFSETTO:+0200
TZNAME:CEST
DTSTART:20260329T010000
END:DAYLIGHT
BEGIN:STANDARD
TZOFFSETFROM:+0200
TZOFFSETTO:+0100
TZNAME:CET
DTSTART:20261025T010000
END:STANDARD
BEGIN:DAYLIGHT
TZOFFSETFROM:+0100
TZOFFSETTO:+0200
TZNAME:CEST
DTSTART:20270328T010000
END:DAYLIGHT
BEGIN:STANDARD
TZOFFSETFROM:+0200
TZOFFSETTO:+0100
TZNAME:CET
DTSTART:20271031T010000
END:STANDARD
END:VTIMEZONE
BEGIN:VEVENT
DTSTART;TZID=Europe/Berlin:20260625T180000
DTEND;TZID=Europe/Berlin:20260625T193000
DTSTAMP:20260419T171500
CREATED:20260107T112641Z
LAST-MODIFIED:20260107T112641Z
UID:25142-1782410400-1782415800@fnl.at
SUMMARY:FNL Kräutertreff: Kräuterspaziergang im Garten
DESCRIPTION:FNL Kräutertreff: Kräuterspaziergang im Garten\nTermin:\nDonnerstag\, 25.06.2026  \nBeginn:\n18 Uhr \nOrt:\nGemeindesaal Flatschach\, 8720 Flatschach \nKosten:\n€ 15\,- (FNL Mitglieder € 12\,-) \nInformationen & Anmeldung:\nDGKP Michaela Natascha Bauer\, MSc\, FNL Kräuterexpertin & FNL Ortsleitung\, Tel. 0660 / 689 54 77 \nteilen teilen teilen teilen teilen E-Mail 
URL:https://fnl.at/veranstaltung/fnl-kraeutertreff-kraeuterspaziergang-im-garten/
LOCATION:Gemeindesaal Flatschach\, Flatschach 25\, Flatschach\, Spielberg\, Steiermark\, 8720\, Austria
CATEGORIES:Steiermark
ATTACH;FMTTYPE=image/jpeg:https://fnl.at/wp-content/uploads/2026/01/Sommer-Blumenwiese.jpg
END:VEVENT
BEGIN:VEVENT
DTSTART;TZID=Europe/Berlin:20260625T190000
DTEND;TZID=Europe/Berlin:20260625T203000
DTSTAMP:20260419T171500
CREATED:20260324T220418Z
LAST-MODIFIED:20260324T220418Z
UID:27454-1782414000-1782419400@fnl.at
SUMMARY:FNL Kräutertreff Oed bei Amstetten
DESCRIPTION:FNL Kräutertreff Oed bei Amstetten\nGemeinsam besprechen wir ein Thema passend zur Saison \nTermin:\nDonnerstag\, 25. Juni 2026 \nBeginn:\n19 Uhr \nOrt:\nGasthof Redl\, Marktstraße 25\, 3312 Oed bei Amstetten \nKosten:\nFNL Mitglieder € 12\,- / Nichtmitglieder € 15\,- \nInfo und Anmeldung:\nBarbara Weilguni\, Tel. 0664/1513198\, E-Mail: barbaraweilguni@hotmail.com \nweitere Termine 2026 in Oed bei Amstetten:\n24. September\, 19. November \nteilen teilen teilen teilen teilen E-Mail 
URL:https://fnl.at/veranstaltung/fnl-kraeutertreff-oed-bei-amstetten/
LOCATION:Gasthof Redl\, 3312 Oed bei Amstetten\, Marktstraße 25\, Oed bei Amstetten\, Niederösterreich\, 3312\, Austria
CATEGORIES:Niederösterreich
ATTACH;FMTTYPE=image/jpeg:https://fnl.at/wp-content/uploads/2025/08/Tisch-Essen-Kueche.jpg
END:VEVENT
END:VCALENDAR