BEGIN:VCALENDAR
VERSION:2.0
PRODID:-//FNL - Freunde Naturgemäßer Lebensweise - ECPv6.15.20//NONSGML v1.0//EN
CALSCALE:GREGORIAN
METHOD:PUBLISH
X-WR-CALNAME:FNL - Freunde Naturgemäßer Lebensweise
X-ORIGINAL-URL:https://fnl.at
X-WR-CALDESC:Veranstaltungen für FNL - Freunde Naturgemäßer Lebensweise
REFRESH-INTERVAL;VALUE=DURATION:PT1H
X-Robots-Tag:noindex
X-PUBLISHED-TTL:PT1H
BEGIN:VTIMEZONE
TZID:Europe/Berlin
BEGIN:DAYLIGHT
TZOFFSETFROM:+0100
TZOFFSETTO:+0200
TZNAME:CEST
DTSTART:20250330T010000
END:DAYLIGHT
BEGIN:STANDARD
TZOFFSETFROM:+0200
TZOFFSETTO:+0100
TZNAME:CET
DTSTART:20251026T010000
END:STANDARD
BEGIN:DAYLIGHT
TZOFFSETFROM:+0100
TZOFFSETTO:+0200
TZNAME:CEST
DTSTART:20260329T010000
END:DAYLIGHT
BEGIN:STANDARD
TZOFFSETFROM:+0200
TZOFFSETTO:+0100
TZNAME:CET
DTSTART:20261025T010000
END:STANDARD
BEGIN:DAYLIGHT
TZOFFSETFROM:+0100
TZOFFSETTO:+0200
TZNAME:CEST
DTSTART:20270328T010000
END:DAYLIGHT
BEGIN:STANDARD
TZOFFSETFROM:+0200
TZOFFSETTO:+0100
TZNAME:CET
DTSTART:20271031T010000
END:STANDARD
BEGIN:DAYLIGHT
TZOFFSETFROM:+0100
TZOFFSETTO:+0200
TZNAME:CEST
DTSTART:20280326T010000
END:DAYLIGHT
BEGIN:STANDARD
TZOFFSETFROM:+0200
TZOFFSETTO:+0100
TZNAME:CET
DTSTART:20281029T010000
END:STANDARD
END:VTIMEZONE
BEGIN:VEVENT
DTSTART;TZID=Europe/Berlin:20260320T160000
DTEND;TZID=Europe/Berlin:20270831T200000
DTSTAMP:20260423T205728
CREATED:20250721T055313Z
LAST-MODIFIED:20260312T075433Z
UID:22258-1774022400-1819742400@fnl.at
SUMMARY:Volksheilkundlicher Kräuterkurs nach Ignaz Schlifni mit Sigrid Hagen
DESCRIPTION:WERDE FNL KRÄUTEREXPERT*IN und besuche unseren Volksheilkundlichen Kräuterkurs nach Ignaz Schlifni!\nMärz 2026 . KURSSTART Niederösterreich . Amstetten . wochenends \n \nInfoabend: 13.2.2026 um 19 Uhr\, im Gemeindesaal Winklarn (gegenüber Kirche) Tanngrabenstraße 2\, 3300 Winklarn \nFNL Referentin: Sigrid Hagen\n \nDu lernst 400 Kräuter & Wildpflanzen in deiner Umgebung kennen und erfährst ihren traditionellen Gebrauch in der Volksheilkunde und Kräuterlehre nach Ignaz Schlifni! Wir zeigen dir\, wie du diese Naturschätze erkennst\, richtig erntest\, verarbeitest und für dich und deine Lieben nützen kannst. Auch möchten wir Bewusstsein schaffen – für die Natur und ihre wunderbare Pflanzenwelt sowie die Notwendigkeit\, diese zu achten und zu schützen! \nDas ist das Erbe von Ignaz Schlifni und in diesem Sinne tragen wir die Ausbildung weiter – mit einer Vielzahl an Pflanzen und umfassendem Wissen darüber\, einer anspruchsvollen Abschlussprüfung zum/zur FNL Kräuterexpert*in\, tollen Referent*innen und einer auf Freundschaft und Herz basierenden Gemeinschaft! \n\n  \n\n\n\nGRUNDKURS / AUSBILDUNG:\n1\,5 bzw. 2 Jahre\n\n\nABSCHLUSS:\nFNL Kräuterexpert*in (freiwillige Prüfung)\n\n\nUMFANG:\n200 Unterrichtseinheiten plus 300 Heimstunden\n\n\nVORAUSSETZUNGEN:\nkeine\n\n\nKOSTEN:\n€ 1.980\,– für FNL Mitglieder\n€ 2.110\,– für Teilnehmer*innen ohne Mitgliedschaft \nDetaillierte Informationen zum Kurs und zu den Kurskosten findest zu hier.\n\n\n\n\n\n\n\nKURSORT:\nAmstetten ( Kräutergarten Wohlbehagen\, Klein Greinsfurtherstraße 49; 3300 Winklarn )\n\n\nKUSMODALITÄT:\nJeweils Freitag 16-20 Uhr und Samstag 9-17 Uhr | 90 min Mittagspause\n\n\nMAX. TEILNEHMERZAHL:\n18 Teilnehmer\n\n\nKURSDAUER:\nbis August 2027\n\n\nKURSTERMINE:\nInfoabend: 13.2.2026 um 19 Uhr\, im Gemeindesaal Winklarn (gegenüber Kirche) Tanngrabenstraße 2\, 3300 Winklarn \nKursstart: \nFreitag 20.3.26 16-20 Uhr \nSamstag 21.3.26 9-17 Uhr \n  \nweitere Termine folgen ! \nDie Kurse finden im Kräutergarten Wohlbehagen\, Klein Greinsfurtherstraße 49\,  3300 Winklarn statt. \n \n\n\nKURSNUMMER:\n\nF26_6\n\n\n\n\nNähere Infos Referentinnen: \nSigrid Hagen  \nJETZT GLEICH KURSPLATZ SICHERN:  ONLINE-KURSANMELDUNG \n\nteilen teilen teilen teilen teilen E-Mail 
URL:https://fnl.at/veranstaltung/volksheilkundlicher-kraeuterkurs-nach-ignaz-schlifni-mit-sigrid-hagen/
LOCATION:Kräutergarten Wohl-be-hagen\, Kl. Greinsfurtherstr. 49\, Winklarn\, Niederösterreich\, 3300
CATEGORIES:FNL Kräuterakademie nach Ignaz Schlifni,Niederösterreich,Volksheilkundlicher Kräuterkurs nach Ignaz Schlifni
ATTACH;FMTTYPE=image/jpeg:https://fnl.at/wp-content/uploads/2025/07/Sigrid-Hagen.jpg
ORGANIZER;CN="Sigrid Hagen":MAILTO:info@wohl-be-hagen.com
END:VEVENT
BEGIN:VEVENT
DTSTART;TZID=Europe/Berlin:20260328T090000
DTEND;TZID=Europe/Berlin:20270831T170000
DTSTAMP:20260423T205728
CREATED:20250924T080815Z
LAST-MODIFIED:20260312T075610Z
UID:22975-1774688400-1819731600@fnl.at
SUMMARY:Volksheilkundlicher Kräuterkurs nach Ignaz Schlifni mit Mag. Barbara Pühringer
DESCRIPTION:WERDE FNL KRÄUTEREXPERT*IN und besuche unseren Volksheilkundlichen Kräuterkurs nach Ignaz Schlifni!\nMärz 2026 . KURSSTART OBERÖSTERREICH . Raum Rohr im Kremstal \nFNL Referentin: Mag. Barbara Pühringer\n \nDu lernst 400 Kräuter & Wildpflanzen in deiner Umgebung kennen und erfährst ihren traditionellen Gebrauch in der Volksheilkunde und Kräuterlehre nach Ignaz Schlifni! Wir zeigen dir\, wie du diese Naturschätze erkennst\, richtig erntest\, verarbeitest und für dich und deine Lieben nützen kannst. Auch möchten wir Bewusstsein schaffen – für die Natur und ihre wunderbare Pflanzenwelt sowie die Notwendigkeit\, diese zu achten und zu schützen! \nDas ist das Erbe von Ignaz Schlifni und in diesem Sinne tragen wir die Ausbildung weiter – mit einer Vielzahl an Pflanzen und umfassendem Wissen darüber\, einer anspruchsvollen Abschlussprüfung zum/zur FNL Kräuterexpert*in\, tollen Referent*innen und einer auf Freundschaft und Herz basierenden Gemeinschaft! \n\n  \n\n\n\nGRUNDKURS / AUSBILDUNG:\n1\,5 bzw. 2 Jahre\n\n\nABSCHLUSS:\nFNL Kräuterexpert*in (freiwillige Prüfung)\n\n\nUMFANG:\n200 Unterrichtseinheiten plus 300 Heimstunden\n\n\nVORAUSSETZUNGEN:\nkeine\n\n\nKOSTEN:\n€ 1.980\,– für FNL Mitglieder\n€ 2.110\,– für Teilnehmer*innen ohne Mitgliedschaft \nDetaillierte Informationen zum Kurs und zu den Kurskosten findest zu hier.\n\n\n\n\n\n\n\nKURSORT:\nGroßraum Rohr im Kremstal mit Ausflügen an verschiedene Plätze in Oberösterreich\n\n\nKUSMODALITÄT:\nWochenendkurs\n\n\nMAX. TEILNEHMERZAHL:\n23 Teilnehmer\n\n\nKURSDAUER:\nbis August 2027\n\n\nKURSTERMINE:\nKursstart: Samstag\, 28. März 2026 | von 9:00 bis 17:00 \nweitere Details folgen!\n\n\nKURSNUMMER:\n\nF26_10\n\n\n\n\nNähere Infos Referentinnen: \nMag. Barbara Pühringer \nJETZT GLEICH KURSPLATZ SICHERN:  ONLINE-KURSANMELDUNG \n\nteilen teilen teilen teilen teilen E-Mail 
URL:https://fnl.at/veranstaltung/volksheilkundlicher-kraeuterkurs-nach-ignaz-schlifni-mit-mag-barbara-puehringer/
LOCATION:Großraum Rohr im Kremstal mit Ausflügen an verschiedene Plätze in Oberösterreich\, Oberösterreich\, Austria
CATEGORIES:FNL Kräuterakademie nach Ignaz Schlifni,Oberösterreich,Volksheilkundlicher Kräuterkurs nach Ignaz Schlifni
ATTACH;FMTTYPE=image/jpeg:https://fnl.at/wp-content/uploads/2025/09/Mag.-Barbara-Puehringer.jpg
ORGANIZER;CN="Mag. Barbara P%C3%BChringer":MAILTO:info@manufaktur-arnika.at
END:VEVENT
BEGIN:VEVENT
DTSTART;TZID=Europe/Berlin:20260418T090000
DTEND;TZID=Europe/Berlin:20270830T170000
DTSTAMP:20260423T205728
CREATED:20250910T085719Z
LAST-MODIFIED:20260312T083527Z
UID:22890-1776502800-1819645200@fnl.at
SUMMARY:Volksheilkundlicher Kräuterkurs nach Ignaz Schlifni mit Georg Gapp
DESCRIPTION:WERDE FNL KRÄUTEREXPERT*IN und besuche unseren Volksheilkundlichen Kräuterkurs nach Ignaz Schlifni!\nApril 2026 . KURSSTART TIROL . Raum Innsbruck . wochenends\n \nFNL Referent: Georg Gapp\n \nDu lernst 400 Kräuter & Wildpflanzen in deiner Umgebung kennen und erfährst ihren traditionellen Gebrauch in der Volksheilkunde und Kräuterlehre nach Ignaz Schlifni! Wir zeigen dir\, wie du diese Naturschätze erkennst\, richtig erntest\, verarbeitest und für dich und deine Lieben nützen kannst. Auch möchten wir Bewusstsein schaffen – für die Natur und ihre wunderbare Pflanzenwelt sowie die Notwendigkeit\, diese zu achten und zu schützen! \nDas ist das Erbe von Ignaz Schlifni und in diesem Sinne tragen wir die Ausbildung weiter – mit einer Vielzahl an Pflanzen und umfassendem Wissen darüber\, einer anspruchsvollen Abschlussprüfung zum/zur FNL Kräuterexpert*in\, tollen Referent*innen und einer auf Freundschaft und Herz basierenden Gemeinschaft! \n  \n\n\n\nGRUNDKURS / AUSBILDUNG:\n1\,5 bzw. 2 Jahre\n\n\nABSCHLUSS:\nFNL Kräuterexpert*in (freiwillige Prüfung)\n\n\nUMFANG:\n200 Unterrichtseinheiten plus 300 Heimstunden\n\n\nVORAUSSETZUNGEN:\nkeine\n\n\nKOSTEN:\n€ 1.980\,– für FNL Mitglieder\n€ 2.110\,– für Teilnehmer*innen ohne Mitgliedschaft \nDetaillierte Informationen zum Kurs und zu den Kurskosten findest zu hier.\n\n\n\n\n\n\nKURSORT:\nRaum Innsbruck\n\n\nKUSMODALITÄT:\nwochenends\n\n\nMAX. TEILNEHMERZAHL:\n8 bis maximal 20 Teilnehmer\n\n\nKURSDAUER:\nbis August 2027\n\n\nKURSTERMINE:\nKursstart am 18. April 2026 \n  \nAlle weiteren Information\, sowie alle Termine findest du hier. \n \n\n\nKURSNUMMER:\n\nF26_2\n\n\n\n\n  \n\nNähere Infos Referent:\nGeorg Gapp \nJETZT GLEICH KURSPLATZ SICHERN:  ONLINE-KURSANMELDUNG \n\n\nteilen teilen teilen teilen teilen E-Mail 
URL:https://fnl.at/veranstaltung/volksheilkundlicher-kraeuterkurs-nach-ignaz-schlifni-mit-georg-gapp-2/
LOCATION:Innsbruck\, Tirol
CATEGORIES:FNL Kräuterakademie nach Ignaz Schlifni,Tirol,Volksheilkundlicher Kräuterkurs nach Ignaz Schlifni
ATTACH;FMTTYPE=image/jpeg:https://fnl.at/wp-content/uploads/2025/06/Referent-Georg-Gapp-.jpg
END:VEVENT
BEGIN:VEVENT
DTSTART;TZID=Europe/Berlin:20260425T090000
DTEND;TZID=Europe/Berlin:20270831T170000
DTSTAMP:20260423T205728
CREATED:20250721T060409Z
LAST-MODIFIED:20260410T104502Z
UID:22265-1777107600-1819731600@fnl.at
SUMMARY:Volksheilkundlicher Kräuterkurs nach Ignaz Schlifni mit Monika Vana
DESCRIPTION:WERDE FNL KRÄUTEREXPERT*IN und besuche unseren Volksheilkundlichen Kräuterkurs nach Ignaz Schlifni!\nApril 2026 . KURSSTART NIEDERÖSTERREICH . Großraum Baden / Wien Umgebung \nFNL Referentin: Monika Vana\n \nDu lernst 400 Kräuter & Wildpflanzen in deiner Umgebung kennen und erfährst ihren traditionellen Gebrauch in der Volksheilkunde und Kräuterlehre nach Ignaz Schlifni! Wir zeigen dir\, wie du diese Naturschätze erkennst\, richtig erntest\, verarbeitest und für dich und deine Lieben nützen kannst. Auch möchten wir Bewusstsein schaffen – für die Natur und ihre wunderbare Pflanzenwelt sowie die Notwendigkeit\, diese zu achten und zu schützen! \nDas ist das Erbe von Ignaz Schlifni und in diesem Sinne tragen wir die Ausbildung weiter – mit einer Vielzahl an Pflanzen und umfassendem Wissen darüber\, einer anspruchsvollen Abschlussprüfung zum/zur FNL Kräuterexpert*in\, tollen Referent*innen und einer auf Freundschaft und Herz basierenden Gemeinschaft! \n\n  \n\n\n\nGRUNDKURS / AUSBILDUNG:\n1\,5 bzw. 2 Jahre\n\n\nABSCHLUSS:\nFNL Kräuterexpert*in (freiwillige Prüfung)\n\n\nUMFANG:\n200 Unterrichtseinheiten plus 300 Heimstunden\n\n\nVORAUSSETZUNGEN:\nkeine\n\n\nKOSTEN:\n€ 1.980\,– für FNL Mitglieder\n€ 2.110\,– für Teilnehmer*innen ohne Mitgliedschaft  \nDetaillierte Informationen zum Kurs und zu den Kurskosten findest zu hier.\n\n\n\n\n\n\nKURSORT:\nGroßraum Baden / Wien Umgebung\n\n\nKUSMODALITÄT:\nWochenendkurs\n\n\nMAX. TEILNEHMERZAHL:\n14 Teilnehmer\n\n\nKURSDAUER:\nbis August 2027\n\n\nKURSTERMINE:\nKursstart: Samstag\, 25. April 2026 \nKurszeiten einmal im Monat\, Samstag 9-17 Uhr\, Sonntag 9-16 Uhr \nAlle weiteren Termine findest du hier.\n\n\nKURSNUMMER:\n\nF26_4\n\n\n\n\nNähere Infos Referentinnen: \nMonika Vana \nJETZT GLEICH KURSPLATZ SICHERN:  ONLINE-KURSANMELDUNG \n\nteilen teilen teilen teilen teilen E-Mail 
URL:https://fnl.at/veranstaltung/volksheilkundlicher-kraeuterkurs-nach-ignaz-schlifni-mit-monika-vana/
LOCATION:Großraum Baden / Wien Umgebung
CATEGORIES:FNL Kräuterakademie nach Ignaz Schlifni,Niederösterreich,Volksheilkundlicher Kräuterkurs nach Ignaz Schlifni
ATTACH;FMTTYPE=image/png:https://fnl.at/wp-content/uploads/2026/02/Referentin-Monika-Vana-1.png
ORGANIZER;CN="Monika Vana":MAILTO:monika.vana@drei.at
END:VEVENT
BEGIN:VEVENT
DTSTART;TZID=Europe/Berlin:20260501T090000
DTEND;TZID=Europe/Berlin:20261024T163000
DTSTAMP:20260423T205728
CREATED:20251209T095514Z
LAST-MODIFIED:20260112T080042Z
UID:24198-1777626000-1792859400@fnl.at
SUMMARY:FNL Akademie: DIPLOM-LEHRGANG: FNL Wald-Expert*in nach Ing. Astrid Süßmuth
DESCRIPTION:Diplom-Lehrgang FNL Wald-Expert*in nach Ing. Astrid Süßmuth\n\n\nAUSBILDUNGSORT KÄRNTEN  \n\nWerde „Dipl. FNL Wald-Experte/Expertin nach Ing. Astrid Süßmuth”\, lerne den Wald als Grüne Apotheke\, als volksheilkundlichen Erholungsraum und  in seiner weitreichenden ökologischen Bedeutung kennen und nutzen! \nDie in unserer mitteleuropäischen Kultur seit Jahrhunderten tiefverwurzelte Verbundenheit mit dem Wald erweist sich als aktueller denn je: entsprechend seiner psychoevolutionären Landschaftswirkung fühlt sich der Mensch dort besonders geborgen; naturnahe Wälder gehören heute zu den wenigen Orten\, die vollkommene Ruhe und Frieden ausstrahlen. Waldaufenthalte fördern dementsprechend die körperliche Entspannung und wirken durch die Erhöhung der Widerstandsfähigkeit des Organismus gegen Stress als Immunbooster; Wald ist in jeder Hinsicht ein direkter Schutz vor schädlichen Umwelteinflüssen. \nAls Dipl. FNL Wald-Experte hast Du das notwendige ökologische Wissen über den Naturraum Wald\, um seine resilienzfördernden Kräfte für Dich und in Gruppenerlebnissen nutzen zu können\, Du kannst das theoretische Hintergrundwissen um die Notwendigkeit von Naturnähe für ein gesundes Leben („Biophilie-Effekt“) in praktische Walderlebnisse sowie konzipierte Waldkuren umsetzen\, und bewegst Dich sicher in einem der letzten Naturrefugien unserer Zeit. \nAusbildungsinhalte:\nDer Lehrgang vermittelt durch eine Kombination von theoretischem Waldwissen und praxisorientiertem Erleben der natürlichen Waldumgebung auf fünf ganztägigen leichten Wanderungen eine vertiefte Kenntnis des Naturraums Wald. Ziel ist es\, durch die Ausbildung eines ökologischen Bewusstseins den Wald umweltbewusst mit Respekt und Achtung zur Erholung\, Gesunderhaltung und als Grüne Apotheke nutzen zu können\, und dieses Wissen auch praxisorientiert weitergeben zu können. \nDer Einsatz des Naturraums Wald als therapeutisches Instrument in der Naturheilkunde für Heilpraktiker und ähnliche Berufssparten. Ausgenutzt wird dabei die Stressreduzierung durch Waldaufenthalte\, die mit der Kenntnis des Ökosystems Wald unmittelbar verbunden sein müssen wie die Heilwirkung von Phytotherapeutika des Waldes sowie Methoden zur Resilienzbildung in Bezug auf Stressfolgeerkrankungen durch die Wirkung des Naturraumes Wald. Konzipiert ist der Kurs für naturheilkundliche Therapeuten wie Heilpraktiker oder ähnliche Berufe als zusätzliche Therapierichtung und Erweiterung des Arbeitsspektrums in grundlegender Ausrichtung der Praxistätigkeit oder als berufliche Fortbildung. \nZielgruppe:\nDer Lehrgang eignet sich für Angehörige der Gesundheitsfachberufe (insbesondere Heilpraktiker-Anwärter)\, Pädagogen\, ehrenamtlich Tätige bspw. im Vereinswesen\, Kräuterexperten/innen und Kräuterpädagogen/innen sowie Interessierte\, die sich im Bereich Waldwissen und praktische Volksheilkunde weiterbilden möchten. \nLehrgangsdauer:\n7 Tage Präsenzunterricht 09 – 16:30 Uhr\n– nur 16.10.2026 von 11:30 – 18:30 (Herbstwaldexkursion)\n1 Tag  Online ( Präsentation der Seminararbeit)\nzzgl. ca. 2 Tage für die Ausarbeitung der Seminararbeit \nThemenkreise in Theorie und Praxis:\n– Schlüsselkenntnisse zum Verwenden und Verarbeiten von Waldpflanzen und Bäumen.\n– Grundlagenwissen zu Waldtieren und Pilzen.\n– Traditionelles und zeitgemäßes Wissen zum Ökosystem Wald.\n– Ganzheitliche Walderfahrungen: Naturmeditationen\, Waldmärchen und Gedichte.\n– Wald-Küche.\n– Grüne Waldapotheke\n– Naturaufenthalt als Salutogenese und gesundheitliche Aspekte der Waldatmosphäre.\n– Wald tut gut – psychoevolutionäre Landschaftswirkung des Naturraums Wald und der Biophilie-Effekt.\n– Aktive Waldentspannung als Immunbooster und zur Steigerung der Resilienz gegen Stress.\n– Kernbereiche praxisorientierter Waldwirkung: Waldspaziergänge und Wanderungen\, Sinnesübungen\, WaldArt\, Naturerfahrungen\, Waldwissen und Umweltbildung.\n– Anleitung zur Ausarbeitung und Gestaltung von Waldvitaltagen (Bspw. für Bildungsangebote\, Themenwochen in Kindergarten und Schule\, als Wellnessangebot oder als Zusatzangebot für Kräuterführungen) mit den notwendigen Grundlagen zu Orientierung und Wetter. \nKursabschluss:\nKursziel ist neben dem Erwerb theoretischen und praktischen Waldwissens die Erlangung des Diploms zum FNL-Waldexperten / zur FNL-Waldexpertin.\nVoraussetzungen sind die Anwesenheit bei mindestens 75 % der Kursstunden\, sowie die vollständige\, korrekte und termingerechte Ausarbeitung der 3-teiligen Seminararbeit inkl. der jeweils geforderten Präsentation.\nBei einer Anwesenheit von mindestens 75 % der Kursstunden\, ohne Ausarbeitung der Seminararbeiten\, kann auf Wunsch eine Teilnahmebestätigung ausgestellt werden.\nAchtung: Nicht besuchte Kurstage bzw. Kursmodule können grundsätzlich nicht nachgeholt werden. \nTeilnahmevoraussetzungen:\n– Grundlegende Pflanzenkenntnis im Sinne der Ausbildung zum FNL-Kräuterexperten\n– Fähigkeit zur Teilnahme an ganztägigen Waldwanderungen mit max. 400 HM / 10 km\n– Laptop mit Online-Zugang für Teilnahme an Zoom-Webinaren; Möglichkeit zur Erstellung eigener PowerPoints / PDFs\n– Die Möglichkeit zur Mobilität sollte gewährleistet sein. Bitte klären Sie im Voraus eigenverantwortlich\, ob die verschiedenen Kursorte eigenständig oder in Fahrgemeinschaften für Sie erreichbar sind \nReferentin:\nAstrid Süßmuth – Heilpraktikerin\, Autorin & Kräuterexpertin \n\nTermin Kärnten:\nMODUL I: 01. – 04. Mai 2026\nMODUL II: 14. – 16. Oktober 2026\nONLINE: 24. Oktober 2026 (Präsentation der Seminararbeiten)\nzzgl. ca. 2 Tage für die Ausarbeitung der Seminararbeit \nUhrzeiten:\nJeweils von 09:00 – 16:30 Uhr\n– nur die Herbstwaldexkursion am 16.10.2026 von 11:30 – 18:30 Uhr \nLehrgangskosten Kärnten:\n€ 696.– für FNL-Mitglieder\n€ 746.– für Teilnehmer ohne Mitgliedschaft\ninkl. Materialkosten ( €25\,-)\, eigene Reise- und Übernachtungskosten exkl.\nTeilnahmevoraussetzungen: Laptop mit Online-Zugang für Teilnahme an Zoom-Webinaren; Möglichkeit zur Erstellung eigener PowerPoints/ PDFs; Möglichkeit zur Mobilität sollte gewährleistet sein. \nKursort Kärnten:\n – FNL-Kompetenzzentrum für naturgemäße Lebensweise\, Schloss Hunnenbrunn (Kärnten)\n– Wälder in der näheren Umgebung und eine Bergwaldexkursion als ganztätige Waldexkursionen und Waldwanderungen)\n(Bitte frühzeitig Fahrgemeinschaften für die Anfahrt organisieren\, da nicht alle Kursorte öffentlich erreichbar sind. Dies gilt insbesondere für die Bergwaldexkursion zur Hochrindl\, die für den 16.10.2026 geplant ist) \n\nBuchungsinfo:\nAnmeldung erforderlich – begrenzte Teilnehmerzahl!\nJETZT BUCHEN! \n\n\n\n\n\nDie Referentin \n \nKräuterexpertin\, Heilpraktikerin und Ingenieurin; Tourenführer (Trainer C) und Mitglied im Bundeslehrteam des Deutschen Alpenvereins DAV. \nIn ihren Büchern\, auf (Berg-)Wanderungen und in Kräuterausbildungen gibt sie ihr großes Wissen über Heilpflanzen und alpenländisches Kräuterbrauchtum weiter; ihr kräuterkultureller Radio-Talk „Habe die Ehre!“ im Bayerischen Rundfunk hat sie einem breiten Publikum bekannt gemacht. \nAstrid Süßmuth lebt mit ihrer Familie in Oberbayern. \n… und noch ein paar Fun-Facts: Astrids Lieblingsblumen sind der Schneeenzian und die Rose “Great Maiden’s Blush”\, Lieblingsbergziele die großen Gletscher im Wallis und die klitzekleinen Seen der Bayerischen Alpen\, am liebsten arbeitet sie bei richtig heißen Temperaturen auf der Terrasse unter der über Jahrzehnte gepäppelten Weinrebe (leider dabei gedanklich immer wieder zu romantischen Abenden am Mittelmeer abschweifend  )\, lässt passend dazu für eine klassische Pasta jedes Dreigänge-Menü stehen und liebt es\, beim Querfeldein-Waldlauf das ganze Jahr über immer wieder Neues zu entdecken. \n\nteilen teilen teilen teilen teilen E-Mail 
URL:https://fnl.at/veranstaltung/fnl-akademie-diplom-lehrgang-fnl-wald-expertin-nach-ing-astrid-suessmuth/
LOCATION:Kompetenzzentrum für naturgemäße Lebensweise . Schloss Hunnenbrunn\, Schlossweg 2\, St. Veit an der Glan\, Kärnten\, 9300\, Austria
CATEGORIES:02 Weiterbildungen,FNL Kräuterakademie nach Ignaz Schlifni
ATTACH;FMTTYPE=image/jpeg:https://fnl.at/wp-content/uploads/2025/12/Waldexpertin-LG_edited.jpg
END:VEVENT
BEGIN:VEVENT
DTSTART;TZID=Europe/Berlin:20260506T090000
DTEND;TZID=Europe/Berlin:20260527T110000
DTSTAMP:20260423T205728
CREATED:20260325T100418Z
LAST-MODIFIED:20260325T100442Z
UID:27476-1778058000-1779879600@fnl.at
SUMMARY:FNL Kräutertreff: Kräuter-Workshops Eppan
DESCRIPTION:FNL Kräutertreff: Kräuter-Workshops Eppan\nmit Marion Lafogler \nTermine:\nab April bis Ende August\nJeden Mittwoch von 9-11 Uhr \nDauer: \njeweils 9 – ca. 11 Uhr \nTreffpunkt:\nTourismusverein Eppan\, 39057 Eppan an der Weinstraße \nInfos und Anmeldung:\nMarion Lafogler\, FNL Kräuterexpertin\, Tel. 34 953 38 943 \nteilen teilen teilen teilen teilen E-Mail 
URL:https://fnl.at/veranstaltung/fnl-kraeutertreff-kraeuter-workshops-eppan-2/
LOCATION:Eppan\, Eppan an der Weinstraße\, Südtirol\, 39057\, Italy
CATEGORIES:Italien
ATTACH;FMTTYPE=image/jpeg:https://fnl.at/wp-content/uploads/2025/04/Kraeutertreff.jpg
END:VEVENT
BEGIN:VEVENT
DTSTART;TZID=Europe/Berlin:20260519T140000
DTEND;TZID=Europe/Berlin:20260522T190000
DTSTAMP:20260423T205728
CREATED:20250603T120024Z
LAST-MODIFIED:20260310T094610Z
UID:21795-1779199200-1779476400@fnl.at
SUMMARY:FNL Kräutertreff Gurk: "Tischlein deck dich - Kräuter – in Hülle und Fülle"
DESCRIPTION:FNL Kräutertreff Gurk: „Tischlein deck dich – Kräuter – in Hülle und Fülle“\nWir bedienen uns am reich gedeckten Tisch der Natur\, – wir bestimmen\, sammeln und genießen unsere selbst zubereitetes 4-gängiges Menü. Dauer ca. 5 Stunden. \nTermine:\nDienstag\, 19. Mai 2026 oder Freitag 22. Mai 2026 \nBeginn:\njeweils 14 Uhr \nOrt:\nGasthaus „Zum Kramer“\, Pisweg Nr. 2\, 9342 Gurk \nKosten:\nEuro 49\,– für FNL Mitglieder\nEuro 54\,– ohne Mitgliedschaft \nAnmeldung bitte bis Donnerstag\, 14. Mai 2026 \nInfo & Anmeldung:\nFischinger Susanne\, Tel. 0680/154 02 15 \nteilen teilen teilen teilen teilen E-Mail 
URL:https://fnl.at/veranstaltung/fnl-kraeutertreff-gurk-tischlein-deck-dich-kraeuter-in-huelle-und-fuelle/
LOCATION:Gasthof „Zum Kramer“ Gurk\, Pisweg 2\, Gurk\, Kärnten\, 9342\, Austria
CATEGORIES:Kärnten
ATTACH;FMTTYPE=image/jpeg:https://fnl.at/wp-content/uploads/2025/08/Tisch-Essen-Kueche.jpg
ORGANIZER;CN="Susanne Fischinger%2C Gurk":MAILTO:info@gurk-pisweg.at
END:VEVENT
BEGIN:VEVENT
DTSTART;TZID=Europe/Berlin:20260519T140000
DTEND;TZID=Europe/Berlin:20260626T170000
DTSTAMP:20260423T205728
CREATED:20240207T220838Z
LAST-MODIFIED:20260407T094123Z
UID:17519-1779199200-1782493200@fnl.at
SUMMARY:FNL Kräutergarten: Führungen Fuschl am See
DESCRIPTION:FNL Kräutergarten-Führungen Fuschl am See\nAb 19. Mai bis 29. September 2026 ist der Kräutergarten wieder jeden Dienstag von 14.00 – 17.00 Uhr geöffnet. In dieser Zeit werden Führungen durch den Kräutergarten gemacht.\nFür Gruppen kann zusätzlich ein Termin vereinbart werden. \nInfos zum FNL Kräutergarten Fuschl findest du hier \nInformationen\nSophie Brandstätter\nFNL Kräutergarten Fuschl am See\nTel. 0676 70 53 228 \nteilen teilen teilen teilen teilen E-Mail 
URL:https://fnl.at/veranstaltung/fnl-kraeutergarten-fuehrungen-fuschl-am-see/
LOCATION:Kräutergarten Fuschl am See\, Mühlenweg\, Fuschl am See\, Salzburg\, 5330\, Österreich
CATEGORIES:Salzburg
ATTACH;FMTTYPE=image/jpeg:https://fnl.at/wp-content/uploads/2024/02/Kraeutergarten-Fuschl.jpg
END:VEVENT
BEGIN:VEVENT
DTSTART;TZID=Europe/Berlin:20260522T140000
DTEND;TZID=Europe/Berlin:20260522T160000
DTSTAMP:20260423T205728
CREATED:20260305T133038Z
LAST-MODIFIED:20260305T133038Z
UID:27087-1779458400-1779465600@fnl.at
SUMMARY:FNL Kräutertreff: Kräuterwanderung
DESCRIPTION:FNL Kräutertreff: Kräuterwanderung\nBegleite mich auf einen Streifzug durch Wiese & Wald und entdecke Wildkräuter direkt vor deiner Haustür. Gemeinsam finden wir essbare Schätze und Heilpflanzen für deine Küche und dein Wohlbefinden. \nTermin:\nFreitag\, 22. Mai 2026 \nBeginn:\n14 Uhr \nOrt:\n9842 Mörtschach – Details bei Anmeldung \nInformationen & Anmeldung:\nMartina Lackner\, FNL Ortsleitung & Kräuterexpertin\, Tel. 0699 118 91 100 \nteilen teilen teilen teilen teilen E-Mail 
URL:https://fnl.at/veranstaltung/fnl-kraeutertreff-kraeuterwanderung-3/
LOCATION:Mörtschach\, Mörtschach\, Kärnten\, 9842\, Austria
CATEGORIES:Kärnten
ATTACH;FMTTYPE=image/png:https://fnl.at/wp-content/uploads/2024/12/Spaziergang.png
END:VEVENT
BEGIN:VEVENT
DTSTART;TZID=Europe/Berlin:20260522T150000
DTEND;TZID=Europe/Berlin:20260522T170000
DTSTAMP:20260423T205728
CREATED:20250311T195836Z
LAST-MODIFIED:20260205T105849Z
UID:20503-1779462000-1779469200@fnl.at
SUMMARY:FNL Kräutertreff: Kräuterspaziergang an der Donau „Schwarznuß-Schwarzpappel & Co“
DESCRIPTION:FNL-Kräutertreff: Kräuterspaziergang an der Donau „Schwarznuß-Schwarzpappel & Co“\nmit Stefan & Anita \nGemeinsam erkunden wir die Pflanzenwelt entlang der Donau! Wir erkunden Bäume\, wie die Schwarznuß\, Schwarzpappel und Co. \nTermin:\nFreitag\, 22.5.2026 \nTreffpunkt:\n15 Uhr Spielplatz Gottsdorf (Donaustraße\, 3680 Gottsdorf/Persenbeug) \nDauer:\nca. 1\,5 – 2 h \nKosten:\nFNL Mitglieder 16\,- / Alle anderen Interessierten 18\,- \nAnmeldung: \nunbedingt erforderlich – Die Kräutertreffs finden nur bei trockenem Wetter statt / Absage bei Starkregen & Sturm \nINFOS & ANMELDUNG\nStefan Schindler\, FNL-Bezirksleitung\, Tel. 0676/477 86 40\nAnita Landstetter\, FNL-Bezirksleitung Stellv.\, Tel. 0680/208 07 90 \nteilen teilen teilen teilen teilen E-Mail 
URL:https://fnl.at/veranstaltung/fnl-kraeutertreff-kraeuterspaziergang-an-der-donau/
LOCATION:Spielplatz\, 3680 Gottsdorf\, Donaustraße\, Gottsdorf/Persenbeug\, Niederösterreich\, 3680\, Austria
CATEGORIES:Niederösterreich
ATTACH;FMTTYPE=image/jpeg:https://fnl.at/wp-content/uploads/2025/02/Natur-3.jpg
ORGANIZER;CN="Schindler Stefan":MAILTO:sost@1000kraut.at
END:VEVENT
BEGIN:VEVENT
DTSTART;TZID=Europe/Berlin:20260522T170000
DTEND;TZID=Europe/Berlin:20260522T190000
DTSTAMP:20260423T205728
CREATED:20260223T202848Z
LAST-MODIFIED:20260223T202858Z
UID:26654-1779469200-1779476400@fnl.at
SUMMARY:FNL Kräutertreff Workshop: Naturkosmetik - Im Zauber der Kräuter
DESCRIPTION:FNL Kräutertreff Workshop: Naturkosmetik – Im Zauber der Kräuter\nNaturkosmetik aus heimischen Kräutern – Für strahlende Haut und wohltuende Momente für Körper und Seele!🌸\nTauche ein in die duftende Welt heimischer Kräuter und entdecke ihre wohltuende Kraft für Haut\, Körper und Seele. In diesem Workshop lernst du ausgewählte Wild- und Gartenkräuter kennen\, für natürliche Pflege und sanfte Schönheit geschätzt werden. Gemeinsam stellen wir hochwertige Naturkosmetik her. Mit einfachen\, natürlichen Zutaten und viel Liebe zur Pflanze. Ob nährender Balsam\, pflegendes Öl oder wohltuende Salbe: Du erfährst Wissenswertes über die Wirkung der Kräuter und nimmst deine selbstgemachten Pflegeprodukte mit nach Hause.\nErlebe eine achtsame Auszeit in entspannter Atmosphäre\, verbinde dich mit der Natur und bringe dein inneres und äußeres Strahlen zum Leuchten. \nTermine:\nFreitag\, 22.05.2026 \nBeginn:\n17.00 Uhr \nWo:\nSeelsorgestelle – Gemeinschaftsraum\nUntere Walcher-Siedlung 12a\n8763 Möderbrugg \nKosten:\nFNL-Mitglieder € 60\,- / Gäste € 62\,- \nAnmeldung:\nBegrenzte Teilnehmeranzahl! Anmeldung erforderlich. \nInformation & Anmeldung:\nMaria Luise Unterweger\, FNL Ortleitung\, Dipl. Aromatherapeutin\, Dipl. Kräuterpädagogin\nTel: 0664/8625182 \n\n\n\n\n\n\n\n\nteilen teilen teilen teilen teilen E-Mail 
URL:https://fnl.at/veranstaltung/fnl-kraeutertreff-workshop-naturkosmetik-im-zauber-der-kraeuter/
LOCATION:Seelsorgestelle\, Möderbrugg\, Untere Walcher-Siedlung 12a\, Möderbrugg\, Steiermark\, 8763\, Austria
CATEGORIES:Steiermark
ATTACH;FMTTYPE=image/jpeg:https://fnl.at/wp-content/uploads/2025/04/Natur-Kosmetik-Ansetzen.jpg
END:VEVENT
END:VCALENDAR