BEGIN:VCALENDAR
VERSION:2.0
PRODID:-//FNL - Freunde Naturgemäßer Lebensweise - ECPv6.15.20//NONSGML v1.0//EN
CALSCALE:GREGORIAN
METHOD:PUBLISH
X-ORIGINAL-URL:https://fnl.at
X-WR-CALDESC:Veranstaltungen für FNL - Freunde Naturgemäßer Lebensweise
REFRESH-INTERVAL;VALUE=DURATION:PT1H
X-Robots-Tag:noindex
X-PUBLISHED-TTL:PT1H
BEGIN:VTIMEZONE
TZID:Europe/Berlin
BEGIN:DAYLIGHT
TZOFFSETFROM:+0100
TZOFFSETTO:+0200
TZNAME:CEST
DTSTART:20250330T010000
END:DAYLIGHT
BEGIN:STANDARD
TZOFFSETFROM:+0200
TZOFFSETTO:+0100
TZNAME:CET
DTSTART:20251026T010000
END:STANDARD
BEGIN:DAYLIGHT
TZOFFSETFROM:+0100
TZOFFSETTO:+0200
TZNAME:CEST
DTSTART:20260329T010000
END:DAYLIGHT
BEGIN:STANDARD
TZOFFSETFROM:+0200
TZOFFSETTO:+0100
TZNAME:CET
DTSTART:20261025T010000
END:STANDARD
BEGIN:DAYLIGHT
TZOFFSETFROM:+0100
TZOFFSETTO:+0200
TZNAME:CEST
DTSTART:20270328T010000
END:DAYLIGHT
BEGIN:STANDARD
TZOFFSETFROM:+0200
TZOFFSETTO:+0100
TZNAME:CET
DTSTART:20271031T010000
END:STANDARD
BEGIN:DAYLIGHT
TZOFFSETFROM:+0100
TZOFFSETTO:+0200
TZNAME:CEST
DTSTART:20280326T010000
END:DAYLIGHT
BEGIN:STANDARD
TZOFFSETFROM:+0200
TZOFFSETTO:+0100
TZNAME:CET
DTSTART:20281029T010000
END:STANDARD
END:VTIMEZONE
BEGIN:VEVENT
DTSTART;TZID=Europe/Berlin:20260320T160000
DTEND;TZID=Europe/Berlin:20270831T200000
DTSTAMP:20260423T193349
CREATED:20250721T055313Z
LAST-MODIFIED:20260312T075433Z
UID:22258-1774022400-1819742400@fnl.at
SUMMARY:Volksheilkundlicher Kräuterkurs nach Ignaz Schlifni mit Sigrid Hagen
DESCRIPTION:WERDE FNL KRÄUTEREXPERT*IN und besuche unseren Volksheilkundlichen Kräuterkurs nach Ignaz Schlifni!\nMärz 2026 . KURSSTART Niederösterreich . Amstetten . wochenends \n \nInfoabend: 13.2.2026 um 19 Uhr\, im Gemeindesaal Winklarn (gegenüber Kirche) Tanngrabenstraße 2\, 3300 Winklarn \nFNL Referentin: Sigrid Hagen\n \nDu lernst 400 Kräuter & Wildpflanzen in deiner Umgebung kennen und erfährst ihren traditionellen Gebrauch in der Volksheilkunde und Kräuterlehre nach Ignaz Schlifni! Wir zeigen dir\, wie du diese Naturschätze erkennst\, richtig erntest\, verarbeitest und für dich und deine Lieben nützen kannst. Auch möchten wir Bewusstsein schaffen – für die Natur und ihre wunderbare Pflanzenwelt sowie die Notwendigkeit\, diese zu achten und zu schützen! \nDas ist das Erbe von Ignaz Schlifni und in diesem Sinne tragen wir die Ausbildung weiter – mit einer Vielzahl an Pflanzen und umfassendem Wissen darüber\, einer anspruchsvollen Abschlussprüfung zum/zur FNL Kräuterexpert*in\, tollen Referent*innen und einer auf Freundschaft und Herz basierenden Gemeinschaft! \n\n  \n\n\n\nGRUNDKURS / AUSBILDUNG:\n1\,5 bzw. 2 Jahre\n\n\nABSCHLUSS:\nFNL Kräuterexpert*in (freiwillige Prüfung)\n\n\nUMFANG:\n200 Unterrichtseinheiten plus 300 Heimstunden\n\n\nVORAUSSETZUNGEN:\nkeine\n\n\nKOSTEN:\n€ 1.980\,– für FNL Mitglieder\n€ 2.110\,– für Teilnehmer*innen ohne Mitgliedschaft \nDetaillierte Informationen zum Kurs und zu den Kurskosten findest zu hier.\n\n\n\n\n\n\n\nKURSORT:\nAmstetten ( Kräutergarten Wohlbehagen\, Klein Greinsfurtherstraße 49; 3300 Winklarn )\n\n\nKUSMODALITÄT:\nJeweils Freitag 16-20 Uhr und Samstag 9-17 Uhr | 90 min Mittagspause\n\n\nMAX. TEILNEHMERZAHL:\n18 Teilnehmer\n\n\nKURSDAUER:\nbis August 2027\n\n\nKURSTERMINE:\nInfoabend: 13.2.2026 um 19 Uhr\, im Gemeindesaal Winklarn (gegenüber Kirche) Tanngrabenstraße 2\, 3300 Winklarn \nKursstart: \nFreitag 20.3.26 16-20 Uhr \nSamstag 21.3.26 9-17 Uhr \n  \nweitere Termine folgen ! \nDie Kurse finden im Kräutergarten Wohlbehagen\, Klein Greinsfurtherstraße 49\,  3300 Winklarn statt. \n \n\n\nKURSNUMMER:\n\nF26_6\n\n\n\n\nNähere Infos Referentinnen: \nSigrid Hagen  \nJETZT GLEICH KURSPLATZ SICHERN:  ONLINE-KURSANMELDUNG \n\nteilen teilen teilen teilen teilen E-Mail 
URL:https://fnl.at/veranstaltung/volksheilkundlicher-kraeuterkurs-nach-ignaz-schlifni-mit-sigrid-hagen/
LOCATION:Kräutergarten Wohl-be-hagen\, Kl. Greinsfurtherstr. 49\, Winklarn\, Niederösterreich\, 3300
CATEGORIES:FNL Kräuterakademie nach Ignaz Schlifni,Niederösterreich,Volksheilkundlicher Kräuterkurs nach Ignaz Schlifni
ATTACH;FMTTYPE=image/jpeg:https://fnl.at/wp-content/uploads/2025/07/Sigrid-Hagen.jpg
ORGANIZER;CN="Sigrid Hagen":MAILTO:info@wohl-be-hagen.com
END:VEVENT
BEGIN:VEVENT
DTSTART;TZID=Europe/Berlin:20260320T170000
DTEND;TZID=Europe/Berlin:20260320T190000
DTSTAMP:20260423T193349
CREATED:20250213T194407Z
LAST-MODIFIED:20260121T074308Z
UID:20179-1774026000-1774033200@fnl.at
SUMMARY:FNL Kräutertreff: Kraft der Pflanzen - Hilfe bei Schmerzen und Infekten
DESCRIPTION:FNL Kräutertreff: Kraft der Pflanzen – Hilfe bei Schmerzen und Infekten\nPflanzen können uns bei Schmerzen und Infekten auf sanfte Weise unterstützen. Erfahre\, welche Heilpflanzen schmerzlindernde oder antibiotische Wirkung haben und wie du sie einfach im Alltag anwenden kannst. \nTermin:\nFreitag\, 20. März 2026 \nDauer:\n17:00 – ca. 19:00 Uhr \nKursort:\nObere Kellergasse 19\, 2213 Bockfließ \nKostenbeitrag:\n€14\,- pro Person / €12\,- für FNL Mitglieder \nInformation und Anmeldung:\nClaudia Wurmitzer\, FNL Ortsleitung & FNL Kräuterexpertin\nTel.: 0676 / 73 43 017\nclaudia@daswildegruen.at \nteilen teilen teilen teilen teilen E-Mail 
URL:https://fnl.at/veranstaltung/fnl-kraeutertreff-kraft-der-pflanzen/
LOCATION:Obere Kellergasse 21\, 2213 Bockfließ\, Obere Kellergasse 21\, Bockfließ\, Niederösterreich\, 2213
CATEGORIES:Niederösterreich
ATTACH;FMTTYPE=image/jpeg:https://fnl.at/wp-content/uploads/2023/02/Arnika-1.jpg
ORGANIZER;CN="Claudia Wurmitzer":MAILTO:daswildegruen@a1.net
END:VEVENT
BEGIN:VEVENT
DTSTART;TZID=Europe/Berlin:20260320T170000
DTEND;TZID=Europe/Berlin:20260320T200000
DTSTAMP:20260423T193349
CREATED:20250709T084541Z
LAST-MODIFIED:20260112T103915Z
UID:22148-1774026000-1774036800@fnl.at
SUMMARY:FNL Akademie: !WARTELISTE! Abendseminar mit Dr. Kurt Rakobitsch: Lerne den Umgang mit der Einhandrute und hol dir Unterstützung in dein Leben
DESCRIPTION:Lerne den Umgang mit der Einhandrute und hol dir Unterstützung in dein Leben \nderzeit ausgebucht nur noch Warteliste möglich \n*** \nAbendseminar mit dem Human-\, Raumenergetiker und Naturwissenschaftler Dr. Kurt Rakobitsch \n *** \nWas erwartet dich: \nDas Erlernen des Austestens von Lebensmitteln\, Nahrungsergänzungen\, Globuli\, Kosmetika\, Tinkturen hinsichtlich der individuellen Verträglichkeit oder des Bedarfes sowie des Austestens des Arbeits- und des Bettplatzes für einen erholsamen Schlaf. Dazu zählen die verschiedenen Arten von Tests\, der Handtest vor Ort\, die Messung von rechts- und linksdrehenden Produkten und deren Aussagekraft\, der Beziehungstest für sich selbst und für andere Personen\, das Testen der Vitalität von Produkten und von Heilzeichen als einfache energetische Notfallsapotheke.\n Der Umgang mit der Einhandrute ist eine absolute Bereicherung im Leben und hilft in den unterschiedlichsten Lebenssituationen\, zum persönlichen Wohlbefinden zu gelangen. \nDie Einhandruten werden vor Ort zur Verfügung gestellt. Sollten sie bereits welche besitzen\, können diese gerne mitgebracht werden. Die bereitgestellten Einhandruten können auch gerne am Seminarende erworben werden. \nBringe zum Austesten gerne deine Persönlichen Produkte wie z.B. eigene Kosmetika\, Lebensmittel\, Nahrungsergänzung\, etc. \n\nTermin: Warteliste\nFreitag\, 20. März 2026 \nUhrzeit:\n17:00 – 20:00 Uhr \nVeranstaltungsort:\nFNL Kompetenzzentrum naturgemäßer Lebensweise . Schloss Hunnenbrunn \nSeminarkosten:\n€ 39.- für FNL Mitglieder\n€ 49.- ohne FNL Mitgliedschaft \nDas Seminar findet ab einer Teilnehmeranzahl von 10 Personen statt! \nBuchungsinfo:\nAnmeldung erforderlich – begrenzte Teilnehmerzahl!\nJETZT BUCHEN! \n\nDer Referent \n \nDr. Kurt Rakobitsch \n1960 wurde ich in Klagenfurt geboren. \nNach meiner Schulzeit studierte ich Biologie und Chemie an der Karl Franzens Universität in Graz. \nVon 1986 bis 2021 arbeitete ich bis zur meiner Pensionierung beim Amt der Kärntner Landesregierung im Bereich der Orts- und Regionalentwicklung.\nVon 2009 an habe ich gemeinsam mit meiner Frau Elke das Ausbildungsprogramm der „Schule der Geistheilung nach Horst Krohne®“ absolviert.\n2011 begann ich eine mehrjährige Ausbildung  im Bereich Sensitivität und Medialität und für Geistige Heilweisen. \nEs folgten jahrelang Fortbildungen am Arthur Findley College in Stansted/England\, am De Zwanenhof in Holland\, am house of spirit in Hannover und weiteren Bildungsstätten in Europa.\nDazu zählen auch Fortbildungen im Bereich Raumenergetik. \nSeit 2012 arbeite ich gemeinsam mit meiner Frau Elke in unserer Praxis für energetische Heilweisen in Maria Saal (Balance & spiritual healing). \nwww.spiritualhealing.at \nteilen teilen teilen teilen teilen E-Mail 
URL:https://fnl.at/veranstaltung/fnl-akademie-abendseminar-mit-dr-kurt-rakobitsch-lerne-den-umgang-mit-der-einhandrute-und-hol-dir-unterstuetzung-in-dein-leben/
LOCATION:Kompetenzzentrum für naturgemäße Lebensweise . Schloss Hunnenbrunn\, Schlossweg 2\, St. Veit an der Glan\, Kärnten\, 9300\, Austria
CATEGORIES:02 Weiterbildungen,FNL Kräuterakademie nach Ignaz Schlifni
ATTACH;FMTTYPE=image/png:https://fnl.at/wp-content/uploads/2025/07/Einhandrute_edited.png
END:VEVENT
BEGIN:VEVENT
DTSTART;TZID=Europe/Berlin:20260320T190000
DTEND;TZID=Europe/Berlin:20260320T203000
DTSTAMP:20260423T193349
CREATED:20260105T211335Z
LAST-MODIFIED:20260105T211335Z
UID:25057-1774033200-1774038600@fnl.at
SUMMARY:FNL Kräutertreff VORTRAG: Die Kraft der Knospen
DESCRIPTION:FNL Kräutertreff VORTRAG: Die Kraft der Knospen\nMit Manuela Reisinger\, Sabine Schenk und Elisabeth Maringer \nKnospen erkennen und bestimmen. Gemeinsam stellen wir verschiedene Mittel aus Knospen von heimischen Bäumen und Sträuchern her. \nTermin:\nFreitag\, 20. März 2026 \nBeginn:\n19 Uhr \nOrt:\nGasthaus Bergwirt Schrammel\, Moidrams 1 . 3910 Zwettl \nKosten:\nFNL Mitglieder € 12\,- / Nichtmitglieder € 14\,- \nKeine Anmeldung erforderlich! \nInformationen:\nSabine Schenk\, Tel. 0664 88 311 513\, email: sabine.schenk@aon.at oder Elisabeth Maringer\, Tel. 0664/75 08 43 90\, email: liesi.maringer@gmail.com\noder bei Manuela Reisinger\, FNL Ortsleitung Stellv.\, Tel. 0650/36 43 269\, Email: nordwaldkraeuterhexe@gmail.com \nteilen teilen teilen teilen teilen E-Mail 
URL:https://fnl.at/veranstaltung/fnl-kraeutertreff-vortrag-die-kraft-der-knospen-2/
LOCATION:Gasthaus Bergwirt Schrammel\, Zwettl\, Moidrams 1\, Zwettl\, Niederösterreich\, 3910\, Austria
CATEGORIES:Niederösterreich
ATTACH;FMTTYPE=image/jpeg:https://fnl.at/wp-content/uploads/2025/04/Knospen.jpg
ORGANIZER;CN="Manuela Reisinger":MAILTO:nordwaldkraeuterhexe@gmail.com
END:VEVENT
END:VCALENDAR