BEGIN:VCALENDAR
VERSION:2.0
PRODID:-//FNL - Freunde Naturgemäßer Lebensweise - ECPv6.15.20//NONSGML v1.0//EN
CALSCALE:GREGORIAN
METHOD:PUBLISH
X-WR-CALNAME:FNL - Freunde Naturgemäßer Lebensweise
X-ORIGINAL-URL:https://fnl.at
X-WR-CALDESC:Veranstaltungen für FNL - Freunde Naturgemäßer Lebensweise
REFRESH-INTERVAL;VALUE=DURATION:PT1H
X-Robots-Tag:noindex
X-PUBLISHED-TTL:PT1H
BEGIN:VTIMEZONE
TZID:Europe/Berlin
BEGIN:DAYLIGHT
TZOFFSETFROM:+0100
TZOFFSETTO:+0200
TZNAME:CEST
DTSTART:20250330T010000
END:DAYLIGHT
BEGIN:STANDARD
TZOFFSETFROM:+0200
TZOFFSETTO:+0100
TZNAME:CET
DTSTART:20251026T010000
END:STANDARD
BEGIN:DAYLIGHT
TZOFFSETFROM:+0100
TZOFFSETTO:+0200
TZNAME:CEST
DTSTART:20260329T010000
END:DAYLIGHT
BEGIN:STANDARD
TZOFFSETFROM:+0200
TZOFFSETTO:+0100
TZNAME:CET
DTSTART:20261025T010000
END:STANDARD
BEGIN:DAYLIGHT
TZOFFSETFROM:+0100
TZOFFSETTO:+0200
TZNAME:CEST
DTSTART:20270328T010000
END:DAYLIGHT
BEGIN:STANDARD
TZOFFSETFROM:+0200
TZOFFSETTO:+0100
TZNAME:CET
DTSTART:20271031T010000
END:STANDARD
END:VTIMEZONE
BEGIN:VEVENT
DTSTART;TZID=Europe/Berlin:20260305T150000
DTEND;TZID=Europe/Berlin:20260305T180000
DTSTAMP:20260423T210651
CREATED:20250703T083135Z
LAST-MODIFIED:20260225T082020Z
UID:22093-1772722800-1772733600@fnl.at
SUMMARY:FNL Akademie: WORKSHOP: Osterfilzen für Alle
DESCRIPTION:Osterfilzen für alle \nWorkshop mit Karin Müllner \n***\nGemeinsames Filzen mit der Nadel für Erwachsene und Kinder (ab 6 Jahren in Begleitung eines Erwachsenen) \n*** \n\nIn diesem Workshop kannst du deiner Kreativität freien Lauf lassen und wunderschöne\, frühlingshafte\nKunstwerke für dein zu Hause kreieren! \nNach einer ausführlichen Info zum Thema Nadelfilzen\, Woll- bzw. Materialbeschaffung werden individuell Ostereier\, (Oster)Hasen\, Küken\, Hühner\, Blüten\, Türkränze und Frühlingsschmuck gefilzt.\nDabei bleiben die Hände trocken und sauber. Keine Vorkenntnisse nötig! Lassen dich von der Filzsucht anstecken!\nDie gefertigten Werke dürfen selbstverständlich mit nach Hause genommen werden. \n\n\nTermin:\nDonnerstag\, 05. März 2026 \nUhrzeit:\n15:00 – 18:00Uhr \nVeranstaltungsort:\nFNL Kompetenzzentrum naturgemäßer Lebensweise . Schloss Hunnenbrunn \nSeminarkosten:\n€ 25.–  für FNL Mitglieder\n€ 35.– ohne Mitgliedschaft\nzzgl. € 6.- pro Person für Materialkosten (direkt vor Ort bei der Referentin zu entrichten) \nDer Workshop findet ab  einer Teilnehmeranzahl von 10 Personen statt! \n \nBuchungsinfo:\nAnmeldung erforderlich – begrenzte Teilnehmerzahl!\nJETZT BUCHEN! \n\nDie Referentin \nKarin Müllner \nFilz & Kraut\, Filzbuchautorin\, FNL-Kräuterexpertin \nSeit ca. 10 Jahren beschäftige ich mich intensiv mit dem Nadelfilzen\, habe seither schon zahlreiche Filzworkshops für Erwachsene und Kinder ab 6 Jahren in ganz Kärnten abgehalten.\nAls Referentin war bzw. bin ich für das Kärntner Bildungswerk\, Katholische Bildungswerk\, Katholische Familienwerk\, Kneipp Verein\, VHS Ebenthal und das Eltern-Kind-Zentrum in Klagenfurt tätig. \nIm Jahr 2014 begann ich berufsbegleitend mit meiner zweijährigen Ausbildung zur FNL-Kräuterexpertin an der FNL-Kräuterakademie und schloss im Sommer 2016 diese Ausbildung mit meinem Diplom mit Auszeichnung ab.\nIm Jänner 2022 besuchte ich die FNL-Spezialausbildung zur FNL-Knospenexpertin und konnte auch diese mit einem Diplom abschließen. \nMeine Leidenschaft gilt dem Nadelfilzen und den Wildkräutern. \nhttps://filzundkraut \nteilen teilen teilen teilen teilen E-Mail 
URL:https://fnl.at/veranstaltung/fnl-akademie-workshop-osterfilzen-fuer-alle/
LOCATION:Kompetenzzentrum für naturgemäße Lebensweise . Schloss Hunnenbrunn\, Schlossweg 2\, St. Veit an der Glan\, Kärnten\, 9300\, Austria
CATEGORIES:02 Weiterbildungen,FNL Kräuterakademie nach Ignaz Schlifni
ATTACH;FMTTYPE=image/jpeg:https://fnl.at/wp-content/uploads/2025/07/Nadelfilzen-Ostern.jpg
END:VEVENT
BEGIN:VEVENT
DTSTART;TZID=Europe/Berlin:20260305T183000
DTEND;TZID=Europe/Berlin:20260305T200000
DTSTAMP:20260423T210651
CREATED:20260127T205708Z
LAST-MODIFIED:20260129T085803Z
UID:25990-1772735400-1772740800@fnl.at
SUMMARY:FNL Kräutertreff VORTRAG: Herzensangelegenheiten - wie Frauen ihre Herzgesundheit stärken können
DESCRIPTION:FNL Kräutertreff VORTRAG: Herzensangelegenheiten – wie Frauen ihre Herzgesundheit stärken können\nVortragende: Frau Magistra Marlene Pretis-Schader \nMagistra Pretis-Schader ist wissenschaftliche Mitarbeiterin zu Frauengesundheit und Gesundheitskompetenz im Frauengesundheitszentrum in Graz. Gemeinsam schauen wir uns an\, warum Frauenherzen anders schlagen\, wie wir Warnsignale richtig deuten und mit welchen kleinen Schritten wir unseren wichtigsten Motor gesund halten. \nTermin:\nDonnerstag\, 5. März 2026 \nBeginn:\n18.30 Uhr \nOrt:\nGH „die Theke“ in St. Marein bei Graz \nKosten:\n€ 12\,00 / Person \nInfos & Anmeldungen:\nErika Leopold\, FNL Kräuterbotschafterin;\nemail: e.leopold@gmx.at oder Tel. 0676 690 35 72 \nteilen teilen teilen teilen teilen E-Mail 
URL:https://fnl.at/veranstaltung/fnl-kraeutertreff-vortrag-herzensangelegenheiten-wie-frauen-ihre-herzgesundheit-staerken-koennen/
LOCATION:Gasthaus „Zur Theke“\, Markt 19\, St. Marein bei Graz\, Steiermark\, 8323\, Austria
CATEGORIES:Steiermark
ATTACH;FMTTYPE=image/jpeg:https://fnl.at/wp-content/uploads/2025/02/Natur-3.jpg
END:VEVENT
END:VCALENDAR