BEGIN:VCALENDAR
VERSION:2.0
PRODID:-//FNL - Freunde Naturgemäßer Lebensweise - ECPv6.15.20//NONSGML v1.0//EN
CALSCALE:GREGORIAN
METHOD:PUBLISH
X-WR-CALNAME:FNL - Freunde Naturgemäßer Lebensweise
X-ORIGINAL-URL:https://fnl.at
X-WR-CALDESC:Veranstaltungen für FNL - Freunde Naturgemäßer Lebensweise
REFRESH-INTERVAL;VALUE=DURATION:PT1H
X-Robots-Tag:noindex
X-PUBLISHED-TTL:PT1H
BEGIN:VTIMEZONE
TZID:Europe/Berlin
BEGIN:DAYLIGHT
TZOFFSETFROM:+0100
TZOFFSETTO:+0200
TZNAME:CEST
DTSTART:20240331T010000
END:DAYLIGHT
BEGIN:STANDARD
TZOFFSETFROM:+0200
TZOFFSETTO:+0100
TZNAME:CET
DTSTART:20241027T010000
END:STANDARD
BEGIN:DAYLIGHT
TZOFFSETFROM:+0100
TZOFFSETTO:+0200
TZNAME:CEST
DTSTART:20250330T010000
END:DAYLIGHT
BEGIN:STANDARD
TZOFFSETFROM:+0200
TZOFFSETTO:+0100
TZNAME:CET
DTSTART:20251026T010000
END:STANDARD
BEGIN:DAYLIGHT
TZOFFSETFROM:+0100
TZOFFSETTO:+0200
TZNAME:CEST
DTSTART:20260329T010000
END:DAYLIGHT
BEGIN:STANDARD
TZOFFSETFROM:+0200
TZOFFSETTO:+0100
TZNAME:CET
DTSTART:20261025T010000
END:STANDARD
END:VTIMEZONE
BEGIN:VEVENT
DTSTART;TZID=Europe/Berlin:20251204T190000
DTEND;TZID=Europe/Berlin:20251204T200000
DTSTAMP:20260423T102654
CREATED:20250603T114453Z
LAST-MODIFIED:20251203T084924Z
UID:21790-1764874800-1764878400@fnl.at
SUMMARY:FNL Kräutertreff Ursprung: Weihnachtstammtisch
DESCRIPTION:FNL Kräutertreff Ursprung: Weihnachtstammtisch\nDie Ortsgruppe Zum Ursprung der Kräuter trifft sich regelmäßig um Erfahrungen auszutauschen und Wissen zu erweitern.  \nWer möchte\, kann seine selbstgemachten Highlights des Kräuterjahres zum Verkosten mitbringen. \n \nTermin:\nDO\, 04.12.25 \nBeginn:\n19 Uhr \nOrt:\nGH Haberl\, 3392 Ursprung \nKosten:\nKostenfrei \n \nEs freut sich das Kräuterstammtisch Team „Zum Ursprung der Kräuter“ \n \nInformationen:\nJenny\, Edith\, Sonja\, Veronika\, Anna und Silvia\nOrtsgruppe Zum Ursprung der Kräuter \nteilen teilen teilen teilen teilen E-Mail 
URL:https://fnl.at/veranstaltung/fnl-kraeutertreff-ursprung-weihnachtsfeier-jahresrueckblick/
LOCATION:Gasthaus Haberl\, Ursprung 13\, Dunkelsteinerwald\, Niederösterreich\, 3392\, Austria
CATEGORIES:Niederösterreich
ATTACH;FMTTYPE=image/jpeg:https://fnl.at/wp-content/uploads/2025/06/Weihnacht-Advent.jpg
END:VEVENT
BEGIN:VEVENT
DTSTART;TZID=Europe/Berlin:20251204T190000
DTEND;TZID=Europe/Berlin:20251204T210000
DTSTAMP:20260423T102654
CREATED:20251128T071905Z
LAST-MODIFIED:20251202T115517Z
UID:23976-1764874800-1764882000@fnl.at
SUMMARY:FNL Kräutertreff WEBINAR: Hormonbalance & innere Leuchtkraft
DESCRIPTION:FNL Kräutertreff WEBINAR: Hormonbalance & innere Leuchtkraft\nmit Barbara Pühringer & Birgit Lanz \n \n \nDein Weg zu neuer Energie und weiblicher Stärke \n \nWas dich beim Online Seminar erwartet: \n• Hormonbalance: Spannende Einblicke in dein Hormonsystem  \n• Powerfrühstück: Nährstoffreiche Kombination für einen energiegeladenen Start in den Tag \n• Pflanzenkraft erleben: Löwenzahn & Granatapfel für deine Hormone – inklusive genussvoller Verkostung & inspirierender Pflanzenreise \n• Superfood Grünkohl – nährende Energie zum Tagesausklang \n• Körperübungen & sanfte Hypnose: Speziell abgestimmt auf hormonelle Balance\, innere Ruhe und Regeneration \nDieses Programm ist eine Einladung an dich\, deine weibliche Stärke zu entfalten\, deine innere Leuchtkraft zu spüren und gleichzeitig praktische Tools für Alltag und Selbstpflege mitzunehmen. \n \nTermin:\nDonnerstag\, 04. Dezember 2025 \nUhrzeit:\n19:00 – 21:00 Uhr \nOrt:\nOnline-Webinar ZOOM \nKosten:\n€ 33\,- pro Person \nOrganisatorische Abwicklung (Punkt 1 und 2 sind unbedingt erforderlich):\n1. Email oder telef. Anmeldung bis spätestens 03. Dez. 2025 bei Barbara Pühringer\, der Link zum Webinar wird verschickt\, wenn wir deine Email-Adresse haben und die Seminargebühren am Konto lautend Barbara Pühringer eingelangt sind. Tel: 0681-81964137\, info@manufaktur-arnika.at\n2. Einzahlung der € 33\,– auf das Konto von Barbara Pühringer: AT932032032100742109\, BIC: ASPKAT2LXXX (Sparkasse Oberösterreich Bank AG; Konto lautend auf Mag.rer.nat. Barbara Maria Monika Pühringer) Verwendungszweck: Hormonbalance\n3. Empfehlung: Zoomprogramm vorher aktivieren bzw. eine ½ Std. vor Webinarbeginn einsteigen\, wenn man das erste Mal an einem Webinar teilnimmt. \nInformationen & Anmeldung (bitte bis 03.12.2025):\nMag. Barbara Pühringer\, Referentin der FNL Kräuterakademie\, Tel: 0681-81964137\, info@manufaktur-arnika.at \nteilen teilen teilen teilen teilen E-Mail 
URL:https://fnl.at/veranstaltung/fnl-kraeutertreff-webinar-hormonbalance-innere-leuchtkraft/
LOCATION:Online Zoom Link laut Anmeldung
CATEGORIES:01 ONLINE
ATTACH;FMTTYPE=image/jpeg:https://fnl.at/wp-content/uploads/2025/02/Natur-3.jpg
ORGANIZER;CN="Mag. Barbara P%C3%BChringer":MAILTO:info@manufaktur-arnika.at
END:VEVENT
END:VCALENDAR