BEGIN:VCALENDAR
VERSION:2.0
PRODID:-//FNL - Freunde Naturgemäßer Lebensweise - ECPv6.15.20//NONSGML v1.0//EN
CALSCALE:GREGORIAN
METHOD:PUBLISH
X-ORIGINAL-URL:https://fnl.at
X-WR-CALDESC:Veranstaltungen für FNL - Freunde Naturgemäßer Lebensweise
REFRESH-INTERVAL;VALUE=DURATION:PT1H
X-Robots-Tag:noindex
X-PUBLISHED-TTL:PT1H
BEGIN:VTIMEZONE
TZID:Europe/Berlin
BEGIN:DAYLIGHT
TZOFFSETFROM:+0100
TZOFFSETTO:+0200
TZNAME:CEST
DTSTART:20240331T010000
END:DAYLIGHT
BEGIN:STANDARD
TZOFFSETFROM:+0200
TZOFFSETTO:+0100
TZNAME:CET
DTSTART:20241027T010000
END:STANDARD
BEGIN:DAYLIGHT
TZOFFSETFROM:+0100
TZOFFSETTO:+0200
TZNAME:CEST
DTSTART:20250330T010000
END:DAYLIGHT
BEGIN:STANDARD
TZOFFSETFROM:+0200
TZOFFSETTO:+0100
TZNAME:CET
DTSTART:20251026T010000
END:STANDARD
BEGIN:DAYLIGHT
TZOFFSETFROM:+0100
TZOFFSETTO:+0200
TZNAME:CEST
DTSTART:20260329T010000
END:DAYLIGHT
BEGIN:STANDARD
TZOFFSETFROM:+0200
TZOFFSETTO:+0100
TZNAME:CET
DTSTART:20261025T010000
END:STANDARD
END:VTIMEZONE
BEGIN:VEVENT
DTSTART;TZID=Europe/Berlin:20251202T180000
DTEND;TZID=Europe/Berlin:20251202T193000
DTSTAMP:20260421T115031
CREATED:20251013T180459Z
LAST-MODIFIED:20251014T075026Z
UID:23342-1764698400-1764703800@fnl.at
SUMMARY:FNL Kräutertreff: Selbstfürsorge & Selbstmitgefühl - Innere Wärme im Winter finden
DESCRIPTION:FNL Kräutertreff: Selbstfürsorge & Selbstmitgefühl – Innere Wärme im Winter finden\nVortragende: Ulrike Zika MSc\, Trainerin & Autorin\, Mindful Self-Care\, Resilienz & sozial-emotionale Kompetenz für Führungskräfte & Teams \nWenn die Natur sich zurückzieht\, lädt der Winter auch uns ein\, achtsamer mit unseren Kräften umzugehen. Dieser interaktive Abend bietet Impulse und kleine Übungen\, die helfen\, Freundlichkeit mit sich selbst zu kultivieren und neue Energie aus Achtsamkeit und Naturverbundenheit zu schöpfen. \nTermin:\nDienstag\, 02. Dezember 2025 \nDauer:\n18:00 – 19:30 Uhr \nOrt:\nAm Kaisermühlendamm 107/213\, 1220 Wien \nEintritt:\n15 EUR \nInformationen & Anmeldung:\nMag. Monika Brunner\, FNL Landesleitung Wien\,\nTel. 0664 28 28 994\, email: monika.salzer@gmx.net \nteilen teilen teilen teilen teilen E-Mail 
URL:https://fnl.at/veranstaltung/fnl-kraeutertreff-selbstfuersorge-selbstmitgefuehl-innere-waerme-im-winter-finden/
LOCATION:Am Kaisermühlendamm 107/213\, 1220 Wien\, Am Kaisermühlendamm 107/213\, Wien\, Wien\, 1220\, Austria
CATEGORIES:Wien
ATTACH;FMTTYPE=image/png:https://fnl.at/wp-content/uploads/2024/11/Winter-5.png
ORGANIZER;CN="Monika Brunner":MAILTO:monika.salzer@gmx.net
END:VEVENT
END:VCALENDAR