BEGIN:VCALENDAR
VERSION:2.0
PRODID:-//FNL - Freunde Naturgemäßer Lebensweise - ECPv6.15.20//NONSGML v1.0//EN
CALSCALE:GREGORIAN
METHOD:PUBLISH
X-ORIGINAL-URL:https://fnl.at
X-WR-CALDESC:Veranstaltungen für FNL - Freunde Naturgemäßer Lebensweise
REFRESH-INTERVAL;VALUE=DURATION:PT1H
X-Robots-Tag:noindex
X-PUBLISHED-TTL:PT1H
BEGIN:VTIMEZONE
TZID:Europe/Berlin
BEGIN:DAYLIGHT
TZOFFSETFROM:+0100
TZOFFSETTO:+0200
TZNAME:CEST
DTSTART:20240331T010000
END:DAYLIGHT
BEGIN:STANDARD
TZOFFSETFROM:+0200
TZOFFSETTO:+0100
TZNAME:CET
DTSTART:20241027T010000
END:STANDARD
BEGIN:DAYLIGHT
TZOFFSETFROM:+0100
TZOFFSETTO:+0200
TZNAME:CEST
DTSTART:20250330T010000
END:DAYLIGHT
BEGIN:STANDARD
TZOFFSETFROM:+0200
TZOFFSETTO:+0100
TZNAME:CET
DTSTART:20251026T010000
END:STANDARD
BEGIN:DAYLIGHT
TZOFFSETFROM:+0100
TZOFFSETTO:+0200
TZNAME:CEST
DTSTART:20260329T010000
END:DAYLIGHT
BEGIN:STANDARD
TZOFFSETFROM:+0200
TZOFFSETTO:+0100
TZNAME:CET
DTSTART:20261025T010000
END:STANDARD
END:VTIMEZONE
BEGIN:VEVENT
DTSTART;TZID=Europe/Berlin:20251115T170000
DTEND;TZID=Europe/Berlin:20251121T193000
DTSTAMP:20260421T132402
CREATED:20251030T100825Z
LAST-MODIFIED:20251030T101225Z
UID:23815-1763226000-1763753400@fnl.at
SUMMARY:FNL Kräutertreff: Basisworkshop "RÄUCHERN mit Sinn"
DESCRIPTION:FNL Kräutertreff: Basisworkshop „RÄUCHERN mit Sinn“\nWenn die Tage kürzer werden und die Dunkelheit einkehrt\, ist es Zeit\, Altes loszulassen und neue Klarheit zu schaffen.\nRäuchern ist eine alte\, wirkungsvolle Methode zur energetischen Reinigung – für Haus\, Wohnung und Hof\, aber auch für dich selbst. \nIn diesem Workshop erfährst du: \n🌿 wie und womit man richtig räuchert\n🏡 wie du dein Zuhause mit Rauch klärst und harmonisierst\n✨ welche Kräuter\, Harze und Hölzer sich wofür eignen\n🌙 wie du dich auf die Rauhnächte vorbereiten kannst \nTermin:\n15. oder 21. November 2025 \nBeginn:\njeweils 17 Uhr \nDauer:\nca. 2 – 2\,5 Stunden \nOrt:\nSt. Peter 102\, 9863 Rennweg \nEnergieausgleich:\nFNL- Mitglieder € 30\,- / Nicht- Mitglieder € 35\,-  inkl. Unterlagen & kleiner Räuchermischung \nInformationen & Anmeldung:\nDiana Cottogni\, FNL Ortsleitung\, Tel. 0676 749 21 21 \nAlle Materialien werden gestellt – du brauchst nichts mitzubringen. Lass dich vom Duft des Rauchs begleiten\, bringe Licht und Klarheit in deine Räume – und öffne dich für die Magie der stillen Zeit. \nteilen teilen teilen teilen teilen E-Mail 
URL:https://fnl.at/veranstaltung/fnl-kraeutertreff-basisworkshop-raeuchern-mit-sinn/
LOCATION:Cottogni\, Rennweg\, St. Peter 102\, Rennweg\, Kärnten\, 9863\, Austria
CATEGORIES:Kärnten
ATTACH;FMTTYPE=image/jpeg:https://fnl.at/wp-content/uploads/2025/03/Raeuchern-7.jpg
END:VEVENT
BEGIN:VEVENT
DTSTART;TZID=Europe/Berlin:20251119T190000
DTEND;TZID=Europe/Berlin:20251119T210000
DTSTAMP:20260421T132402
CREATED:20250110T223603Z
LAST-MODIFIED:20250811T055030Z
UID:19820-1763578800-1763586000@fnl.at
SUMMARY:FNL Kräutertreff:  Stubaital und Wipptal
DESCRIPTION:Kräuterstammtisch Stubaital und Wipptal\nDer Stammtisch soll ein regelmäßiges Treffen jeden 2. Monat für Leute sein\, die sich für Natur und Pflanzen der Umgebung interessieren. Gleichgesinnte können hier ihr Wissen weitergeben und Erfahrungen austauschen. \nTermine:\n19. November 2025 – Thumeserhof/Wipptal \nUhrzeit:\n19 – 21 Uhr \nOrt\nSubaital: Margret Lener\, Obere Gasse 11 \, 6142 Mieders\nWipptal: Thumeserhof\, Wildlahner 18\, 6154 Schmirn \nAnmeldung und Infos:\nHany Plattner Dvorak\, FNL Kräuterexpertin & FNL Ortsleitung\nEmail:  kraeuterreich@wildlahner.at; Tel. 0680 326 36 60\nMargret Lener\, FNL Kräuterexpertin & FNL Ortsleitung\nTel. 06660 129 47 37\, Email: margret.lener@icloud.com \nteilen teilen teilen teilen teilen E-Mail 
URL:https://fnl.at/veranstaltung/kraeuterstammtisch-stubaital-und-wipptal-6/
LOCATION:Thumeserhof\, Schmirn\, Wildlahner 18\, Schmirn\, Tirol\, 6154\, Austria
CATEGORIES:Tirol
ATTACH;FMTTYPE=image/png:https://fnl.at/wp-content/uploads/2024/11/Winter-6.png
ORGANIZER;CN="Hany Plattner Dvorak":MAILTO:kraeuterreich@wildlahner.at
END:VEVENT
END:VCALENDAR