BEGIN:VCALENDAR
VERSION:2.0
PRODID:-//FNL - Freunde Naturgemäßer Lebensweise - ECPv6.15.20//NONSGML v1.0//EN
CALSCALE:GREGORIAN
METHOD:PUBLISH
X-WR-CALNAME:FNL - Freunde Naturgemäßer Lebensweise
X-ORIGINAL-URL:https://fnl.at
X-WR-CALDESC:Veranstaltungen für FNL - Freunde Naturgemäßer Lebensweise
REFRESH-INTERVAL;VALUE=DURATION:PT1H
X-Robots-Tag:noindex
X-PUBLISHED-TTL:PT1H
BEGIN:VTIMEZONE
TZID:Europe/Berlin
BEGIN:DAYLIGHT
TZOFFSETFROM:+0100
TZOFFSETTO:+0200
TZNAME:CEST
DTSTART:20240331T010000
END:DAYLIGHT
BEGIN:STANDARD
TZOFFSETFROM:+0200
TZOFFSETTO:+0100
TZNAME:CET
DTSTART:20241027T010000
END:STANDARD
BEGIN:DAYLIGHT
TZOFFSETFROM:+0100
TZOFFSETTO:+0200
TZNAME:CEST
DTSTART:20250330T010000
END:DAYLIGHT
BEGIN:STANDARD
TZOFFSETFROM:+0200
TZOFFSETTO:+0100
TZNAME:CET
DTSTART:20251026T010000
END:STANDARD
BEGIN:DAYLIGHT
TZOFFSETFROM:+0100
TZOFFSETTO:+0200
TZNAME:CEST
DTSTART:20260329T010000
END:DAYLIGHT
BEGIN:STANDARD
TZOFFSETFROM:+0200
TZOFFSETTO:+0100
TZNAME:CET
DTSTART:20261025T010000
END:STANDARD
END:VTIMEZONE
BEGIN:VEVENT
DTSTART;TZID=Europe/Berlin:20251003T150000
DTEND;TZID=Europe/Berlin:20251031T180000
DTSTAMP:20260423T132428
CREATED:20250824T212259Z
LAST-MODIFIED:20250824T212312Z
UID:22672-1759503600-1761933600@fnl.at
SUMMARY:FNL Kräutertreff: Räucherseminar mit Annemarie Zobernig
DESCRIPTION:FNL Kräutertreff: Räucherseminar mit Annemarie Zobernig (Duftklang aus Innsbruck) zum Thema: Grundlagen des Räucherns und den Raunächten\nTermin:\nFreitag 03.10.2025 und Freitag 31.10.2025 \nDauer:\njeweils von 15:00 – 18:00 Uhr \nOrt:\nI-39040 Gasteig/Ratschings \nInfos und Anmeldung:\nChristine Reichsigl\, FNL-Kräuterexpertin\,\nPhytopraktikerin und Kräuterpädagogin Tel. +39 3492951505 \nteilen teilen teilen teilen teilen E-Mail 
URL:https://fnl.at/veranstaltung/fnl-kraeutertreff-raeucherseminar-mit-annemarie-zobernig/
LOCATION:I-39040 Gasteig/Ratschings\, Gasteig/Ratschings\, Südtirol\, 39040\, Italy
CATEGORIES:Italien
ATTACH;FMTTYPE=image/jpeg:https://fnl.at/wp-content/uploads/2025/04/Raeuchern.jpg
END:VEVENT
BEGIN:VEVENT
DTSTART;TZID=Europe/Berlin:20251021T140000
DTEND;TZID=Europe/Berlin:20251021T170000
DTSTAMP:20260423T132428
CREATED:20250814T054044Z
LAST-MODIFIED:20250926T060257Z
UID:22486-1761055200-1761066000@fnl.at
SUMMARY:FNL Kräutertreff: Workshop "Alles Wurzel"
DESCRIPTION:FNL Kräutertreff: Workshop „Alles Wurzel“\nmit Gertrude Kralik\, FNL Kräuterexpertin \nTermin:\nDienstag\, 21. Oktober 2025 \nBeginn:\n14 Uhr \nTreffpunkt:\nRömersiedlung 301\n8850 Murau \nKosten:\n€ 40.- \nANMELDUNG & INFORMATIONEN\nGertrude Kralik . FNL Kräuterexpertin und FNL Stützpunktleitung\nTel. 0677 / 613 116 56\, Email: kralik.g@hotmail.com\nEine Voranmeldung ist unbedingt erforderlich. \nteilen teilen teilen teilen teilen E-Mail 
URL:https://fnl.at/veranstaltung/fnl-kraeutertreff-workshop-alles-wurzel/
LOCATION:Römersiedlung\, 8850 Murau\, Römersiedlung 301\, Murau\, Steiermark\, 8850\, Austria
CATEGORIES:Steiermark
ATTACH;FMTTYPE=image/jpeg:https://fnl.at/wp-content/uploads/2024/01/Wurzel-1.jpg
ORGANIZER;CN="Gertrude Kralik":MAILTO:kralik.g@hotmail.com
END:VEVENT
BEGIN:VEVENT
DTSTART;TZID=Europe/Berlin:20251021T180000
DTEND;TZID=Europe/Berlin:20251021T193000
DTSTAMP:20260423T132428
CREATED:20250625T080808Z
LAST-MODIFIED:20250625T080808Z
UID:21942-1761069600-1761075000@fnl.at
SUMMARY:FNL Kräutertreff: Kräuterstammtisch Ernsthofen
DESCRIPTION:FNL Kräutertreff: Kräuterstammtisch Ernsthofen\nBist Du bereits eine Kräuterfee oder ein Druide und möchtest dich im Kreise Gleichgesinnter austauschen – so bist Du genau richtig bei mir.\nStehst Du am Beginn deiner „persönlichen Kräuterreise“ und bist Du dir noch nicht sicher\, wie Du starten sollst – so bist Du genau richtig bei mir.\nWir treffen uns 1x im Monat und besprechen – der Vegetation entsprechend – verschiedene Kräuter. Wir werden diese Kräuter vor Ort suchen\, besprechen und weiterverarbeiten.\nWir tauschen Rezepte aus – z.B.: für Salben\, Naturkosmetik\, Teemischungen\, Räuchermischungen aber auch Kochrezepte … u.v.m. \nGemeinsam sich das Wissen und die Erfahrungen unserer Vorfahren wieder anzueignen\, zu leben und auch an die nächste Generation weiterzugeben – dies erfüllt mich mit Freude. \nTermine:\nDienstag\, 21.10.25\nDienstag\,  18.11.25 \nBeginn:\njeweils 18 Uhr \nOrt:\nAndrea’s Kräuterschloss\, Loderleiten 25\, 4432 Ernsthofen \nKosten:\n€ 12\,- für FNL Mitglieder / € 15\,- für alle anderen Interessierten \nBei Fragen kannst Du mich jederzeit gerne kontaktieren. \nInfos & Anmeldungen:\nAndrea Weixlbaum\, FNL Kräuterexpertin\nEmail: andrea@weixlbaum.at oder unter Tel. 0676-7602787\, www.kraeuterschloss.at \nteilen teilen teilen teilen teilen E-Mail 
URL:https://fnl.at/veranstaltung/fnl-kraeutertreff-kraeuterstammtisch-ernsthofen-4/
LOCATION:Andrea’s Kräuterschloss\, Loderleiten 25\, Ernsthofen\, Niederösterreich\, 4432\, Austria
CATEGORIES:Niederösterreich
ATTACH;FMTTYPE=image/png:https://fnl.at/wp-content/uploads/2024/12/Herbst.png
ORGANIZER;CN="Andrea Weixlbaum":MAILTO:andrea@weixlbaum.at
END:VEVENT
BEGIN:VEVENT
DTSTART;TZID=Europe/Berlin:20251021T190000
DTEND;TZID=Europe/Berlin:20251021T203000
DTSTAMP:20260423T132428
CREATED:20250206T195151Z
LAST-MODIFIED:20250425T093124Z
UID:20157-1761073200-1761078600@fnl.at
SUMMARY:FNL Kräutertreff: "Stabil durch die dunkle Zeit"
DESCRIPTION:FNL Kräutertreff „Stabil durch die dunkle Zeit“\nmit Elisabeth Fuchs \nKörper\, Geist und Seele in Balance \nTermin:\nDienstag\, 21.10.2025 \nBeginn:\n19 Uhr \nOrt:\nGärtnerei Schützenhofer\, Linzerstr. 32\, 4532 Rohr \nKosten: \nfreiwilliger Energieausgleich \nInformationen:\nBernadette Schützenhofer\, FNL Stützpunktleitung & Kräutergarten\nTel. +43 (0) 7258 2124; E-Mail: schuetzi.garten@aon.at \nteilen teilen teilen teilen teilen E-Mail 
URL:https://fnl.at/veranstaltung/fnl-kraeutertreff-stabil-durch-die-dunkle-zeit/
LOCATION:Kräutergarten Schützenhofer\, Linzerstraße 32\, Rohr im Kremstal\, Oberösterreich\, 4532\, Österreich
CATEGORIES:Oberösterreich
ATTACH;FMTTYPE=image/jpeg:https://fnl.at/wp-content/uploads/2025/03/Koerper.jpg
ORGANIZER;CN="Bernadette Sch%C3%BCtzenhofer":MAILTO:schuetzi.garten@aon.at
END:VEVENT
END:VCALENDAR