BEGIN:VCALENDAR
VERSION:2.0
PRODID:-//FNL - Freunde Naturgemäßer Lebensweise - ECPv6.15.20//NONSGML v1.0//EN
CALSCALE:GREGORIAN
METHOD:PUBLISH
X-ORIGINAL-URL:https://fnl.at
X-WR-CALDESC:Veranstaltungen für FNL - Freunde Naturgemäßer Lebensweise
REFRESH-INTERVAL;VALUE=DURATION:PT1H
X-Robots-Tag:noindex
X-PUBLISHED-TTL:PT1H
BEGIN:VTIMEZONE
TZID:Europe/Berlin
BEGIN:DAYLIGHT
TZOFFSETFROM:+0100
TZOFFSETTO:+0200
TZNAME:CEST
DTSTART:20240331T010000
END:DAYLIGHT
BEGIN:STANDARD
TZOFFSETFROM:+0200
TZOFFSETTO:+0100
TZNAME:CET
DTSTART:20241027T010000
END:STANDARD
BEGIN:DAYLIGHT
TZOFFSETFROM:+0100
TZOFFSETTO:+0200
TZNAME:CEST
DTSTART:20250330T010000
END:DAYLIGHT
BEGIN:STANDARD
TZOFFSETFROM:+0200
TZOFFSETTO:+0100
TZNAME:CET
DTSTART:20251026T010000
END:STANDARD
BEGIN:DAYLIGHT
TZOFFSETFROM:+0100
TZOFFSETTO:+0200
TZNAME:CEST
DTSTART:20260329T010000
END:DAYLIGHT
BEGIN:STANDARD
TZOFFSETFROM:+0200
TZOFFSETTO:+0100
TZNAME:CET
DTSTART:20261025T010000
END:STANDARD
END:VTIMEZONE
BEGIN:VEVENT
DTSTART;TZID=Europe/Berlin:20250919T150000
DTEND;TZID=Europe/Berlin:20250919T190000
DTSTAMP:20260421T203522
CREATED:20250904T071445Z
LAST-MODIFIED:20250907T191844Z
UID:22765-1758294000-1758308400@fnl.at
SUMMARY:FNL Kräutertreff: Workshop „Seifen sieden für Fortgeschrittene. Herstellen von Naturseife im Kaltsiedeverfahren“
DESCRIPTION:FNL Kräutertreff: Workshop „Seifen sieden für Fortgeschrittene. Herstellen von Naturseife im Kaltsiedeverfahren“\nmit Petra Habicher \nTermin:\nFreitag\, 19.09.2025 \nDauer:\n15 – 19 Uhr \nOrt:\nKräutererbe Bacherhof\, Gebreidweg 10A\, IT-39010 NALS \nInformation und Anmeldung:\nJutta Tappeiner Ebner\, FNL-Kräutertreff NALS\nTel. +39 333 8988 638\, E-Mail: bacherhof@gmail.com \nteilen teilen teilen teilen teilen E-Mail 
URL:https://fnl.at/veranstaltung/fnl-kraeutertreff-workshop-seifen-sieden-fuer-fortgeschrittene-herstellen-von-naturseife-im-kaltsiedeverfahren/
LOCATION:Kräutererbe Bacherhof in Nals\, Gebreidweg 10 A\, Nals\, Südtirol\, 39010\, Italy
CATEGORIES:Italien
ATTACH;FMTTYPE=image/jpeg:https://fnl.at/wp-content/uploads/2025/07/Kosmetik.jpg
ORGANIZER;CN="Dr. Jutta Tappeiner Ebner":MAILTO:bacherhof@gmail.com
END:VEVENT
END:VCALENDAR