BEGIN:VCALENDAR
VERSION:2.0
PRODID:-//FNL - Freunde Naturgemäßer Lebensweise - ECPv6.15.20//NONSGML v1.0//EN
CALSCALE:GREGORIAN
METHOD:PUBLISH
X-WR-CALNAME:FNL - Freunde Naturgemäßer Lebensweise
X-ORIGINAL-URL:https://fnl.at
X-WR-CALDESC:Veranstaltungen für FNL - Freunde Naturgemäßer Lebensweise
REFRESH-INTERVAL;VALUE=DURATION:PT1H
X-Robots-Tag:noindex
X-PUBLISHED-TTL:PT1H
BEGIN:VTIMEZONE
TZID:Europe/Berlin
BEGIN:DAYLIGHT
TZOFFSETFROM:+0100
TZOFFSETTO:+0200
TZNAME:CEST
DTSTART:20240331T010000
END:DAYLIGHT
BEGIN:STANDARD
TZOFFSETFROM:+0200
TZOFFSETTO:+0100
TZNAME:CET
DTSTART:20241027T010000
END:STANDARD
BEGIN:DAYLIGHT
TZOFFSETFROM:+0100
TZOFFSETTO:+0200
TZNAME:CEST
DTSTART:20250330T010000
END:DAYLIGHT
BEGIN:STANDARD
TZOFFSETFROM:+0200
TZOFFSETTO:+0100
TZNAME:CET
DTSTART:20251026T010000
END:STANDARD
BEGIN:DAYLIGHT
TZOFFSETFROM:+0100
TZOFFSETTO:+0200
TZNAME:CEST
DTSTART:20260329T010000
END:DAYLIGHT
BEGIN:STANDARD
TZOFFSETFROM:+0200
TZOFFSETTO:+0100
TZNAME:CET
DTSTART:20261025T010000
END:STANDARD
END:VTIMEZONE
BEGIN:VEVENT
DTSTART;TZID=Europe/Berlin:20250501T090000
DTEND;TZID=Europe/Berlin:20250930T170000
DTSTAMP:20260423T135039
CREATED:20250321T102601Z
LAST-MODIFIED:20250423T095424Z
UID:20668-1746090000-1759251600@fnl.at
SUMMARY:FNL Kräutertreff: "Kräuterwanderungen auf Anfrage mit Margit Schlintl"
DESCRIPTION:FNL Kräutertreff Kräuterwanderungen\nauf Anfrage mit Margit Schlintl\nBei einer Kräuter-Erkundungswanderung entdecken wir die Pflanzenvielfalt in deiner Umgebung oder an deinem Lieblingsort. Die Pflanzen\, die dich umgeben\, besitzen oft ein enormes Potenzial für dein Wohlbefinden. Alternativ können wir gemeinsam die Kräuter auf der Dreifaltigkeit am Gray erkunden.\nEs ist eine Mindestteilnehmerzahl von 5 Personen erforderlich. \nZeitraum:\nMai – September 2025 \nKosten:\nnach Vereinbarung zuzüglich Fahrtkosten \nInformationen & Anmeldung:\nMargit Schlintl\, FNL Bezirksleitung\, Tel. 0650 277 12 23 \nteilen teilen teilen teilen teilen E-Mail 
URL:https://fnl.at/veranstaltung/fnl-kraeutertreff-kraeuterwanderungen-mit-margit-schlintl/
LOCATION:St. Veit an der Glan\, St. Veit an\, Kärnten\, 9300\, Austria
CATEGORIES:Kärnten
ATTACH;FMTTYPE=image/jpeg:https://fnl.at/wp-content/uploads/2025/03/Spaziergang.jpg
END:VEVENT
BEGIN:VEVENT
DTSTART;TZID=Europe/Berlin:20250723T190000
DTEND;TZID=Europe/Berlin:20250723T210000
DTSTAMP:20260423T135039
CREATED:20250110T215643Z
LAST-MODIFIED:20250425T075730Z
UID:19814-1753297200-1753304400@fnl.at
SUMMARY:FNL Kräutertreff: Stammtisch Stubaital und Wipptal
DESCRIPTION:FNL Kräutertreff – Stammtisch Stubaital und Wipptal\nDer Stammtisch soll ein regelmäßiges Treffen jeden 2. Monat für Leute sein\, die sich für Natur und Pflanzen der Umgebung interessieren. Gleichgesinnte können hier ihr Wissen weitergeben und Erfahrungen austauschen. \nTermine:\n23. Juli 2025 – Thumeserhof/Wipptal\n24. Sept. 2025 – Mieders/Stubaital\n19. November 2025 – Thumeserhof/Wipptal \nUhrzeit:\n19 – 21 Uhr \nOrt\nSubaital: Margret Lener\, Obere Gasse 11 \, 6142 Mieders\nWipptal: Thumeserhof\, Wildlahner 18\, 6154 Schmirn \nAnmeldung und Infos:\nHany Plattner Dvorak\, FNL Kräuterexpertin & FNL Ortsleitung\nEmail:  kraeuterreich@wildlahner.at; Tel. 0680 326 36 60\nMargret Lener\, FNL Kräuterexpertin & FNL Ortsleitung\nTel. 06660 129 47 37\, Email: margret.lener@icloud.com \nteilen teilen teilen teilen teilen E-Mail 
URL:https://fnl.at/veranstaltung/kraeuterstammtisch-stubaital-und-wipptal-4/
LOCATION:Thumeserhof\, Schmirn\, Wildlahner 18\, Schmirn\, Tirol\, 6154\, Austria
CATEGORIES:Tirol
ATTACH;FMTTYPE=image/jpeg:https://fnl.at/wp-content/uploads/2025/02/Biene-2.jpg
ORGANIZER;CN="Hany Plattner Dvorak":MAILTO:kraeuterreich@wildlahner.at
END:VEVENT
END:VCALENDAR