BEGIN:VCALENDAR
VERSION:2.0
PRODID:-//FNL - Freunde Naturgemäßer Lebensweise - ECPv6.15.20//NONSGML v1.0//EN
CALSCALE:GREGORIAN
METHOD:PUBLISH
X-ORIGINAL-URL:https://fnl.at
X-WR-CALDESC:Veranstaltungen für FNL - Freunde Naturgemäßer Lebensweise
REFRESH-INTERVAL;VALUE=DURATION:PT1H
X-Robots-Tag:noindex
X-PUBLISHED-TTL:PT1H
BEGIN:VTIMEZONE
TZID:Europe/Berlin
BEGIN:DAYLIGHT
TZOFFSETFROM:+0100
TZOFFSETTO:+0200
TZNAME:CEST
DTSTART:20240331T010000
END:DAYLIGHT
BEGIN:STANDARD
TZOFFSETFROM:+0200
TZOFFSETTO:+0100
TZNAME:CET
DTSTART:20241027T010000
END:STANDARD
BEGIN:DAYLIGHT
TZOFFSETFROM:+0100
TZOFFSETTO:+0200
TZNAME:CEST
DTSTART:20250330T010000
END:DAYLIGHT
BEGIN:STANDARD
TZOFFSETFROM:+0200
TZOFFSETTO:+0100
TZNAME:CET
DTSTART:20251026T010000
END:STANDARD
BEGIN:DAYLIGHT
TZOFFSETFROM:+0100
TZOFFSETTO:+0200
TZNAME:CEST
DTSTART:20260329T010000
END:DAYLIGHT
BEGIN:STANDARD
TZOFFSETFROM:+0200
TZOFFSETTO:+0100
TZNAME:CET
DTSTART:20261025T010000
END:STANDARD
END:VTIMEZONE
BEGIN:VEVENT
DTSTART;TZID=Europe/Berlin:20250501T090000
DTEND;TZID=Europe/Berlin:20250930T170000
DTSTAMP:20260421T144034
CREATED:20250321T102601Z
LAST-MODIFIED:20250423T095424Z
UID:20668-1746090000-1759251600@fnl.at
SUMMARY:FNL Kräutertreff: "Kräuterwanderungen auf Anfrage mit Margit Schlintl"
DESCRIPTION:FNL Kräutertreff Kräuterwanderungen\nauf Anfrage mit Margit Schlintl\nBei einer Kräuter-Erkundungswanderung entdecken wir die Pflanzenvielfalt in deiner Umgebung oder an deinem Lieblingsort. Die Pflanzen\, die dich umgeben\, besitzen oft ein enormes Potenzial für dein Wohlbefinden. Alternativ können wir gemeinsam die Kräuter auf der Dreifaltigkeit am Gray erkunden.\nEs ist eine Mindestteilnehmerzahl von 5 Personen erforderlich. \nZeitraum:\nMai – September 2025 \nKosten:\nnach Vereinbarung zuzüglich Fahrtkosten \nInformationen & Anmeldung:\nMargit Schlintl\, FNL Bezirksleitung\, Tel. 0650 277 12 23 \nteilen teilen teilen teilen teilen E-Mail 
URL:https://fnl.at/veranstaltung/fnl-kraeutertreff-kraeuterwanderungen-mit-margit-schlintl/
LOCATION:St. Veit an der Glan\, St. Veit an\, Kärnten\, 9300\, Austria
CATEGORIES:Kärnten
ATTACH;FMTTYPE=image/jpeg:https://fnl.at/wp-content/uploads/2025/03/Spaziergang.jpg
END:VEVENT
BEGIN:VEVENT
DTSTART;TZID=Europe/Berlin:20250624T170000
DTEND;TZID=Europe/Berlin:20250627T190000
DTSTAMP:20260421T144034
CREATED:20250424T103016Z
LAST-MODIFIED:20250424T103816Z
UID:21092-1750784400-1751050800@fnl.at
SUMMARY:FNL Kräutertreff: Workshop „Sonne genießen – ohne Schattenseiten“
DESCRIPTION:FNL Kräutertreff: Workshop „Sonne genießen – ohne Schattenseiten“\nSonnenschutz\, After Sun –die Pflege danach was tun bei Sonnenbrand\nBei diesen Workshop lernen wir verschiedene Pflanzen kennen\, die der Haut gut tun \nTermine:\nDienstag\, 24.06.2025\noder Freitag\, 27.06.2025 \nTreffpunkt\n17:00 Uhr Gartenwerkstatt Luise Kern\, Rötsch 48\, 8742 Obdach \nBitte um Anmeldung! \nKosten:\nFNL-Mitglieder € 7\,– alle anderen Interessierten € 10\,– \nInformation und Anmeldung:\nLuise Kern\, FNL-Kräuterexpertin und FNL-Ortsleiterin\nTel: 0664 739 54 501 oder E-Mail: kern-family@ainet.at \nteilen teilen teilen teilen teilen E-Mail 
URL:https://fnl.at/veranstaltung/fnl-kraeutertreff-workshop-sonne-geniessen-ohne-schattenseiten/
LOCATION:Gartenwerkstatt Luise Kern\, Rötsch 48\, Obdach\, Steiermark\, 8742\, Austria
CATEGORIES:Steiermark
ATTACH;FMTTYPE=image/jpeg:https://fnl.at/wp-content/uploads/2025/04/Haut-Sonnenseite.jpg
ORGANIZER;CN="Luise Kern":MAILTO:kern-family@ainet.at
END:VEVENT
BEGIN:VEVENT
DTSTART;TZID=Europe/Berlin:20250625T080000
DTEND;TZID=Europe/Berlin:20250625T170000
DTSTAMP:20260421T144034
CREATED:20250625T080616Z
LAST-MODIFIED:20250625T080616Z
UID:21939-1750838400-1750870800@fnl.at
SUMMARY:FNL Kräutertreff: Kräuterstammtisch Ernsthofen
DESCRIPTION:FNL Kräutertreff: Kräuterstammtisch Ernsthofen\nBist Du bereits eine Kräuterfee oder ein Druide und möchtest dich im Kreise Gleichgesinnter austauschen – so bist Du genau richtig bei mir.\nStehst Du am Beginn deiner „persönlichen Kräuterreise“ und bist Du dir noch nicht sicher\, wie Du starten sollst – so bist Du genau richtig bei mir.\nWir treffen uns 1x im Monat und besprechen – der Vegetation entsprechend – verschiedene Kräuter. Wir werden diese Kräuter vor Ort suchen\, besprechen und weiterverarbeiten.\nWir tauschen Rezepte aus – z.B.: für Salben\, Naturkosmetik\, Teemischungen\, Räuchermischungen aber auch Kochrezepte … u.v.m. \nGemeinsam sich das Wissen und die Erfahrungen unserer Vorfahren wieder anzueignen\, zu leben und auch an die nächste Generation weiterzugeben – dies erfüllt mich mit Freude. \nTermine:\nDienstag\, 16.09.25\nDienstag\, 21.10.25\nDienstag\,  18.11.25 \nBeginn:\njeweils 18 Uhr \nOrt:\nAndrea’s Kräuterschloss\, Loderleiten 25\, 4432 Ernsthofen \nKosten:\n€ 12\,- für FNL Mitglieder / € 15\,- für alle anderen Interessierten \nBei Fragen kannst Du mich jederzeit gerne kontaktieren. \nInfos & Anmeldungen:\nAndrea Weixlbaum\, FNL Kräuterexpertin\nEmail: andrea@weixlbaum.at oder unter Tel. 0676-7602787\, www.kraeuterschloss.at \nteilen teilen teilen teilen teilen E-Mail 
URL:https://fnl.at/veranstaltung/fnl-kraeutertreff-kraeuterstammtisch-ernsthofen-3/
LOCATION:Niederösterreich
CATEGORIES:Niederösterreich
ATTACH;FMTTYPE=image/jpeg:https://fnl.at/wp-content/uploads/2025/06/Schlehdorn.jpg
END:VEVENT
END:VCALENDAR