BEGIN:VCALENDAR
VERSION:2.0
PRODID:-//FNL - Freunde Naturgemäßer Lebensweise - ECPv6.15.20//NONSGML v1.0//EN
CALSCALE:GREGORIAN
METHOD:PUBLISH
X-WR-CALNAME:FNL - Freunde Naturgemäßer Lebensweise
X-ORIGINAL-URL:https://fnl.at
X-WR-CALDESC:Veranstaltungen für FNL - Freunde Naturgemäßer Lebensweise
REFRESH-INTERVAL;VALUE=DURATION:PT1H
X-Robots-Tag:noindex
X-PUBLISHED-TTL:PT1H
BEGIN:VTIMEZONE
TZID:Europe/Berlin
BEGIN:DAYLIGHT
TZOFFSETFROM:+0100
TZOFFSETTO:+0200
TZNAME:CEST
DTSTART:20240331T010000
END:DAYLIGHT
BEGIN:STANDARD
TZOFFSETFROM:+0200
TZOFFSETTO:+0100
TZNAME:CET
DTSTART:20241027T010000
END:STANDARD
BEGIN:DAYLIGHT
TZOFFSETFROM:+0100
TZOFFSETTO:+0200
TZNAME:CEST
DTSTART:20250330T010000
END:DAYLIGHT
BEGIN:STANDARD
TZOFFSETFROM:+0200
TZOFFSETTO:+0100
TZNAME:CET
DTSTART:20251026T010000
END:STANDARD
BEGIN:DAYLIGHT
TZOFFSETFROM:+0100
TZOFFSETTO:+0200
TZNAME:CEST
DTSTART:20260329T010000
END:DAYLIGHT
BEGIN:STANDARD
TZOFFSETFROM:+0200
TZOFFSETTO:+0100
TZNAME:CET
DTSTART:20261025T010000
END:STANDARD
END:VTIMEZONE
BEGIN:VEVENT
DTSTART;TZID=Europe/Berlin:20250501T090000
DTEND;TZID=Europe/Berlin:20250930T170000
DTSTAMP:20260421T174813
CREATED:20250321T102601Z
LAST-MODIFIED:20250423T095424Z
UID:20668-1746090000-1759251600@fnl.at
SUMMARY:FNL Kräutertreff: "Kräuterwanderungen auf Anfrage mit Margit Schlintl"
DESCRIPTION:FNL Kräutertreff Kräuterwanderungen\nauf Anfrage mit Margit Schlintl\nBei einer Kräuter-Erkundungswanderung entdecken wir die Pflanzenvielfalt in deiner Umgebung oder an deinem Lieblingsort. Die Pflanzen\, die dich umgeben\, besitzen oft ein enormes Potenzial für dein Wohlbefinden. Alternativ können wir gemeinsam die Kräuter auf der Dreifaltigkeit am Gray erkunden.\nEs ist eine Mindestteilnehmerzahl von 5 Personen erforderlich. \nZeitraum:\nMai – September 2025 \nKosten:\nnach Vereinbarung zuzüglich Fahrtkosten \nInformationen & Anmeldung:\nMargit Schlintl\, FNL Bezirksleitung\, Tel. 0650 277 12 23 \nteilen teilen teilen teilen teilen E-Mail 
URL:https://fnl.at/veranstaltung/fnl-kraeutertreff-kraeuterwanderungen-mit-margit-schlintl/
LOCATION:St. Veit an der Glan\, St. Veit an\, Kärnten\, 9300\, Austria
CATEGORIES:Kärnten
ATTACH;FMTTYPE=image/jpeg:https://fnl.at/wp-content/uploads/2025/03/Spaziergang.jpg
END:VEVENT
BEGIN:VEVENT
DTSTART;TZID=Europe/Berlin:20250523T170000
DTEND;TZID=Europe/Berlin:20250523T190000
DTSTAMP:20260421T174813
CREATED:20250213T195052Z
LAST-MODIFIED:20250430T061722Z
UID:20185-1748019600-1748026800@fnl.at
SUMMARY:FNL Kräutertreff: "Wetterpflanzen – natürliche Wettervorhersage"
DESCRIPTION:FNL Kräutertreff „Erste Hilfe Kräuter – natürliche Helfer für den Alltag“\nDie wilden Kräuter vor unserer Haustür sind echte Alltagshelfer – ob unterwegs oder zu Hause. Sie bieten oft schnelle\, natürliche Erste-Hilfe und lassen sich einfach anwenden. Viele dieser heilkräftigen Pflanzen wachsen unbemerkt auf Wiesen\, am Wegesrand oder in deinem Garten – perfekt für deine Naturapotheke! \nTermin:\nFreitag\, 23. Mai 2025 \nDauer:\n17:00 – ca. 19:00 Uhr \nKursort:\nObere Kellergasse 21\, 2213 Bockfließ \nKostenbeitrag:\n€14\,- pro Person / €12\,- für FNL Mitglieder \nInformation und Anmeldung:\nClaudia Wurmitzer\, FNL Ortsleitung & FNL Kräuterexpertin\nTel.: 0676 / 73 43 017\nclaudia@daswildegruen.at \nteilen teilen teilen teilen teilen E-Mail 
URL:https://fnl.at/veranstaltung/fnl-kraeutertreff-erste-hilfe-kraeuter-natuerliche-helfer-fuer-den-alltag/
LOCATION:Obere Kellergasse 21\, 2213 Bockfließ\, Obere Kellergasse 21\, Bockfließ\, Niederösterreich\, 2213
CATEGORIES:Niederösterreich
ATTACH;FMTTYPE=image/jpeg:https://fnl.at/wp-content/uploads/2025/03/Loewenzahn-3.jpg
ORGANIZER;CN="Claudia Wurmitzer":MAILTO:daswildegruen@a1.net
END:VEVENT
BEGIN:VEVENT
DTSTART;TZID=Europe/Berlin:20250523T170000
DTEND;TZID=Europe/Berlin:20250523T190000
DTSTAMP:20260421T174813
CREATED:20250325T124308Z
LAST-MODIFIED:20250505T062619Z
UID:20691-1748019600-1748026800@fnl.at
SUMMARY:FNL Kräutertreff - Kräuterspaziergang
DESCRIPTION:FNL Kräutertreff – Kräuterspaziergang\nEntdecke mit uns die faszinierende Welt der heimischen Kräuter und erfahre\, wie du sie in der Volksheilkunde und in der Küche nutzen kannst. Nimm gerne ein Körbchen/Papiersäckchen zum Sammeln mit. \nTermin:\nFreitag\, 23.05.2025 \nTreffpunkt:\n17 Uhr Raum Amstetten – wird bei Anmeldung bekannt gegeben \nKosten:\nFNL Mitglieder € 16\,- / alle anderen Interessierten € 18\,- \nInformationen & Anmeldung:\nSilvia Zeillinger\, Tel: 06642337541\nNatalie Lampesberger\, Tel: 06506353791\nMail: fnl.amstetten@gmail.com \nteilen teilen teilen teilen teilen E-Mail 
URL:https://fnl.at/veranstaltung/fnl-kraeutertreff-kraeuterspaziergang/
LOCATION:Gasthof Redl\, 3312 Oed bei Amstetten\, Marktstraße 25\, Oed bei Amstetten\, Niederösterreich\, 3312\, Austria
CATEGORIES:Niederösterreich
ATTACH;FMTTYPE=image/jpeg:https://fnl.at/wp-content/uploads/2025/04/Wiese.jpg
ORGANIZER;CN="Silvia Zeillinger":MAILTO:fnl.amstetten@gmail.com
END:VEVENT
END:VCALENDAR