BEGIN:VCALENDAR
VERSION:2.0
PRODID:-//FNL - Freunde Naturgemäßer Lebensweise - ECPv6.15.20//NONSGML v1.0//EN
CALSCALE:GREGORIAN
METHOD:PUBLISH
X-ORIGINAL-URL:https://fnl.at
X-WR-CALDESC:Veranstaltungen für FNL - Freunde Naturgemäßer Lebensweise
REFRESH-INTERVAL;VALUE=DURATION:PT1H
X-Robots-Tag:noindex
X-PUBLISHED-TTL:PT1H
BEGIN:VTIMEZONE
TZID:Europe/Berlin
BEGIN:DAYLIGHT
TZOFFSETFROM:+0100
TZOFFSETTO:+0200
TZNAME:CEST
DTSTART:20240331T010000
END:DAYLIGHT
BEGIN:STANDARD
TZOFFSETFROM:+0200
TZOFFSETTO:+0100
TZNAME:CET
DTSTART:20241027T010000
END:STANDARD
BEGIN:DAYLIGHT
TZOFFSETFROM:+0100
TZOFFSETTO:+0200
TZNAME:CEST
DTSTART:20250330T010000
END:DAYLIGHT
BEGIN:STANDARD
TZOFFSETFROM:+0200
TZOFFSETTO:+0100
TZNAME:CET
DTSTART:20251026T010000
END:STANDARD
BEGIN:DAYLIGHT
TZOFFSETFROM:+0100
TZOFFSETTO:+0200
TZNAME:CEST
DTSTART:20260329T010000
END:DAYLIGHT
BEGIN:STANDARD
TZOFFSETFROM:+0200
TZOFFSETTO:+0100
TZNAME:CET
DTSTART:20261025T010000
END:STANDARD
END:VTIMEZONE
BEGIN:VEVENT
DTSTART;TZID=Europe/Berlin:20250501T090000
DTEND;TZID=Europe/Berlin:20250930T170000
DTSTAMP:20260421T175110
CREATED:20250321T102601Z
LAST-MODIFIED:20250423T095424Z
UID:20668-1746090000-1759251600@fnl.at
SUMMARY:FNL Kräutertreff: "Kräuterwanderungen auf Anfrage mit Margit Schlintl"
DESCRIPTION:FNL Kräutertreff Kräuterwanderungen\nauf Anfrage mit Margit Schlintl\nBei einer Kräuter-Erkundungswanderung entdecken wir die Pflanzenvielfalt in deiner Umgebung oder an deinem Lieblingsort. Die Pflanzen\, die dich umgeben\, besitzen oft ein enormes Potenzial für dein Wohlbefinden. Alternativ können wir gemeinsam die Kräuter auf der Dreifaltigkeit am Gray erkunden.\nEs ist eine Mindestteilnehmerzahl von 5 Personen erforderlich. \nZeitraum:\nMai – September 2025 \nKosten:\nnach Vereinbarung zuzüglich Fahrtkosten \nInformationen & Anmeldung:\nMargit Schlintl\, FNL Bezirksleitung\, Tel. 0650 277 12 23 \nteilen teilen teilen teilen teilen E-Mail 
URL:https://fnl.at/veranstaltung/fnl-kraeutertreff-kraeuterwanderungen-mit-margit-schlintl/
LOCATION:St. Veit an der Glan\, St. Veit an\, Kärnten\, 9300\, Austria
CATEGORIES:Kärnten
ATTACH;FMTTYPE=image/jpeg:https://fnl.at/wp-content/uploads/2025/03/Spaziergang.jpg
END:VEVENT
BEGIN:VEVENT
DTSTART;TZID=Europe/Berlin:20250520T190000
DTEND;TZID=Europe/Berlin:20250520T203000
DTSTAMP:20260421T175110
CREATED:20250206T193914Z
LAST-MODIFIED:20250424T064309Z
UID:20145-1747767600-1747773000@fnl.at
SUMMARY:FNL Kräutertreff: "Spezielle Anwendung der Gemmotherapie"
DESCRIPTION:FNL Kräutertreff „Spezielle Anwendung der Gemmotherapie“\nmit Silvia Ortner \nTermin:\nDienstag\, 20.05.2025 \nBeginn:\n19 Uhr \nOrt:\nGärtnerei Schützenhofer\, Linzerstr. 32\, 4532 Rohr \nKosten: \nfreiwilliger Energieausgleich \nInformationen:\nBernadette Schützenhofer\, FNL Stützpunktleitung & Kräutergarten\nTel. +43 (0) 7258 2124; E-Mail: schuetzi.garten@aon.at \nteilen teilen teilen teilen teilen E-Mail 
URL:https://fnl.at/veranstaltung/fnl-kraeutertreff-spezielle-anwendung-der-gemmotherapie/
LOCATION:Kräutergarten Schützenhofer\, Linzerstraße 32\, Rohr im Kremstal\, Oberösterreich\, 4532\, Österreich
CATEGORIES:Oberösterreich
ATTACH;FMTTYPE=image/jpeg:https://fnl.at/wp-content/uploads/2025/04/Knospen.jpg
ORGANIZER;CN="Bernadette Sch%C3%BCtzenhofer":MAILTO:schuetzi.garten@aon.at
END:VEVENT
BEGIN:VEVENT
DTSTART;TZID=Europe/Berlin:20250520T190000
DTEND;TZID=Europe/Berlin:20250520T210000
DTSTAMP:20260421T175110
CREATED:20250305T195422Z
LAST-MODIFIED:20250424T064602Z
UID:20489-1747767600-1747774800@fnl.at
SUMMARY:FNL Kräutertreff: Imst "FRÜHLINGSKRÄUTER mit WURZELKRAFT"
DESCRIPTION:FNL Kräutertreff Imst „FRÜHLINGSKRÄUTER mit WURZELKRAFT“\n* Einfache Helfer für unsere Gesundheit entdecken!\n* z.B. Löwenzahn – Löwenzahnwurzel\, Brennessel – Brennesselwurzel u.v.m.\n* Blutwurz\, Meisterwurz u.v.m. Herstellen einer Meisterwurz -Tinktur \nReferent: Wolfgang Neururer\, FNL Kräuterexperte \nTermin:\nDienstag\, 20. Mai 2025 \nDauer:\n19-21 Uhr \nOrt:\nGasthaus Traube\, 6462 Karres 3 \nKosten:\nFNL Mitglieder € 8\,- / alle anderen Interessierten € 10\,- \nBitte unbedingt anmelden! \nInformation & Anmeldung:\nWolfgang Neururer\, FNL Ortsleitung Imst\, Tel.+43 699 107 056 26\,  E-Mail: maria_neururer@web.de \nteilen teilen teilen teilen teilen E-Mail 
URL:https://fnl.at/veranstaltung/fnl-kraeutertreff-imst-fruehlingskraeuter-mit-wurzelkraft/
LOCATION:Gasthof Traube\, Karres\, Karres 3\, Karres b. Imst\, Tirol\, 6462\, Österreich
CATEGORIES:Tirol
ATTACH;FMTTYPE=image/jpeg:https://fnl.at/wp-content/uploads/2025/03/Brennnessel.jpg
ORGANIZER;CN="Maria Neururer":MAILTO:maria_neururer@web.de
END:VEVENT
END:VCALENDAR