BEGIN:VCALENDAR
VERSION:2.0
PRODID:-//FNL - Freunde Naturgemäßer Lebensweise - ECPv6.15.20//NONSGML v1.0//EN
CALSCALE:GREGORIAN
METHOD:PUBLISH
X-WR-CALNAME:FNL - Freunde Naturgemäßer Lebensweise
X-ORIGINAL-URL:https://fnl.at
X-WR-CALDESC:Veranstaltungen für FNL - Freunde Naturgemäßer Lebensweise
REFRESH-INTERVAL;VALUE=DURATION:PT1H
X-Robots-Tag:noindex
X-PUBLISHED-TTL:PT1H
BEGIN:VTIMEZONE
TZID:Europe/Berlin
BEGIN:DAYLIGHT
TZOFFSETFROM:+0100
TZOFFSETTO:+0200
TZNAME:CEST
DTSTART:20240331T010000
END:DAYLIGHT
BEGIN:STANDARD
TZOFFSETFROM:+0200
TZOFFSETTO:+0100
TZNAME:CET
DTSTART:20241027T010000
END:STANDARD
BEGIN:DAYLIGHT
TZOFFSETFROM:+0100
TZOFFSETTO:+0200
TZNAME:CEST
DTSTART:20250330T010000
END:DAYLIGHT
BEGIN:STANDARD
TZOFFSETFROM:+0200
TZOFFSETTO:+0100
TZNAME:CET
DTSTART:20251026T010000
END:STANDARD
BEGIN:DAYLIGHT
TZOFFSETFROM:+0100
TZOFFSETTO:+0200
TZNAME:CEST
DTSTART:20260329T010000
END:DAYLIGHT
BEGIN:STANDARD
TZOFFSETFROM:+0200
TZOFFSETTO:+0100
TZNAME:CET
DTSTART:20261025T010000
END:STANDARD
END:VTIMEZONE
BEGIN:VEVENT
DTSTART;TZID=Europe/Berlin:20250430T080000
DTEND;TZID=Europe/Berlin:20250430T170000
DTSTAMP:20260421T173851
CREATED:20250318T191641Z
LAST-MODIFIED:20250526T081841Z
UID:20617-1746000000-1746032400@fnl.at
SUMMARY:FNL Kräutertreff: Rosentaler Heilpflanzenbegegnungen "Der Löwenzahn"
DESCRIPTION:Rosentaler Heilpflanzenbegegnung  – Von Garten\, Wald und Wiese zur Phytotherapie\nIn zwei Stunden zur Arzneipflanze: Pflanzenportraits zwischen Tradition und Forschung mit Kräuterpengel Petra Miklautz und Dietmar Vogt alias Phytagoras.\n90 Minuten bildgestützter Vortrag mit anschließender Diskussion\, Austausch und Pflanzenbegegnung (Teeverkostung\, Anschauungsmaterial\, etc.) \nThema im Mai: Der Löwenzahn: Neue Koordinaten für den „Bettseicher“ bei metabolischen und immunologischen Störungen.\nTermin:\nMittwoch\, 30. April 2025 \nDauer:\n18:00 bis ca. 20:00 Uhr \nOrt:\nNeue oder alte Volksschule\, 9071 Köttmannsdorf\, Kärnten \nKostenbeitrag:\n14 € bzw. 12 € für FNL-Mitglieder. (Wir ersuchen den Betrag in Bar genau bereitzuhalten.) \nAnmeldung:\nWegen Bestuhlung und Pflanzenmaterial ersuchen wir um unverbindliche Anmeldung bis drei Tage vor der Veranstaltung via Mail an:\npetra@kraeuterpengel.at oder dietmar.vogt@phytagoras.at \nDas Jahresprogramm findest du HIER \nInformationen: \nPetra Miklautz\, FNL Bezirksleitung\, Email: petra@kraeuterpengel.at \nteilen teilen teilen teilen teilen E-Mail 
URL:https://fnl.at/veranstaltung/fnl-kraeutertreff-rosentaler-heilpflanzenbegegnungen-der-loewenzahn/
LOCATION:Köttmannsdorf\, Köttmannsdorf\, Kärnten\, 9071\, Austria
CATEGORIES:Kärnten
ATTACH;FMTTYPE=image/jpeg:https://fnl.at/wp-content/uploads/2025/03/Loewenzahn-4.jpg
ORGANIZER;CN="Petra Miklautz":MAILTO:petra@kraeuterpengel.at
END:VEVENT
END:VCALENDAR