BEGIN:VCALENDAR
VERSION:2.0
PRODID:-//FNL - Freunde Naturgemäßer Lebensweise - ECPv6.15.20//NONSGML v1.0//EN
CALSCALE:GREGORIAN
METHOD:PUBLISH
X-WR-CALNAME:FNL - Freunde Naturgemäßer Lebensweise
X-ORIGINAL-URL:https://fnl.at
X-WR-CALDESC:Veranstaltungen für FNL - Freunde Naturgemäßer Lebensweise
REFRESH-INTERVAL;VALUE=DURATION:PT1H
X-Robots-Tag:noindex
X-PUBLISHED-TTL:PT1H
BEGIN:VTIMEZONE
TZID:Europe/Berlin
BEGIN:DAYLIGHT
TZOFFSETFROM:+0100
TZOFFSETTO:+0200
TZNAME:CEST
DTSTART:20240331T010000
END:DAYLIGHT
BEGIN:STANDARD
TZOFFSETFROM:+0200
TZOFFSETTO:+0100
TZNAME:CET
DTSTART:20241027T010000
END:STANDARD
BEGIN:DAYLIGHT
TZOFFSETFROM:+0100
TZOFFSETTO:+0200
TZNAME:CEST
DTSTART:20250330T010000
END:DAYLIGHT
BEGIN:STANDARD
TZOFFSETFROM:+0200
TZOFFSETTO:+0100
TZNAME:CET
DTSTART:20251026T010000
END:STANDARD
BEGIN:DAYLIGHT
TZOFFSETFROM:+0100
TZOFFSETTO:+0200
TZNAME:CEST
DTSTART:20260329T010000
END:DAYLIGHT
BEGIN:STANDARD
TZOFFSETFROM:+0200
TZOFFSETTO:+0100
TZNAME:CET
DTSTART:20261025T010000
END:STANDARD
END:VTIMEZONE
BEGIN:VEVENT
DTSTART;TZID=Europe/Berlin:20250408T090000
DTEND;TZID=Europe/Berlin:20250429T103000
DTSTAMP:20260423T133843
CREATED:20250325T132802Z
LAST-MODIFIED:20250422T100718Z
UID:20694-1744102800-1745922600@fnl.at
SUMMARY:FNL Kräutertreff: "Kräuterspaziergang"
DESCRIPTION:FNL Kräutertreff – Kräuterspaziergang\nmit Sabine Lerchner \nGemeinsam entdecken wir Wildkräuter in ihrer natürlichen Umgebung und\nbesprechen die Verwendung in Küche & Volksheilkunde. \nTermine:\nDienstag\, 8.\, 15.\, 22. und 29. April 2025 \nDauer:\njeweils 9 – 10:30 Uhr \nOrt:\nSt. Margarethen im Lungau\, Standort wird bei Anmeldung bekannt gegeben \nKosten:\n€ 20\,00 pro Person / für FNL-Mitglieder € 17\,00 \nInformationen & Anmeldung:\nSabine Lerchner\, Ortsleitung St. Margarethen im Lungau\nTel. 0664 53 33 155\, www.branntweineralm.at \nteilen teilen teilen teilen teilen E-Mail 
URL:https://fnl.at/veranstaltung/fnl-kraeutertreff-kraeuterspaziergang-2/
LOCATION:Lungau\, St. Margarethen i. L.\, Salzburg\, Austria
CATEGORIES:Salzburg
ATTACH;FMTTYPE=image/jpeg:https://fnl.at/wp-content/uploads/2025/04/Natur-2.jpg
ORGANIZER;CN="Lerchner Sabine":MAILTO:https://www.branntweineralm.at/
END:VEVENT
BEGIN:VEVENT
DTSTART;TZID=Europe/Berlin:20250425T090000
DTEND;TZID=Europe/Berlin:20250425T113000
DTSTAMP:20260423T133843
CREATED:20250303T192825Z
LAST-MODIFIED:20250424T104503Z
UID:20443-1745571600-1745580600@fnl.at
SUMMARY:FNL Kräutertreff: Wanderung mit Waltraud Marksteiner
DESCRIPTION:Kräuterwanderung mit Waltraud Marksteiner\nWir erkunden die Pflanzenwelt in der Nähe des Kulm. \nTermin:\nFreitag\, 25.04.2025\n(Ersatztermin bei Schlechtwetter ist der 9.Mai) \nTreffpunkt:\n9:00 Uhr in St.Marein / genauer Ort nach Anmeldung \nKosten:\nFNL-Mitglieder € 18.00 / für Gäste €20.00. \nAnmeldung erbeten bis 22.April bei Erika Leopold \nInfos & Anmeldung:\nErika Leopold\, FNL Kräuterbotschafterin\nEmail: e.leopold@gmx.at oder Tel. 0676 690 35 72. \nteilen teilen teilen teilen teilen E-Mail 
URL:https://fnl.at/veranstaltung/fnl-kraeutertreff-wanderung-mit-waltraud-marksteiner/
LOCATION:St. Marein bei Graz\, St. Marein bei Graz\, Steiermark\, 8323\, Österreich
CATEGORIES:Steiermark
ATTACH;FMTTYPE=image/jpeg:https://fnl.at/wp-content/uploads/2025/03/Spaziergang-2.jpg
END:VEVENT
BEGIN:VEVENT
DTSTART;TZID=Europe/Berlin:20250425T160000
DTEND;TZID=Europe/Berlin:20250425T173000
DTSTAMP:20260423T133843
CREATED:20250422T104238Z
LAST-MODIFIED:20250422T180353Z
UID:20877-1745596800-1745602200@fnl.at
SUMMARY:FNL Kräutertreff: Kräuterwanderungen Neuzeug 2025
DESCRIPTION:FNL Kräutertreff: Kräuterwanderungen Neuzeug 2025\nDie Kräuterwanderungen bieten FNL-Mitgliedern und Interessierten die Möglichkeit\, Pflanzen zu entdecken\, zu erkennen\nund über ihre Bedeutung in der Volksheilkunde zu sprechen. Bitte anmelden! \nTermine:\n25.04.\, 16.00 Uhr – verblühte Frühjahrsblüher und wie ich sie erkenne\n05.05.\, 16.00 Uhr – Natur-Gehölze an der Schottergrube\, einzigartiges Biotop\n16.06.\, 16.00 Uhr – Lebenswelt am Fluss Steyr\n14.07.\, 16.00 Uhr – Lebenswelt Straßenrand\, was wir davon lernen können\n11.08.\, 16.00 Uhr – Lebenswelt Naturhecke\, Früchte erkennen und verarbeiten\n08.09.\, 16.00 Uhr – Kräuterwanderung\n13.10.\, 16.00 Uhr – Kräuterwanderung\n10.11.\, 16.00 Uhr – Vortrag Erkältungszeit \nTreffpunkt:\nWird bei Anmeldung bekanntgegeben – Begr. Teilnehmerzahl \nKosten:\nfreiwillige Spende \nInformationen & Anmeldung:\nClaudia Eder\, FNL Bezirksleitung\,\nTel. 07259 31 779 oder email: aromapraxis@aon.at \nteilen teilen teilen teilen teilen E-Mail 
URL:https://fnl.at/veranstaltung/fnl-kraeutertreff-kraeuterwanderungen-neuzeug-2025/
LOCATION:Neuzeug\, OÖ\, Neuzeug\, Oberösterreich\, 4523\, Österreich
CATEGORIES:Oberösterreich
ATTACH;FMTTYPE=image/jpeg:https://fnl.at/wp-content/uploads/2025/04/Wiesenkraeuter.jpg
ORGANIZER;CN="Claudia Eder":MAILTO:aromapraxis@aon.at
END:VEVENT
BEGIN:VEVENT
DTSTART;TZID=Europe/Berlin:20250425T160000
DTEND;TZID=Europe/Berlin:20250425T180000
DTSTAMP:20260423T133843
CREATED:20250314T110856Z
LAST-MODIFIED:20250423T073542Z
UID:20529-1745596800-1745604000@fnl.at
SUMMARY:FNL Kräutertreff: Hallein
DESCRIPTION:Informationstreff zum Erfahrungsaustausch rund um Gesundheit\, Wohlbefinden & Volksheilkunde!\n„Der Kraft der Natur auf der Spur“\nTermin:\nFreitag\, 25.04.2025 \nDauer:\njeweils 16-18 Uhr \nOrt:\nKaffee Eckzimmer\, Winklerstr. 18\, 5400 Hallein \nInformationen:\nElfriede Zambelli\, Tel. 0664/34 18 166\, Email: elfi.zambelli@gmail.com \nteilen teilen teilen teilen teilen E-Mail 
URL:https://fnl.at/veranstaltung/fnl-kraeutertreff-hallein-4/
LOCATION:Kaffee Eckzimmer\, Winklerstr. 18\, Hallein\, Salzburg\, 5400\, Austria
CATEGORIES:Salzburg
ATTACH;FMTTYPE=image/jpeg:https://fnl.at/wp-content/uploads/2025/03/Natur.jpg
ORGANIZER;CN="Elfriede Zambelli":MAILTO:elfi.zambelli@gmail.com
END:VEVENT
BEGIN:VEVENT
DTSTART;TZID=Europe/Berlin:20250425T170000
DTEND;TZID=Europe/Berlin:20250425T190000
DTSTAMP:20260423T133843
CREATED:20250213T194742Z
LAST-MODIFIED:20250423T074354Z
UID:20182-1745600400-1745607600@fnl.at
SUMMARY:FNL Kräutertreff: "Die Kraft der Bitterstoffe – natürliche Vitalität"
DESCRIPTION:FNL Kräutertreff „Die Kraft der Bitterstoffe – natürliche Vitalität“\nBitterstoffe sind Geheimtipps für deine Gesundheit. Sie fördern die Verdauung\, stärken den Stoffwechsel und unterstützen das Immunsystem – alles auf ganz natürliche Weise. In vielen Pflanzen stecken diese wertvollen Stoffe. Entdecke\, wie Bitterstoffe deinem Körper auf einfache Weise zu mehr Vitalität verhelfen können und wie du sie ganz leicht in deinen Alltag integrierst. \nTermin:\nFreitag\, 25. April 2025 \nDauer:\n17:00 – ca. 19:00 Uhr \nKursort:\nObere Kellergasse 19\, 2213 Bockfließ \nKostenbeitrag:\n€14\,- pro Person / €12\,- für FNL Mitglieder \nInformation und Anmeldung:\nClaudia Wurmitzer\, FNL Ortsleitung & FNL Kräuterexpertin\nTel.: 0676 / 73 43 017\nclaudia@daswildegruen.at \nteilen teilen teilen teilen teilen E-Mail 
URL:https://fnl.at/veranstaltung/fnl-kraeutertreff-die-kraft-der-bitterstoffe-natuerliche-vitalitaet/
LOCATION:Obere Kellergasse 21\, 2213 Bockfließ\, Obere Kellergasse 21\, Bockfließ\, Niederösterreich\, 2213
CATEGORIES:Niederösterreich
ATTACH;FMTTYPE=image/png:https://fnl.at/wp-content/uploads/2025/02/Tausendgueldenkraut.png
ORGANIZER;CN="Claudia Wurmitzer":MAILTO:daswildegruen@a1.net
END:VEVENT
BEGIN:VEVENT
DTSTART;TZID=Europe/Berlin:20250425T190000
DTEND;TZID=Europe/Berlin:20250425T203000
DTSTAMP:20260423T133843
CREATED:20241210T091144Z
LAST-MODIFIED:20250423T084549Z
UID:19692-1745607600-1745613000@fnl.at
SUMMARY:FNL Kräutertreff: "Kräuter in Essig und Öl"
DESCRIPTION:FNL Kräutertreff „Kräuter in Essig und Öl“\nDer Kräutertreff findet in Kooperation mit der gesunden Gemeinde jeden letzten Freitag im Monat von Feber bis Juni und von September bis November statt. Änderungen vorbehalten! \nIch bin schon gespannt auf unsere Treffen. Gemeinsam mit euch möchte ich Erfahrungen austauschen und unser Wissen erweitern. \nTermin:\nFreitag\, 25. April 2025 \nBeginn:\n19 Uhr \nOrt:\nStöttinger-Hof\nStatzinger Straße 9\, 4225 Luftenberg \nKosten:\n€ 9\,- Pro Person (zuzüglich Materialkosten bei Workshops) \nInformationen & Anmeldung:\nRegina Hanl\, FNL Kräuterexpertin & FNL Ortsleitung\nTel.: 0680/217 55 04 Email: franzhanl@gmx.at \nteilen teilen teilen teilen teilen E-Mail 
URL:https://fnl.at/veranstaltung/fnl-kraeutertreff-kraeuter-in-essig-und-oel/
LOCATION:Stöttinger Hof\, Luftenberg\, Statzinger Straße 9\, Luftenberg\, Oberösterreich\, 4225
CATEGORIES:Oberösterreich
ATTACH;FMTTYPE=image/jpeg:https://fnl.at/wp-content/uploads/2024/12/Essig.jpg
ORGANIZER;CN="Regina Hanl":MAILTO:franzhanl@gmx.at
END:VEVENT
END:VCALENDAR