BEGIN:VCALENDAR
VERSION:2.0
PRODID:-//FNL - Freunde Naturgemäßer Lebensweise - ECPv6.15.20//NONSGML v1.0//EN
CALSCALE:GREGORIAN
METHOD:PUBLISH
X-ORIGINAL-URL:https://fnl.at
X-WR-CALDESC:Veranstaltungen für FNL - Freunde Naturgemäßer Lebensweise
REFRESH-INTERVAL;VALUE=DURATION:PT1H
X-Robots-Tag:noindex
X-PUBLISHED-TTL:PT1H
BEGIN:VTIMEZONE
TZID:Europe/Berlin
BEGIN:DAYLIGHT
TZOFFSETFROM:+0100
TZOFFSETTO:+0200
TZNAME:CEST
DTSTART:20240331T010000
END:DAYLIGHT
BEGIN:STANDARD
TZOFFSETFROM:+0200
TZOFFSETTO:+0100
TZNAME:CET
DTSTART:20241027T010000
END:STANDARD
BEGIN:DAYLIGHT
TZOFFSETFROM:+0100
TZOFFSETTO:+0200
TZNAME:CEST
DTSTART:20250330T010000
END:DAYLIGHT
BEGIN:STANDARD
TZOFFSETFROM:+0200
TZOFFSETTO:+0100
TZNAME:CET
DTSTART:20251026T010000
END:STANDARD
BEGIN:DAYLIGHT
TZOFFSETFROM:+0100
TZOFFSETTO:+0200
TZNAME:CEST
DTSTART:20260329T010000
END:DAYLIGHT
BEGIN:STANDARD
TZOFFSETFROM:+0200
TZOFFSETTO:+0100
TZNAME:CET
DTSTART:20261025T010000
END:STANDARD
END:VTIMEZONE
BEGIN:VEVENT
DTSTART;TZID=Europe/Berlin:20250408T090000
DTEND;TZID=Europe/Berlin:20250429T103000
DTSTAMP:20260421T193015
CREATED:20250325T132802Z
LAST-MODIFIED:20250422T100718Z
UID:20694-1744102800-1745922600@fnl.at
SUMMARY:FNL Kräutertreff: "Kräuterspaziergang"
DESCRIPTION:FNL Kräutertreff – Kräuterspaziergang\nmit Sabine Lerchner \nGemeinsam entdecken wir Wildkräuter in ihrer natürlichen Umgebung und\nbesprechen die Verwendung in Küche & Volksheilkunde. \nTermine:\nDienstag\, 8.\, 15.\, 22. und 29. April 2025 \nDauer:\njeweils 9 – 10:30 Uhr \nOrt:\nSt. Margarethen im Lungau\, Standort wird bei Anmeldung bekannt gegeben \nKosten:\n€ 20\,00 pro Person / für FNL-Mitglieder € 17\,00 \nInformationen & Anmeldung:\nSabine Lerchner\, Ortsleitung St. Margarethen im Lungau\nTel. 0664 53 33 155\, www.branntweineralm.at \nteilen teilen teilen teilen teilen E-Mail 
URL:https://fnl.at/veranstaltung/fnl-kraeutertreff-kraeuterspaziergang-2/
LOCATION:Lungau\, St. Margarethen i. L.\, Salzburg\, Austria
CATEGORIES:Salzburg
ATTACH;FMTTYPE=image/jpeg:https://fnl.at/wp-content/uploads/2025/04/Natur-2.jpg
ORGANIZER;CN="Lerchner Sabine":MAILTO:https://www.branntweineralm.at/
END:VEVENT
BEGIN:VEVENT
DTSTART;TZID=Europe/Berlin:20250408T133000
DTEND;TZID=Europe/Berlin:20250423T170000
DTSTAMP:20260421T193015
CREATED:20240315T131353Z
LAST-MODIFIED:20250422T100536Z
UID:18089-1744119000-1745427600@fnl.at
SUMMARY:FNL Kräutertreff: WORKSHOP Gemmotheraphie - Kraft der Knospen
DESCRIPTION:WORKSHOP Gemmotheraphie – Kraft der Knospen\nGemeinsam werden wir die Heilwirkung der verschiedenen Knospen besprechen.\nAnschließend gehen wir in die Natur und jeder stellt seinen eigenen Knospenauszug her. \nBitte rechtzeitig anmelden\, max. 5 Teilnehmer. \nTermine:\nDienstag\, 8. April 2025\nSamstag\, 12. April 2025\nDienstag\, 22. April 2025 \nSamstag\, 26. April 2025 \nBeginn:\njeweils 13:30 Uhr \nOrt:\nHof Fam. Schwaiger\, Bärfeld 6\, 6391 Fieberbrunn \nKosten:\n€ 45\,- pro Person \nINFORMATIONEN & ANMELDUNG\nBirgit Schwaiger\, FNL Ortsleitung & FNL Kräuterexpertin\nTel. 0664 / 73 44 9502 oder Email: natur1pur@gmail.com \nteilen teilen teilen teilen teilen E-Mail 
URL:https://fnl.at/veranstaltung/fnl-kraeutertreff-workshop-gemmotheraphie-kraft-der-knospen/
LOCATION:Hof Fam. Schwaiger\, Fieberbrunn\, Bärfeld 6\, Fieberbrunn\, Tirol\, 6391\, Österreich
CATEGORIES:Tirol
ATTACH;FMTTYPE=image/jpeg:https://fnl.at/wp-content/uploads/2025/04/Knospen.jpg
ORGANIZER;CN="Birgit Schwaiger":MAILTO:natur1pur@gmail.com
END:VEVENT
BEGIN:VEVENT
DTSTART;TZID=Europe/Berlin:20250416T083000
DTEND;TZID=Europe/Berlin:20250423T110000
DTSTAMP:20260421T193015
CREATED:20250326T093511Z
LAST-MODIFIED:20250422T100849Z
UID:20712-1744792200-1745406000@fnl.at
SUMMARY:FNL Kräutertreff: WORKSHOP Salben rühren
DESCRIPTION:WORKSHOP Salben rühren\nmit Sabine Lerchner \nErlerne die Grundkenntnisse zum Rühren einer eigenen Salbe mit natürlichen Zutaten. \nTermine:\n16. und 23. April 2025 \nBeginn:\njeweils 8:30-11 Uhr \nOrt:\nHexenküche Staig\, Staig 263\, 5581 St. Margarethen \nKosten:\n€ 47\,00 pro Person inkl. Material / für FNL-Mitglieder € 42\,00 \nInformationen & Anmeldung:\nSabine Lerchner\, Ortsleitung St. Margarethen im Lungau\nTel. 0664 53 33 155\, www.branntweineralm.at \nteilen teilen teilen teilen teilen E-Mail 
URL:https://fnl.at/veranstaltung/fnl-kraeutertreff-workshop-salben-ruehren/
LOCATION:Hexenküche Staig\, Staig 263\, St. Margarethen\, Salzburg\, 5581\, Austria
CATEGORIES:Salzburg
ATTACH;FMTTYPE=image/jpeg:https://fnl.at/wp-content/uploads/2025/04/Salbe-2.jpg
ORGANIZER;CN="Lerchner Sabine":MAILTO:https://www.branntweineralm.at/
END:VEVENT
BEGIN:VEVENT
DTSTART;TZID=Europe/Berlin:20250423T183000
DTEND;TZID=Europe/Berlin:20250423T200000
DTSTAMP:20260421T193015
CREATED:20250304T193448Z
LAST-MODIFIED:20250423T055128Z
UID:20467-1745433000-1745438400@fnl.at
SUMMARY:FNL Kräutertreff: Abendvortrag Erholsamer Schlaf - Schlüssel zu Gesundheit und Wohlbefinden
DESCRIPTION:FNL Kräutertreff Abendvortrag Erholsamer Schlaf – Schlüssel zu Gesundheit und Wohlbefinden\nEin erholsamer Schlaf ist essenziell für Gesundheit\, Leistungsfähigkeit und Wohlbefinden. Doch was macht guten Schlaf aus\, und wie kannst du ihn verbessern? Schlafstörungen können viele Ursachen haben\, darunter Stress\, ungesunde Lebensgewohnheiten oder gesundheitliche Probleme. Doch zum Glück gibt es verschiedene natürliche Mittel\, die helfen können\, den Schlaf zu fördern und langfristig zu verbessern. In diesem Abendvortrag erfährst du wertvolle Tipps und Strategien für einen besseren Schlaf – von bewährten Hausmitteln über Entspannungstechniken bis hin zu den besten Schlafgewohnheiten. \nLass dich inspirieren und entdecke\, wie du deine Schlafqualität nachhaltig steigern kannst! \nTermin:\nMittwoch\, 23. April 2025 \nDauer:\n18:30-20:15 Uhr \nOrt:\nAyurveda Naturladen Fürstenfeld\, Hauptstr. 7\, 8280 Fürstenfeld \nPreis:\n€ 15.- \n Infos & Anmeldung (bis 18.4.2025):\nTanja Pinter\, Tel: 0660 /927 1668\, office@ayurveda-naturladen.at \n\n\nSie sehen gerade einen Platzhalterinhalt von Standard. Um auf den eigentlichen Inhalt zuzugreifen\, klicken Sie auf den Button unten. Bitte beachten Sie\, dass dabei Daten an Drittanbieter weitergegeben werden. \n Inhalt entsperren Erforderlichen Service akzeptieren und Inhalte entsperren \n Weitere Informationen \n\nteilen teilen teilen teilen teilen E-Mail 
URL:https://fnl.at/veranstaltung/fnl-kraeutertreff-abendvortrag-erholsamer-schlaf-schluessel-zu-gesundheit-und-wohlbefinden/
LOCATION:Ayurveda Naturladen\, Hauptstraße 7\, Fürstenfeld\, Steiermark\, 8280\, Austria
CATEGORIES:Steiermark
ATTACH;FMTTYPE=image/jpeg:https://fnl.at/wp-content/uploads/2025/03/Schlafen.jpg
ORGANIZER;CN="Tanja Pinter":MAILTO:office@ayurveda-naturladen.at
END:VEVENT
END:VCALENDAR