BEGIN:VCALENDAR
VERSION:2.0
PRODID:-//FNL - Freunde Naturgemäßer Lebensweise - ECPv6.15.20//NONSGML v1.0//EN
CALSCALE:GREGORIAN
METHOD:PUBLISH
X-WR-CALNAME:FNL - Freunde Naturgemäßer Lebensweise
X-ORIGINAL-URL:https://fnl.at
X-WR-CALDESC:Veranstaltungen für FNL - Freunde Naturgemäßer Lebensweise
REFRESH-INTERVAL;VALUE=DURATION:PT1H
X-Robots-Tag:noindex
X-PUBLISHED-TTL:PT1H
BEGIN:VTIMEZONE
TZID:Europe/Berlin
BEGIN:DAYLIGHT
TZOFFSETFROM:+0100
TZOFFSETTO:+0200
TZNAME:CEST
DTSTART:20240331T010000
END:DAYLIGHT
BEGIN:STANDARD
TZOFFSETFROM:+0200
TZOFFSETTO:+0100
TZNAME:CET
DTSTART:20241027T010000
END:STANDARD
BEGIN:DAYLIGHT
TZOFFSETFROM:+0100
TZOFFSETTO:+0200
TZNAME:CEST
DTSTART:20250330T010000
END:DAYLIGHT
BEGIN:STANDARD
TZOFFSETFROM:+0200
TZOFFSETTO:+0100
TZNAME:CET
DTSTART:20251026T010000
END:STANDARD
BEGIN:DAYLIGHT
TZOFFSETFROM:+0100
TZOFFSETTO:+0200
TZNAME:CEST
DTSTART:20260329T010000
END:DAYLIGHT
BEGIN:STANDARD
TZOFFSETFROM:+0200
TZOFFSETTO:+0100
TZNAME:CET
DTSTART:20261025T010000
END:STANDARD
END:VTIMEZONE
BEGIN:VEVENT
DTSTART;TZID=Europe/Berlin:20250405T090000
DTEND;TZID=Europe/Berlin:20250405T180000
DTSTAMP:20260421T192340
CREATED:20250130T101144Z
LAST-MODIFIED:20250130T101853Z
UID:20046-1743843600-1743876000@fnl.at
SUMMARY:FNL Kräutertreff Tagesseminar "Heilung durch Kraft der Gedanken und Vorstellung"
DESCRIPTION:FNL Kräutertreff Tagesseminar „Heilung durch Kraft der Gedanken und Vorstellung“\nReferent: Gerhard Schoßmaier \nDie Kraft der Gedanken ist unsichtbar wie der Same\, aus dem ein riesiger Baum erwächst; sie ist aber der Ursprung für die sichtbare Veränderung im Leben des Menschen. (Leo Tolstoi) \nAm Vormittag beschäftigen wir uns mit der Theorie wie geistiges Heilen praktiziert wird und am Nachmittag wird praktisch gearbeitet. Jeder kann an sich selbst die Selbstheilungskräfte aktivieren und das erlernte Wissen anwenden. max. 35 Teilnehmer*innen \nTermin:\nSamstag\, 05. April 2025 \nDauer:\n9-18 Uhr \nOrt:\nGasthof Redl\, Marktstraße 25\, 3312 Oed bei Amstetten \nKosten:\n€ 75\,- pro Person \nInformationen & Anmeldung:\nNatalie Lampesberger\, Tel: 0650 635 37 91\, Email: fnl.amstetten@gmail.com\nBarbara Weilguni\, Tel. 0664 151 31 98 \nteilen teilen teilen teilen teilen E-Mail 
URL:https://fnl.at/veranstaltung/fnl-kraeutertreff-tagesseminar-heilung-durch-kraft-der-gedanken-und-vorstellung/
LOCATION:Gasthof Redl\, 3312 Oed bei Amstetten\, Marktstraße 25\, Oed bei Amstetten\, Niederösterreich\, 3312\, Austria
CATEGORIES:Niederösterreich
ATTACH;FMTTYPE=image/jpeg:https://fnl.at/wp-content/uploads/2019/01/pixerpay-frau-pretty-woman-1509956__340.jpg
ORGANIZER;CN="Natalie Lampesberger":MAILTO:fnl.amstetten@gmail.com
END:VEVENT
END:VCALENDAR