BEGIN:VCALENDAR
VERSION:2.0
PRODID:-//FNL - Freunde Naturgemäßer Lebensweise - ECPv6.15.20//NONSGML v1.0//EN
CALSCALE:GREGORIAN
METHOD:PUBLISH
X-WR-CALNAME:FNL - Freunde Naturgemäßer Lebensweise
X-ORIGINAL-URL:https://fnl.at
X-WR-CALDESC:Veranstaltungen für FNL - Freunde Naturgemäßer Lebensweise
REFRESH-INTERVAL;VALUE=DURATION:PT1H
X-Robots-Tag:noindex
X-PUBLISHED-TTL:PT1H
BEGIN:VTIMEZONE
TZID:Europe/Berlin
BEGIN:DAYLIGHT
TZOFFSETFROM:+0100
TZOFFSETTO:+0200
TZNAME:CEST
DTSTART:20240331T010000
END:DAYLIGHT
BEGIN:STANDARD
TZOFFSETFROM:+0200
TZOFFSETTO:+0100
TZNAME:CET
DTSTART:20241027T010000
END:STANDARD
BEGIN:DAYLIGHT
TZOFFSETFROM:+0100
TZOFFSETTO:+0200
TZNAME:CEST
DTSTART:20250330T010000
END:DAYLIGHT
BEGIN:STANDARD
TZOFFSETFROM:+0200
TZOFFSETTO:+0100
TZNAME:CET
DTSTART:20251026T010000
END:STANDARD
BEGIN:DAYLIGHT
TZOFFSETFROM:+0100
TZOFFSETTO:+0200
TZNAME:CEST
DTSTART:20260329T010000
END:DAYLIGHT
BEGIN:STANDARD
TZOFFSETFROM:+0200
TZOFFSETTO:+0100
TZNAME:CET
DTSTART:20261025T010000
END:STANDARD
END:VTIMEZONE
BEGIN:VEVENT
DTSTART;TZID=Europe/Berlin:20250328T170000
DTEND;TZID=Europe/Berlin:20250401T193000
DTSTAMP:20260421T193931
CREATED:20250115T115041Z
LAST-MODIFIED:20250303T100701Z
UID:19893-1743181200-1743535800@fnl.at
SUMMARY:FNL Kräutertreff WORKSHOP „Knospen – Kraftpakete für unsere Gesundheit“
DESCRIPTION:FNL Kräutertreff WORKSHOP „Knospen – Kraftpakete für unsere Gesundheit“\nVortragende: Luise Kern\, FNL Kräuterexpertin \nKennenlernen verschiedener Bäume und Sträuchern an Hand der Knospen.\nVerarbeitung der Knospen für unsere Gesundheit. \nTermine:\nFreitag\, 28.03.2025 oder Dienstag\, 01.04.2025 \nBeginn:\njeweils 17 Uhr \nOrt:\nGartenwerkstatt Luise Kern\, Rötsch 48\, 8742 Obdach \nKosten:\n€ 7\,- für FNL Mitglieder / € 10\,- ohne Mitgliedschaft \nBitte unbedingt anmelden! \nInfo & Anmeldung:\nLuise Kern\, FNL-Kräuterexpertin und FNL-Ortsleiterin\nTel: 0664 739 54 501 oder E-Mail: kern-family@ainet.at \nteilen teilen teilen teilen teilen E-Mail 
URL:https://fnl.at/veranstaltung/fnl-kraeutertreff-workshop-knospen-kraftpakete-fuer-unsere-gesundheit/
LOCATION:Gartenwerkstatt Luise Kern\, Rötsch 48\, Obdach\, Steiermark\, 8742\, Austria
CATEGORIES:Steiermark
ATTACH;FMTTYPE=image/jpeg:https://fnl.at/wp-content/uploads/2019/01/tree-3333172_1920.jpg
ORGANIZER;CN="Luise Kern":MAILTO:kern-family@ainet.at
END:VEVENT
END:VCALENDAR