BEGIN:VCALENDAR
VERSION:2.0
PRODID:-//FNL - Freunde Naturgemäßer Lebensweise - ECPv6.15.20//NONSGML v1.0//EN
CALSCALE:GREGORIAN
METHOD:PUBLISH
X-ORIGINAL-URL:https://fnl.at
X-WR-CALDESC:Veranstaltungen für FNL - Freunde Naturgemäßer Lebensweise
REFRESH-INTERVAL;VALUE=DURATION:PT1H
X-Robots-Tag:noindex
X-PUBLISHED-TTL:PT1H
BEGIN:VTIMEZONE
TZID:Europe/Berlin
BEGIN:DAYLIGHT
TZOFFSETFROM:+0100
TZOFFSETTO:+0200
TZNAME:CEST
DTSTART:20240331T010000
END:DAYLIGHT
BEGIN:STANDARD
TZOFFSETFROM:+0200
TZOFFSETTO:+0100
TZNAME:CET
DTSTART:20241027T010000
END:STANDARD
BEGIN:DAYLIGHT
TZOFFSETFROM:+0100
TZOFFSETTO:+0200
TZNAME:CEST
DTSTART:20250330T010000
END:DAYLIGHT
BEGIN:STANDARD
TZOFFSETFROM:+0200
TZOFFSETTO:+0100
TZNAME:CET
DTSTART:20251026T010000
END:STANDARD
BEGIN:DAYLIGHT
TZOFFSETFROM:+0100
TZOFFSETTO:+0200
TZNAME:CEST
DTSTART:20260329T010000
END:DAYLIGHT
BEGIN:STANDARD
TZOFFSETFROM:+0200
TZOFFSETTO:+0100
TZNAME:CET
DTSTART:20261025T010000
END:STANDARD
END:VTIMEZONE
BEGIN:VEVENT
DTSTART;TZID=Europe/Berlin:20250327T080000
DTEND;TZID=Europe/Berlin:20250327T170000
DTSTAMP:20260421T211811
CREATED:20241222T165920Z
LAST-MODIFIED:20250327T091937Z
UID:19778-1743062400-1743094800@fnl.at
SUMMARY:FNL Kräutertreff VORTRAG "Schmerzen jeglicher Art lindern"
DESCRIPTION:FNL Kräutertreff VORTRAG „Schmerzen jeglicher Art lindern“\nVortragender: Dr. Petar Miscovic\, Wahlarzt Spittal/Drau \nChronische Schmerzen\, akute Schmerzen\, Neuropathische Schmerzen\, Sportverletzungen – Schmerzen lindern und die Lebensqualität verbessern.\nIn Kooperation mit der Gesunden Gemeinde Ferndorf \nTermin:\nDonnerstag\,27.  März 2025 \nBeginn:\n19.00 Uhr \nOrt:\nVeranstaltungssaal Ferndorf\n9702 Ferndorf 22 \nWir bitten um rechtzeitige Anmeldung! \nINFOS & ANMELDUNG\nKatharina Schwager\, Tel. 0677 6235 05 69\, Email: katharinaschwager@gmx.at\nMartha Duschnig\, Tel. 0650 6010223\, Email: martha.duschnig@hotmail.com \n  \nteilen teilen teilen teilen teilen E-Mail 
URL:https://fnl.at/veranstaltung/fnl-kraeutertreff-vortrag-schmerzen-jeglicher-art-lindern/
LOCATION:Mehrzwecksaal Ferndorf\, Ferndorf\, Kärnten\, 9702\, Österreich
CATEGORIES:Kärnten
END:VEVENT
BEGIN:VEVENT
DTSTART;TZID=Europe/Berlin:20250327T190000
DTEND;TZID=Europe/Berlin:20250327T203000
DTSTAMP:20260421T211811
CREATED:20250115T113449Z
LAST-MODIFIED:20250115T114136Z
UID:19889-1743102000-1743107400@fnl.at
SUMMARY:FNL Kräutertreff VORTRAG "Die Spielregeln der Gesundheit"
DESCRIPTION:FNL Kräutertreff VORTRAG „Die Spielregeln der Gesundheit“\nReferent: Dietmar Rösler\, Ernährungs- & Sportmediziner\, Biohacker und Naturliebhaber \nEin Vortrag in Kooperation mit der gesunden Gemeinde. Entzündungen sind der Beginn vieler Wohlstanderkrankungen wie Bluthochdruck und Diabetes!\nMehr Informationen und vor allem wie man sich schützen kann\, erfährst du bei diesem Vortrag. Inklusive Verkostung eines speziellen Omega 3 Öles. \nTermin:\nDonnerstag\, 27.03.2025 \nBeginn:\n19:00 Uhr \nOrt:\nKongresshaus Millstatt; 9872 Millstatt \nBeitrag:\nFreiwillige Spende \nInformation:\nElisabeth Obweger\, FNL Ortsleitung & FNL Kräuterexpertin\nTel. 0650 972 15 83 (WhatsApp) oder unter obweger.elisabeth@aon.at\nwww.heilkraftderalm.at \n  \nteilen teilen teilen teilen teilen E-Mail 
URL:https://fnl.at/veranstaltung/fnl-kraeutertreff-vortrag-die-spielregeln-der-gesundheit/
LOCATION:Kongresshaus Millstatt\, Marktplatz 14\, Millstatt\, Kärnten\, 9872\, Österreich
CATEGORIES:Kärnten
ATTACH;FMTTYPE=image/jpeg:https://fnl.at/wp-content/uploads/2019/03/Immunsystem-apple-3640591__340.jpg
ORGANIZER;CN="Elisabeth Obweger":MAILTO:obweger.elisabeth@aon.at
END:VEVENT
END:VCALENDAR