BEGIN:VCALENDAR
VERSION:2.0
PRODID:-//FNL - Freunde Naturgemäßer Lebensweise - ECPv6.15.20//NONSGML v1.0//EN
CALSCALE:GREGORIAN
METHOD:PUBLISH
X-ORIGINAL-URL:https://fnl.at
X-WR-CALDESC:Veranstaltungen für FNL - Freunde Naturgemäßer Lebensweise
REFRESH-INTERVAL;VALUE=DURATION:PT1H
X-Robots-Tag:noindex
X-PUBLISHED-TTL:PT1H
BEGIN:VTIMEZONE
TZID:Europe/Berlin
BEGIN:DAYLIGHT
TZOFFSETFROM:+0100
TZOFFSETTO:+0200
TZNAME:CEST
DTSTART:20240331T010000
END:DAYLIGHT
BEGIN:STANDARD
TZOFFSETFROM:+0200
TZOFFSETTO:+0100
TZNAME:CET
DTSTART:20241027T010000
END:STANDARD
BEGIN:DAYLIGHT
TZOFFSETFROM:+0100
TZOFFSETTO:+0200
TZNAME:CEST
DTSTART:20250330T010000
END:DAYLIGHT
BEGIN:STANDARD
TZOFFSETFROM:+0200
TZOFFSETTO:+0100
TZNAME:CET
DTSTART:20251026T010000
END:STANDARD
BEGIN:DAYLIGHT
TZOFFSETFROM:+0100
TZOFFSETTO:+0200
TZNAME:CEST
DTSTART:20260329T010000
END:DAYLIGHT
BEGIN:STANDARD
TZOFFSETFROM:+0200
TZOFFSETTO:+0100
TZNAME:CET
DTSTART:20261025T010000
END:STANDARD
END:VTIMEZONE
BEGIN:VEVENT
DTSTART;TZID=Europe/Berlin:20250319T190000
DTEND;TZID=Europe/Berlin:20250319T210000
DTSTAMP:20260421T211744
CREATED:20250110T215323Z
LAST-MODIFIED:20250122T075741Z
UID:19808-1742410800-1742418000@fnl.at
SUMMARY:FNL Kräutertreff Stubaital und Wipptal
DESCRIPTION:Kräuterstammtisch Stubaital und Wipptal\nDer Stammtisch soll ein regelmäßiges Treffen jeden 2. Monat für Leute sein\, die sich für Natur und Pflanzen der Umgebung interessieren. Gleichgesinnte können hier ihr Wissen weitergeben und Erfahrungen austauschen. \nTermine:\n19. März 2025 – Thumeserhof/Wipptal\n21. Mai 2025 – Mieders/Stubaital\n23. Juli 2025 – Thumeserhof/Wipptal\n24. Sept. 2025 – Mieders/Stubaital\n19. November 2025 – Thumeserhof/Wipptal \nUhrzeit:\n19 – 21 Uhr \nOrt\nSubaital: Margret Lener\, Obere Gasse 11 \, 6142 Mieders\nWipptal: Thumeserhof\, Wildlahner 18\, 6154 Schmirn \nAnmeldung und Infos:\nHany Plattner Dvorak\, FNL Kräuterexpertin & FNL Ortsleitung\nEmail:  kraeuterreich@wildlahner.at; Tel. 0680 326 36 60\nMargret Lener\, FNL Kräuterexpertin & FNL Ortsleitung\nTel. 06660 129 47 37\, Email: margret.lener@icloud.com \nteilen teilen teilen teilen teilen E-Mail 
URL:https://fnl.at/veranstaltung/kraeuterstammtisch-stubaital-und-wipptal-2/
LOCATION:Thumeserhof\, Schmirn\, Wildlahner 18\, Schmirn\, Tirol\, 6154\, Austria
CATEGORIES:Tirol
ATTACH;FMTTYPE=image/jpeg:https://fnl.at/wp-content/uploads/2019/03/crocus-4014253_1920.jpg
ORGANIZER;CN="Hany Plattner Dvorak":MAILTO:kraeuterreich@wildlahner.at
END:VEVENT
END:VCALENDAR