BEGIN:VCALENDAR
VERSION:2.0
PRODID:-//FNL - Freunde Naturgemäßer Lebensweise - ECPv6.15.20//NONSGML v1.0//EN
CALSCALE:GREGORIAN
METHOD:PUBLISH
X-WR-CALNAME:FNL - Freunde Naturgemäßer Lebensweise
X-ORIGINAL-URL:https://fnl.at
X-WR-CALDESC:Veranstaltungen für FNL - Freunde Naturgemäßer Lebensweise
REFRESH-INTERVAL;VALUE=DURATION:PT1H
X-Robots-Tag:noindex
X-PUBLISHED-TTL:PT1H
BEGIN:VTIMEZONE
TZID:Europe/Berlin
BEGIN:DAYLIGHT
TZOFFSETFROM:+0100
TZOFFSETTO:+0200
TZNAME:CEST
DTSTART:20240331T010000
END:DAYLIGHT
BEGIN:STANDARD
TZOFFSETFROM:+0200
TZOFFSETTO:+0100
TZNAME:CET
DTSTART:20241027T010000
END:STANDARD
BEGIN:DAYLIGHT
TZOFFSETFROM:+0100
TZOFFSETTO:+0200
TZNAME:CEST
DTSTART:20250330T010000
END:DAYLIGHT
BEGIN:STANDARD
TZOFFSETFROM:+0200
TZOFFSETTO:+0100
TZNAME:CET
DTSTART:20251026T010000
END:STANDARD
BEGIN:DAYLIGHT
TZOFFSETFROM:+0100
TZOFFSETTO:+0200
TZNAME:CEST
DTSTART:20260329T010000
END:DAYLIGHT
BEGIN:STANDARD
TZOFFSETFROM:+0200
TZOFFSETTO:+0100
TZNAME:CET
DTSTART:20261025T010000
END:STANDARD
END:VTIMEZONE
BEGIN:VEVENT
DTSTART;TZID=Europe/Berlin:20250306T190000
DTEND;TZID=Europe/Berlin:20250306T203000
DTSTAMP:20260421T211427
CREATED:20250226T092324Z
LAST-MODIFIED:20250226T092341Z
UID:20368-1741287600-1741293000@fnl.at
SUMMARY:FNL Kräutertreff "Zum Ursprung der Kräuter"
DESCRIPTION:FNL Kräutertreff „Zum Ursprung der Kräuter“\nDie Ortsgruppe Zum Ursprung der Kräuter trifft sich regelmäßig um Erfahrungen auszutauschen und Wissen zu erweitern. \nTermine:\nDO\, 06.03.25 Rinden – Medizin und Nahrung\nDO\, 03.04.25 Die Kräuter rund um mich\, Wanderung am Hiesberg (Beginn: 15:30 Uhr Matzleinsdorf beim Parkplatz bei der Fischzucht)\nDO\, 08.05.25 Artemisia im Garten\, dann muss die Krankheit warten\nDO\, 05.06.25 Streifzug durch Silvias Kräuterparadies (Treffpunkt: 3392 Mauer\, Süßgraben 9)\nDO\, 03.07.25 Pestos – Herstellung und Anwendung\nAugust – Sommerpause\, kein Stammtisch\nDO\, 04.09.25 Mit Oxymel durch das ganze Jahr\nDO\, 09.10.25 Wildpflanzen für Sirupe\nDO\, 06.11.25 Bitterpflanzen – warum sie so gesund sind\nDO\, 04.12.25 Weihnachtsfeier – Jahresrückblick \nOrt:\nGasthaus Haberl\, 3392 Ursprung 13\n(abweichender Ort und Zeit wird rechtzeitig bekannt gegeben) \nKosten:\n€ 8\,00 für FNL Mitglieder\n€ 10\,00 für alle anderen Interessierten \nInformationen:\nJenny\, Edith\, Sonja\, Veronika\, Anna und Silvia\nOrtsgruppe Zum Ursprung der Kräuter \nteilen teilen teilen teilen teilen E-Mail 
URL:https://fnl.at/veranstaltung/fnl-kraeutertreff-zum-ursprung-der-kraeuter/
LOCATION:Gasthaus Haberl\, Ursprung 13\, Dunkelsteinerwald\, Niederösterreich\, 3392\, Austria
CATEGORIES:Niederösterreich
END:VEVENT
END:VCALENDAR