BEGIN:VCALENDAR
VERSION:2.0
PRODID:-//FNL - Freunde Naturgemäßer Lebensweise - ECPv6.15.20//NONSGML v1.0//EN
CALSCALE:GREGORIAN
METHOD:PUBLISH
X-ORIGINAL-URL:https://fnl.at
X-WR-CALDESC:Veranstaltungen für FNL - Freunde Naturgemäßer Lebensweise
REFRESH-INTERVAL;VALUE=DURATION:PT1H
X-Robots-Tag:noindex
X-PUBLISHED-TTL:PT1H
BEGIN:VTIMEZONE
TZID:Europe/Berlin
BEGIN:DAYLIGHT
TZOFFSETFROM:+0100
TZOFFSETTO:+0200
TZNAME:CEST
DTSTART:20240331T010000
END:DAYLIGHT
BEGIN:STANDARD
TZOFFSETFROM:+0200
TZOFFSETTO:+0100
TZNAME:CET
DTSTART:20241027T010000
END:STANDARD
BEGIN:DAYLIGHT
TZOFFSETFROM:+0100
TZOFFSETTO:+0200
TZNAME:CEST
DTSTART:20250330T010000
END:DAYLIGHT
BEGIN:STANDARD
TZOFFSETFROM:+0200
TZOFFSETTO:+0100
TZNAME:CET
DTSTART:20251026T010000
END:STANDARD
BEGIN:DAYLIGHT
TZOFFSETFROM:+0100
TZOFFSETTO:+0200
TZNAME:CEST
DTSTART:20260329T010000
END:DAYLIGHT
BEGIN:STANDARD
TZOFFSETFROM:+0200
TZOFFSETTO:+0100
TZNAME:CET
DTSTART:20261025T010000
END:STANDARD
END:VTIMEZONE
BEGIN:VEVENT
DTSTART;TZID=Europe/Berlin:20250301T140000
DTEND;TZID=Europe/Berlin:20250301T160000
DTSTAMP:20260421T211754
CREATED:20241209T114654Z
LAST-MODIFIED:20250115T090153Z
UID:19681-1740837600-1740844800@fnl.at
SUMMARY:FNL Kräutertreff - Knospenwanderung
DESCRIPTION:Knospenwanderung mit Olga Lebenbauer\nTermin:\nSamstag\, 01.03.2025 \nBeginn:\n14 Uhr \nTreffpunkt:\nGäste- und Jungendhaus\, 8225 Pöllau \nKosten:\nFNL Mitglieder € 10\,-\nalle anderen Interessierten € 15\,- \nInfo & Anmeldung:\nVerena Wiesner\, FNL Ortsleitung & FNL Kräuterexpertin\nTel. 0664/222 34 74 \nteilen teilen teilen teilen teilen E-Mail 
URL:https://fnl.at/veranstaltung/19681/
LOCATION:Pöllau / Stmk.\, Pöllau\, Steiermark\, 8225\, Österreich
CATEGORIES:Steiermark
ATTACH;FMTTYPE=image/jpeg:https://fnl.at/wp-content/uploads/2019/03/knospe-sperling-4023952_960_720.jpg
ORGANIZER;CN="Verena Wiesner":MAILTO:verena.u.wiesner@a1.net
END:VEVENT
END:VCALENDAR