BEGIN:VCALENDAR
VERSION:2.0
PRODID:-//FNL - Freunde Naturgemäßer Lebensweise - ECPv6.15.20//NONSGML v1.0//EN
CALSCALE:GREGORIAN
METHOD:PUBLISH
X-ORIGINAL-URL:https://fnl.at
X-WR-CALDESC:Veranstaltungen für FNL - Freunde Naturgemäßer Lebensweise
REFRESH-INTERVAL;VALUE=DURATION:PT1H
X-Robots-Tag:noindex
X-PUBLISHED-TTL:PT1H
BEGIN:VTIMEZONE
TZID:Europe/Berlin
BEGIN:DAYLIGHT
TZOFFSETFROM:+0100
TZOFFSETTO:+0200
TZNAME:CEST
DTSTART:20240331T010000
END:DAYLIGHT
BEGIN:STANDARD
TZOFFSETFROM:+0200
TZOFFSETTO:+0100
TZNAME:CET
DTSTART:20241027T010000
END:STANDARD
BEGIN:DAYLIGHT
TZOFFSETFROM:+0100
TZOFFSETTO:+0200
TZNAME:CEST
DTSTART:20250330T010000
END:DAYLIGHT
BEGIN:STANDARD
TZOFFSETFROM:+0200
TZOFFSETTO:+0100
TZNAME:CET
DTSTART:20251026T010000
END:STANDARD
BEGIN:DAYLIGHT
TZOFFSETFROM:+0100
TZOFFSETTO:+0200
TZNAME:CEST
DTSTART:20260329T010000
END:DAYLIGHT
BEGIN:STANDARD
TZOFFSETFROM:+0200
TZOFFSETTO:+0100
TZNAME:CET
DTSTART:20261025T010000
END:STANDARD
END:VTIMEZONE
BEGIN:VEVENT
DTSTART;TZID=Europe/Berlin:20250228T160000
DTEND;TZID=Europe/Berlin:20250228T180000
DTSTAMP:20260421T211609
CREATED:20241217T111233Z
LAST-MODIFIED:20241217T111233Z
UID:19762-1740758400-1740765600@fnl.at
SUMMARY:FNL Kräutertreff Hallein
DESCRIPTION:Informationstreff zum Erfahrungsaustausch rund um Gesundheit\, Wohlbefinden & Volksheilkunde!\n„Der Kraft der Natur auf der Spur“\nTermin:\nFreitag\, 28.02.2025\nFreitag\, 28.03.2025 \nDauer:\njeweils 16-18 Uhr \nOrt:\nKaffee Eckzimmer\, Winklerstr. 18\, 5400 Hallein \nInformationen:\nElfriede Zambelli\, Tel. 0664/34 18 166\, Email: elfi.zambelli@gmail.com \nteilen teilen teilen teilen teilen E-Mail 
URL:https://fnl.at/veranstaltung/fnl-kraeutertreff-hallein-2/
LOCATION:Kaffee Eckzimmer\, Winklerstr. 18\, Hallein\, Salzburg\, 5400\, Austria
CATEGORIES:Salzburg
ATTACH;FMTTYPE=image/jpeg:https://fnl.at/wp-content/uploads/2019/03/Immunsystem-apple-3640591__340.jpg
ORGANIZER;CN="Elfriede Zambelli":MAILTO:elfi.zambelli@gmail.com
END:VEVENT
BEGIN:VEVENT
DTSTART;TZID=Europe/Berlin:20250228T190000
DTEND;TZID=Europe/Berlin:20250228T203000
DTSTAMP:20260421T211609
CREATED:20241210T084117Z
LAST-MODIFIED:20250213T211404Z
UID:19685-1740769200-1740774600@fnl.at
SUMMARY:FNL Kräutertreff "Workshop - Hautpflege mit Kaffee"
DESCRIPTION:FNL Kräutertreff „Workshop – Hautpflege mit Kaffee“\nDer Kräutertreff findet in Kooperation mit der gesunden Gemeinde jeden letzten Freitag im Monat von Feber bis Juni und von September bis November statt. Änderungen vorbehalten! \nIch bin schon gespannt auf unsere Treffen. Gemeinsam mit euch möchte ich Erfahrungen austauschen und unser Wissen erweitern. \nTermin:\nFreitag\, 28. Februar 2025 \nBeginn:\n19 Uhr \nOrt:\nStöttinger-Hof\nStatzinger Straße 9\, 4225 Luftenberg \nKosten:\n€ 9\,- Pro Person (zuzüglich Materialkosten bei Workshops) \nInformationen & Anmeldung:\nRegina Hanl\, FNL Kräuterexpertin & FNL Ortsleitung\nTel.: 0680/217 55 04 Email: franzhanl@gmx.at \nteilen teilen teilen teilen teilen E-Mail 
URL:https://fnl.at/veranstaltung/kraeutertreff-workshop-hautpflege-mit-kaffee/
LOCATION:Stöttinger Hof\, Luftenberg\, Statzinger Straße 9\, Luftenberg\, Oberösterreich\, 4225
CATEGORIES:Oberösterreich
ORGANIZER;CN="Regina Hanl":MAILTO:franzhanl@gmx.at
END:VEVENT
BEGIN:VEVENT
DTSTART;TZID=Europe/Berlin:20250228T190000
DTEND;TZID=Europe/Berlin:20250228T203000
DTSTAMP:20260421T211609
CREATED:20250127T220823Z
LAST-MODIFIED:20250127T220837Z
UID:20022-1740769200-1740774600@fnl.at
SUMMARY:FNL Kräutertreff VORTRAG "Die natürliche Hausapotheke"
DESCRIPTION:FNL Kräutertreff VORTRAG „Die natürliche Hausapotheke“\nmit Birgit Schwaiger\, FNL Kräuterexpertin \nWildkräuter in deren praktischen Anwendung für die ganze Familie.\nAllergie\, Entzündung\, Cortison und Hormonsystem \nTermine:\nFreitag\, 28. Feber 2025 \nBeginn:\n19 Uhr \nOrt:\nCafe Grias di – Haus Bergland\nSpielbergstrasse 13\, 6391 Fieberbrunn \nKosten:\n€ 10\,- pro Person \nINFORMATIONEN & ANMELDUNG\nBirgit Schwaiger\, FNL Ortsleitung & FNL Kräuterexpertin\nTel. 0664 / 73 44 9502 oder Email: natur1pur@gmail.com \nteilen teilen teilen teilen teilen E-Mail 
URL:https://fnl.at/veranstaltung/fnl-kraeutertreff-vortrag-die-natuerliche-hausapotheke/
LOCATION:Café Griaß di – Haus Bergland\, Spielbergstr. 13\, Fieberbrunn\, Tirol\, 6391\, Austria
CATEGORIES:Tirol
ATTACH;FMTTYPE=image/jpeg:https://fnl.at/wp-content/uploads/2019/02/hausmittel-herbs-923496__340.jpg
ORGANIZER;CN="Birgit Schwaiger":MAILTO:natur1pur@gmail.com
END:VEVENT
END:VCALENDAR