BEGIN:VCALENDAR
VERSION:2.0
PRODID:-//FNL - Freunde Naturgemäßer Lebensweise - ECPv6.15.20//NONSGML v1.0//EN
CALSCALE:GREGORIAN
METHOD:PUBLISH
X-WR-CALNAME:FNL - Freunde Naturgemäßer Lebensweise
X-ORIGINAL-URL:https://fnl.at
X-WR-CALDESC:Veranstaltungen für FNL - Freunde Naturgemäßer Lebensweise
REFRESH-INTERVAL;VALUE=DURATION:PT1H
X-Robots-Tag:noindex
X-PUBLISHED-TTL:PT1H
BEGIN:VTIMEZONE
TZID:Europe/Berlin
BEGIN:DAYLIGHT
TZOFFSETFROM:+0100
TZOFFSETTO:+0200
TZNAME:CEST
DTSTART:20240331T010000
END:DAYLIGHT
BEGIN:STANDARD
TZOFFSETFROM:+0200
TZOFFSETTO:+0100
TZNAME:CET
DTSTART:20241027T010000
END:STANDARD
BEGIN:DAYLIGHT
TZOFFSETFROM:+0100
TZOFFSETTO:+0200
TZNAME:CEST
DTSTART:20250330T010000
END:DAYLIGHT
BEGIN:STANDARD
TZOFFSETFROM:+0200
TZOFFSETTO:+0100
TZNAME:CET
DTSTART:20251026T010000
END:STANDARD
BEGIN:DAYLIGHT
TZOFFSETFROM:+0100
TZOFFSETTO:+0200
TZNAME:CEST
DTSTART:20260329T010000
END:DAYLIGHT
BEGIN:STANDARD
TZOFFSETFROM:+0200
TZOFFSETTO:+0100
TZNAME:CET
DTSTART:20261025T010000
END:STANDARD
END:VTIMEZONE
BEGIN:VEVENT
DTSTART;TZID=Europe/Berlin:20250222T140000
DTEND;TZID=Europe/Berlin:20250222T160000
DTSTAMP:20260421T224207
CREATED:20250127T221449Z
LAST-MODIFIED:20250127T222457Z
UID:20031-1740232800-1740240000@fnl.at
SUMMARY:FNL Kräutertreff "Knospen erkennen und verwenden"
DESCRIPTION:FNL Kräutertreff „Knospen erkennen und verwenden“\nmit Bernadette Schützenhofer \nTermin:\nSamstag\, 22. Februar 2025 \nBeginn:\n14 Uhr \nOrt:\nGärtnerei Schützenhofer\, Linzerstr. 32\, 4532 Rohr \nKosten: \nfreiwilliger Energieausgleich \nInformationen:\nBernadette Schützenhofer\, FNL Stützpunktleitung & Kräutergarten\nTel. +43 (0) 7258 2124; E-Mail: schuetzi.garten@aon.at \nteilen teilen teilen teilen teilen E-Mail 
URL:https://fnl.at/veranstaltung/fnl-kraeutertreff-workshop-knospen-erkennen-und-verwenden/
LOCATION:Kräutergarten Schützenhofer\, Linzerstraße 32\, Rohr im Kremstal\, Oberösterreich\, 4532\, Österreich
CATEGORIES:Oberösterreich
ORGANIZER;CN="Bernadette Sch%C3%BCtzenhofer":MAILTO:schuetzi.garten@aon.at
END:VEVENT
END:VCALENDAR