BEGIN:VCALENDAR
VERSION:2.0
PRODID:-//FNL - Freunde Naturgemäßer Lebensweise - ECPv6.15.20//NONSGML v1.0//EN
CALSCALE:GREGORIAN
METHOD:PUBLISH
X-WR-CALNAME:FNL - Freunde Naturgemäßer Lebensweise
X-ORIGINAL-URL:https://fnl.at
X-WR-CALDESC:Veranstaltungen für FNL - Freunde Naturgemäßer Lebensweise
REFRESH-INTERVAL;VALUE=DURATION:PT1H
X-Robots-Tag:noindex
X-PUBLISHED-TTL:PT1H
BEGIN:VTIMEZONE
TZID:Europe/Berlin
BEGIN:DAYLIGHT
TZOFFSETFROM:+0100
TZOFFSETTO:+0200
TZNAME:CEST
DTSTART:20240331T010000
END:DAYLIGHT
BEGIN:STANDARD
TZOFFSETFROM:+0200
TZOFFSETTO:+0100
TZNAME:CET
DTSTART:20241027T010000
END:STANDARD
BEGIN:DAYLIGHT
TZOFFSETFROM:+0100
TZOFFSETTO:+0200
TZNAME:CEST
DTSTART:20250330T010000
END:DAYLIGHT
BEGIN:STANDARD
TZOFFSETFROM:+0200
TZOFFSETTO:+0100
TZNAME:CET
DTSTART:20251026T010000
END:STANDARD
BEGIN:DAYLIGHT
TZOFFSETFROM:+0100
TZOFFSETTO:+0200
TZNAME:CEST
DTSTART:20260329T010000
END:DAYLIGHT
BEGIN:STANDARD
TZOFFSETFROM:+0200
TZOFFSETTO:+0100
TZNAME:CET
DTSTART:20261025T010000
END:STANDARD
END:VTIMEZONE
BEGIN:VEVENT
DTSTART;TZID=Europe/Berlin:20250220T190000
DTEND;TZID=Europe/Berlin:20250220T210000
DTSTAMP:20260421T224039
CREATED:20240306T110759Z
LAST-MODIFIED:20250123T090756Z
UID:17928-1740078000-1740085200@fnl.at
SUMMARY:FNL Kräutertreff "Die Hagebutte der HECKENROSE"
DESCRIPTION:FNL Kräutertreff „Die Hagebutte der HECKENROSE“\nReferentin: Anneliese Leiter\, FNL Kräuterexperte \nDie Heckenrose mit den HAGEBUTTEN ist eine alte Wild-und Heilpflanze!\n* Wir lernen die vielseitigen Vorzüge der HAGEBUTTE kennen -von immunstärkend bis narbenpflegend!\n* Wir rühren eine HAGEBUTTEN-Lotion nach der Methode der Grünen Kosmetik von Gabriela Nedoma! \nTermin:\nDonnerstag\, 20. Februar 2025 \nDauer:\n19-21 Uhr \nOrt:\nGemeindeamt Karres 6462 Karres \nKosten:\nFNL Mitglieder € 8\,- / andere Interessierte € 10\,- zuzüglich Materialkosten € 8\,- Hagebuttenlotion \nBitte unbedingt anmelden! \nAnmeldung und Infos:\nWolfgang Neururer\, Tel. 0699 10705626\, E-Mail maria_neururer@web.de \nteilen teilen teilen teilen teilen E-Mail 
URL:https://fnl.at/veranstaltung/kraeuterrunde-imst-zum-thema-kraftquellen-des-fruehling/
LOCATION:Gemeindeamt Karres\, Karres 91\, Karres\, Tirol\, 6462\, Austria
CATEGORIES:Tirol
ATTACH;FMTTYPE=image/jpeg:https://fnl.at/wp-content/uploads/2024/10/Newsletter-November-Hagebutte.jpg
ORGANIZER;CN="Maria Neururer":MAILTO:maria_neururer@web.de
END:VEVENT
END:VCALENDAR