BEGIN:VCALENDAR
VERSION:2.0
PRODID:-//FNL - Freunde Naturgemäßer Lebensweise - ECPv6.15.20//NONSGML v1.0//EN
CALSCALE:GREGORIAN
METHOD:PUBLISH
X-WR-CALNAME:FNL - Freunde Naturgemäßer Lebensweise
X-ORIGINAL-URL:https://fnl.at
X-WR-CALDESC:Veranstaltungen für FNL - Freunde Naturgemäßer Lebensweise
REFRESH-INTERVAL;VALUE=DURATION:PT1H
X-Robots-Tag:noindex
X-PUBLISHED-TTL:PT1H
BEGIN:VTIMEZONE
TZID:Europe/Berlin
BEGIN:DAYLIGHT
TZOFFSETFROM:+0100
TZOFFSETTO:+0200
TZNAME:CEST
DTSTART:20240331T010000
END:DAYLIGHT
BEGIN:STANDARD
TZOFFSETFROM:+0200
TZOFFSETTO:+0100
TZNAME:CET
DTSTART:20241027T010000
END:STANDARD
BEGIN:DAYLIGHT
TZOFFSETFROM:+0100
TZOFFSETTO:+0200
TZNAME:CEST
DTSTART:20250330T010000
END:DAYLIGHT
BEGIN:STANDARD
TZOFFSETFROM:+0200
TZOFFSETTO:+0100
TZNAME:CET
DTSTART:20251026T010000
END:STANDARD
BEGIN:DAYLIGHT
TZOFFSETFROM:+0100
TZOFFSETTO:+0200
TZNAME:CEST
DTSTART:20260329T010000
END:DAYLIGHT
BEGIN:STANDARD
TZOFFSETFROM:+0200
TZOFFSETTO:+0100
TZNAME:CET
DTSTART:20261025T010000
END:STANDARD
END:VTIMEZONE
BEGIN:VEVENT
DTSTART;TZID=Europe/Berlin:20250211T180000
DTEND;TZID=Europe/Berlin:20250211T190000
DTSTAMP:20260421T224207
CREATED:20250122T104129Z
LAST-MODIFIED:20250122T104441Z
UID:19953-1739296800-1739300400@fnl.at
SUMMARY:FNL Kräutertreff  VORTRAG „Zeitqualität - Gedanken und Anregungen“
DESCRIPTION:Kräutertreff  VORTRAG „Zeitqualität – Gedanken und Anregungen“\nmit Franz Steiner \nDie Qualität unserer Zeit\, also die Weise\, wie wir sie nutzen\, kann Entwicklungen fördern oder sie behindern. Eines ist gewiss\, in die Zukunft geht es nur gemeinsam. Jede Einzelne\, Jeder Einzelne von uns ist Mitgestalter*in in diesem Prozess\, ob bewusst als Schöpfer*in oder unbewusst im Dienste der Anderen. \nTermin:\nDienstag\, 11.2.2025 \nBeginn:\n18 Uhr \nOrt:\nGasthaus Seitner\, Villacher Str. 11\, 9560 Feldkirchen \nKosten:\nFreiwillige Spende \nInformationen & Anmeldung:\nChrista Regenfelder\, FNL Ortsleitung\, Tel. 0676/531 81 13 \nteilen teilen teilen teilen teilen E-Mail 
URL:https://fnl.at/veranstaltung/19953/
LOCATION:Gasthaus Seitner\, Villacher Str. 11\, Feldkirchen\, Kärnten\, 9560\, Austria
CATEGORIES:Kärnten
ATTACH;FMTTYPE=image/jpeg:https://fnl.at/wp-content/uploads/2022/02/clock-ge4d1383fc_1920-1.jpg
END:VEVENT
END:VCALENDAR