BEGIN:VCALENDAR
VERSION:2.0
PRODID:-//FNL - Freunde Naturgemäßer Lebensweise - ECPv6.15.20//NONSGML v1.0//EN
CALSCALE:GREGORIAN
METHOD:PUBLISH
X-ORIGINAL-URL:https://fnl.at
X-WR-CALDESC:Veranstaltungen für FNL - Freunde Naturgemäßer Lebensweise
REFRESH-INTERVAL;VALUE=DURATION:PT1H
X-Robots-Tag:noindex
X-PUBLISHED-TTL:PT1H
BEGIN:VTIMEZONE
TZID:Europe/Berlin
BEGIN:DAYLIGHT
TZOFFSETFROM:+0100
TZOFFSETTO:+0200
TZNAME:CEST
DTSTART:20240331T010000
END:DAYLIGHT
BEGIN:STANDARD
TZOFFSETFROM:+0200
TZOFFSETTO:+0100
TZNAME:CET
DTSTART:20241027T010000
END:STANDARD
BEGIN:DAYLIGHT
TZOFFSETFROM:+0100
TZOFFSETTO:+0200
TZNAME:CEST
DTSTART:20250330T010000
END:DAYLIGHT
BEGIN:STANDARD
TZOFFSETFROM:+0200
TZOFFSETTO:+0100
TZNAME:CET
DTSTART:20251026T010000
END:STANDARD
BEGIN:DAYLIGHT
TZOFFSETFROM:+0100
TZOFFSETTO:+0200
TZNAME:CEST
DTSTART:20260329T010000
END:DAYLIGHT
BEGIN:STANDARD
TZOFFSETFROM:+0200
TZOFFSETTO:+0100
TZNAME:CET
DTSTART:20261025T010000
END:STANDARD
END:VTIMEZONE
BEGIN:VEVENT
DTSTART;TZID=Europe/Berlin:20250130T140000
DTEND;TZID=Europe/Berlin:20250130T170000
DTSTAMP:20260421T224345
CREATED:20250110T230854Z
LAST-MODIFIED:20250123T093403Z
UID:19823-1738245600-1738256400@fnl.at
SUMMARY:FNL Kräutertreff Truden "Gemeinsam durchs Jahresrad"
DESCRIPTION:FNL Kräutertreff Truden „Gemeinsam durchs Jahresrad“\nGemeinsam gehen wir durch dieses Kräuterjahr\, lernen Pflanzen im Frühling\, Sommer\, Herbst und Winter kennen und erfahren allerhand zu deren Verwendung. Wir lernen verschiedene Bräuche im  und zum Jahreskreislauf kennen und bereiten zusammen viele verschiedene Kräutergutelen zu. Begrenzte Teilnehmerzahl mind. 5 – max. 8 \nTermine:\nDonnerstag\, 30. Jänner 2025 – es wird spürbar heller – Lichtmeß\nDonnerstag\, 13. März 2025 – das erste Grün – Frühlings-Tag und Nachtgleiche – Ostern\nDonnerstag\, 24. April 2025 – es keimt und sprießt – Frühling – Walpurgis – Maienzeit\nDonnerstag\, 19. Juni 2025 – es grünt und blüht – Johanni – Sommersonnwend\nDonnerstag\, 31. Juli 2025 – das Korn ist reif – Schnitterinnenfest – Kräuterbuschenzeit\nDonnerstag\, 04. Sept.2025 – Früchte und Samen reifen – Herbst-Tag und Nachtgleiche\nDonnerstag\, 16. Okt. 2025 – Blätter färben sich\, fliegen im Wind – Erntedank Allerseelen\nDonnerstag\, 27. Nov. 2025 – Pflanzen legen sich zur Ruhe – Advent – Wintersonnwend – Raunächte \nDauer:\njeweils 14 bis 17 Uhr \nTreffpunkt:\nHexenhaus – Hauptstraße 38/1 in Truden im Naturpark \nKosten: € 40\,- pro Person \nBitte um Anmeldung bis 2 Tage vor dem jeweiligen Termin – Begrenzte Teilnehmerzahl\, Teilnahme auch an einzelnen Tagen möglich \nInformationen & Anmeldung:\nGeli Gschnell\, FNL Kräuterexpertin\, Tel. 349 2389577 \nteilen teilen teilen teilen teilen E-Mail 
URL:https://fnl.at/veranstaltung/kraeutertreff-truden-gemeinsam-durchs-jahresrad/
LOCATION:Hexenhaus\, Geli Gschnell\, Truden\, Hauptstraße 38/1\, Truden im Naturpark\, Südtirol\, 39040\, Italy
CATEGORIES:Italien
ATTACH;FMTTYPE=image/jpeg:https://fnl.at/wp-content/uploads/2020/02/Frühlingsknotenblume.jpg
END:VEVENT
END:VCALENDAR